BEGIN:VCALENDAR
VERSION:2.0
PRODID:-//AFLabs urnik izvoz - fmf//aflabs.si//SI
DTSTAMP:20260424T081931Z
NAME:UL FMF urnik
REFRESH-INTERVAL:PT1H
SOURCE:https://urnik.fmf.uni-lj.si/classroom/258/?export=1
URL:https://urnik.fmf.uni-lj.si/classroom/258/?export=1
X-PUBLISHED-TTL:PT1H
X-WR-CALNAME:UL FMF urnik
X-WR-TIMEZONE:Europe/Ljubljana
BEGIN:VTIMEZONE
TZID:Europe/Ljubljana
BEGIN:DAYLIGHT
DTSTART:20260329T020000
RDATE:20260329T020000
RDATE:20270328T020000
TZNAME:CEST
TZOFFSETFROM:+0100
TZOFFSETTO:+0200
END:DAYLIGHT
BEGIN:STANDARD
DTSTART:20261025T030000
RDATE:20261025T030000
RDATE:20271031T030000
TZNAME:CET
TZOFFSETFROM:+0200
TZOFFSETTO:+0100
END:STANDARD
END:VTIMEZONE
BEGIN:VEVENT
SUMMARY:Kolegij dekana ()\, Ostalo (O)
DTSTART;TZID=Europe/Ljubljana:20260216T090000
DTEND;TZID=Europe/Ljubljana:20260216T120000
DTSTAMP:20260424T081931Z
UID:fmf-AFLABS-URNIK:premaknjeno-srecanje:252381
CATEGORIES:Entry,Standard
COLOR:darkgreen
DESCRIPTION:Predmet: Kolegij dekana ()\, Ostalo (O)\nLetniki: \nIzvajalci:
  Ganna Kudryavtseva\, Primož Potočnik\, Matija Pretnar\, Emil Žagar\nPr
 ostor: Sejna soba J21
LOCATION:Sejna soba J21
ORGANIZER:Ganna Kudryavtseva, Primož Potočnik, Matija Pretnar, Emil Žag
 ar
RELATED-TO:fmf-AFLABS-URNIK:srecanje:17247
X-WR-TIMEZONE:Europe/Ljubljana
END:VEVENT
BEGIN:VEVENT
SUMMARY:Kolegij dekana ()\, Ostalo (O)
DTSTART;TZID=Europe/Ljubljana:20260223T090000
DTEND;TZID=Europe/Ljubljana:20260223T120000
DTSTAMP:20260424T081931Z
UID:fmf-AFLABS-URNIK:premaknjeno-srecanje:252382
CATEGORIES:Entry,Standard
COLOR:darkgreen
DESCRIPTION:Predmet: Kolegij dekana ()\, Ostalo (O)\nLetniki: \nIzvajalci:
  Ganna Kudryavtseva\, Primož Potočnik\, Matija Pretnar\, Emil Žagar\nPr
 ostor: Sejna soba J21
LOCATION:Sejna soba J21
ORGANIZER:Ganna Kudryavtseva, Primož Potočnik, Matija Pretnar, Emil Žag
 ar
RELATED-TO:fmf-AFLABS-URNIK:srecanje:17247
X-WR-TIMEZONE:Europe/Ljubljana
END:VEVENT
BEGIN:VEVENT
SUMMARY:Kolegij dekana ()\, Ostalo (O)
DTSTART;TZID=Europe/Ljubljana:20260302T090000
DTEND;TZID=Europe/Ljubljana:20260302T120000
DTSTAMP:20260424T081931Z
UID:fmf-AFLABS-URNIK:premaknjeno-srecanje:252383
CATEGORIES:Entry,Standard
COLOR:darkgreen
DESCRIPTION:Predmet: Kolegij dekana ()\, Ostalo (O)\nLetniki: \nIzvajalci:
  Ganna Kudryavtseva\, Primož Potočnik\, Matija Pretnar\, Emil Žagar\nPr
 ostor: Sejna soba J21
LOCATION:Sejna soba J21
ORGANIZER:Ganna Kudryavtseva, Primož Potočnik, Matija Pretnar, Emil Žag
 ar
RELATED-TO:fmf-AFLABS-URNIK:srecanje:17247
X-WR-TIMEZONE:Europe/Ljubljana
END:VEVENT
BEGIN:VEVENT
SUMMARY:Kolegij dekana ()\, Ostalo (O)
DTSTART;TZID=Europe/Ljubljana:20260309T090000
DTEND;TZID=Europe/Ljubljana:20260309T120000
DTSTAMP:20260424T081931Z
UID:fmf-AFLABS-URNIK:premaknjeno-srecanje:252384
CATEGORIES:Entry,Standard
COLOR:darkgreen
DESCRIPTION:Predmet: Kolegij dekana ()\, Ostalo (O)\nLetniki: \nIzvajalci:
  Ganna Kudryavtseva\, Primož Potočnik\, Matija Pretnar\, Emil Žagar\nPr
 ostor: Sejna soba J21
LOCATION:Sejna soba J21
ORGANIZER:Ganna Kudryavtseva, Primož Potočnik, Matija Pretnar, Emil Žag
 ar
RELATED-TO:fmf-AFLABS-URNIK:srecanje:17247
X-WR-TIMEZONE:Europe/Ljubljana
END:VEVENT
BEGIN:VEVENT
SUMMARY:Kolegij dekana ()\, Ostalo (O)
DTSTART;TZID=Europe/Ljubljana:20260316T090000
DTEND;TZID=Europe/Ljubljana:20260316T120000
DTSTAMP:20260424T081931Z
UID:fmf-AFLABS-URNIK:premaknjeno-srecanje:252385
CATEGORIES:Entry,Standard
COLOR:darkgreen
DESCRIPTION:Predmet: Kolegij dekana ()\, Ostalo (O)\nLetniki: \nIzvajalci:
  Ganna Kudryavtseva\, Primož Potočnik\, Matija Pretnar\, Emil Žagar\nPr
 ostor: Sejna soba J21
LOCATION:Sejna soba J21
ORGANIZER:Ganna Kudryavtseva, Primož Potočnik, Matija Pretnar, Emil Žag
 ar
RELATED-TO:fmf-AFLABS-URNIK:srecanje:17247
X-WR-TIMEZONE:Europe/Ljubljana
END:VEVENT
BEGIN:VEVENT
SUMMARY:Kolegij dekana ()\, Ostalo (O)
DTSTART;TZID=Europe/Ljubljana:20260323T090000
DTEND;TZID=Europe/Ljubljana:20260323T120000
DTSTAMP:20260424T081931Z
UID:fmf-AFLABS-URNIK:premaknjeno-srecanje:252386
CATEGORIES:Entry,Standard
COLOR:darkgreen
DESCRIPTION:Predmet: Kolegij dekana ()\, Ostalo (O)\nLetniki: \nIzvajalci:
  Ganna Kudryavtseva\, Primož Potočnik\, Matija Pretnar\, Emil Žagar\nPr
 ostor: Sejna soba J21
LOCATION:Sejna soba J21
ORGANIZER:Ganna Kudryavtseva, Primož Potočnik, Matija Pretnar, Emil Žag
 ar
RELATED-TO:fmf-AFLABS-URNIK:srecanje:17247
X-WR-TIMEZONE:Europe/Ljubljana
END:VEVENT
BEGIN:VEVENT
SUMMARY:Kolegij dekana ()\, Ostalo (O)
DTSTART;TZID=Europe/Ljubljana:20260330T090000
DTEND;TZID=Europe/Ljubljana:20260330T120000
DTSTAMP:20260424T081931Z
UID:fmf-AFLABS-URNIK:premaknjeno-srecanje:252387
CATEGORIES:Entry,Standard
COLOR:darkgreen
DESCRIPTION:Predmet: Kolegij dekana ()\, Ostalo (O)\nLetniki: \nIzvajalci:
  Ganna Kudryavtseva\, Primož Potočnik\, Matija Pretnar\, Emil Žagar\nPr
 ostor: Sejna soba J21
LOCATION:Sejna soba J21
ORGANIZER:Ganna Kudryavtseva, Primož Potočnik, Matija Pretnar, Emil Žag
 ar
RELATED-TO:fmf-AFLABS-URNIK:srecanje:17247
X-WR-TIMEZONE:Europe/Ljubljana
END:VEVENT
BEGIN:VEVENT
SUMMARY:Kolegij dekana ()\, Ostalo (O)
DTSTART;TZID=Europe/Ljubljana:20260413T090000
DTEND;TZID=Europe/Ljubljana:20260413T120000
DTSTAMP:20260424T081931Z
UID:fmf-AFLABS-URNIK:premaknjeno-srecanje:252388
CATEGORIES:Entry,Standard
COLOR:darkgreen
DESCRIPTION:Predmet: Kolegij dekana ()\, Ostalo (O)\nLetniki: \nIzvajalci:
  Ganna Kudryavtseva\, Primož Potočnik\, Matija Pretnar\, Emil Žagar\nPr
 ostor: Sejna soba J21
LOCATION:Sejna soba J21
ORGANIZER:Ganna Kudryavtseva, Primož Potočnik, Matija Pretnar, Emil Žag
 ar
RELATED-TO:fmf-AFLABS-URNIK:srecanje:17247
X-WR-TIMEZONE:Europe/Ljubljana
END:VEVENT
BEGIN:VEVENT
SUMMARY:Kolegij dekana ()\, Ostalo (O)
DTSTART;TZID=Europe/Ljubljana:20260420T090000
DTEND;TZID=Europe/Ljubljana:20260420T120000
DTSTAMP:20260424T081931Z
UID:fmf-AFLABS-URNIK:premaknjeno-srecanje:252389
CATEGORIES:Entry,Standard
COLOR:darkgreen
DESCRIPTION:Predmet: Kolegij dekana ()\, Ostalo (O)\nLetniki: \nIzvajalci:
  Ganna Kudryavtseva\, Primož Potočnik\, Matija Pretnar\, Emil Žagar\nPr
 ostor: Sejna soba J21
LOCATION:Sejna soba J21
ORGANIZER:Ganna Kudryavtseva, Primož Potočnik, Matija Pretnar, Emil Žag
 ar
RELATED-TO:fmf-AFLABS-URNIK:srecanje:17247
X-WR-TIMEZONE:Europe/Ljubljana
END:VEVENT
BEGIN:VEVENT
SUMMARY:Kolegij dekana ()\, Ostalo (O)
DTSTART;TZID=Europe/Ljubljana:20260504T090000
DTEND;TZID=Europe/Ljubljana:20260504T120000
DTSTAMP:20260424T081931Z
UID:fmf-AFLABS-URNIK:premaknjeno-srecanje:252390
CATEGORIES:Entry,Standard
COLOR:darkgreen
DESCRIPTION:Predmet: Kolegij dekana ()\, Ostalo (O)\nLetniki: \nIzvajalci:
  Ganna Kudryavtseva\, Primož Potočnik\, Matija Pretnar\, Emil Žagar\nPr
 ostor: Sejna soba J21
LOCATION:Sejna soba J21
ORGANIZER:Ganna Kudryavtseva, Primož Potočnik, Matija Pretnar, Emil Žag
 ar
RELATED-TO:fmf-AFLABS-URNIK:srecanje:17247
X-WR-TIMEZONE:Europe/Ljubljana
END:VEVENT
BEGIN:VEVENT
SUMMARY:Kolegij dekana ()\, Ostalo (O)
DTSTART;TZID=Europe/Ljubljana:20260511T090000
DTEND;TZID=Europe/Ljubljana:20260511T120000
DTSTAMP:20260424T081931Z
UID:fmf-AFLABS-URNIK:premaknjeno-srecanje:252391
CATEGORIES:Entry,Standard
COLOR:darkgreen
DESCRIPTION:Predmet: Kolegij dekana ()\, Ostalo (O)\nLetniki: \nIzvajalci:
  Ganna Kudryavtseva\, Primož Potočnik\, Matija Pretnar\, Emil Žagar\nPr
 ostor: Sejna soba J21
LOCATION:Sejna soba J21
ORGANIZER:Ganna Kudryavtseva, Primož Potočnik, Matija Pretnar, Emil Žag
 ar
RELATED-TO:fmf-AFLABS-URNIK:srecanje:17247
X-WR-TIMEZONE:Europe/Ljubljana
END:VEVENT
BEGIN:VEVENT
SUMMARY:Kolegij dekana ()\, Ostalo (O)
DTSTART;TZID=Europe/Ljubljana:20260518T090000
DTEND;TZID=Europe/Ljubljana:20260518T120000
DTSTAMP:20260424T081931Z
UID:fmf-AFLABS-URNIK:premaknjeno-srecanje:252392
CATEGORIES:Entry,Standard
COLOR:darkgreen
DESCRIPTION:Predmet: Kolegij dekana ()\, Ostalo (O)\nLetniki: \nIzvajalci:
  Ganna Kudryavtseva\, Primož Potočnik\, Matija Pretnar\, Emil Žagar\nPr
 ostor: Sejna soba J21
LOCATION:Sejna soba J21
ORGANIZER:Ganna Kudryavtseva, Primož Potočnik, Matija Pretnar, Emil Žag
 ar
RELATED-TO:fmf-AFLABS-URNIK:srecanje:17247
X-WR-TIMEZONE:Europe/Ljubljana
END:VEVENT
BEGIN:VEVENT
SUMMARY:Kolegij dekana ()\, Ostalo (O)
DTSTART;TZID=Europe/Ljubljana:20260525T090000
DTEND;TZID=Europe/Ljubljana:20260525T120000
DTSTAMP:20260424T081931Z
UID:fmf-AFLABS-URNIK:premaknjeno-srecanje:252393
CATEGORIES:Entry,Standard
COLOR:darkgreen
DESCRIPTION:Predmet: Kolegij dekana ()\, Ostalo (O)\nLetniki: \nIzvajalci:
  Ganna Kudryavtseva\, Primož Potočnik\, Matija Pretnar\, Emil Žagar\nPr
 ostor: Sejna soba J21
LOCATION:Sejna soba J21
ORGANIZER:Ganna Kudryavtseva, Primož Potočnik, Matija Pretnar, Emil Žag
 ar
RELATED-TO:fmf-AFLABS-URNIK:srecanje:17247
X-WR-TIMEZONE:Europe/Ljubljana
END:VEVENT
BEGIN:VEVENT
SUMMARY:Kolegij dekana ()\, Ostalo (O)
DTSTART;TZID=Europe/Ljubljana:20260601T090000
DTEND;TZID=Europe/Ljubljana:20260601T120000
DTSTAMP:20260424T081931Z
UID:fmf-AFLABS-URNIK:premaknjeno-srecanje:252394
CATEGORIES:Entry,Standard
COLOR:darkgreen
DESCRIPTION:Predmet: Kolegij dekana ()\, Ostalo (O)\nLetniki: \nIzvajalci:
  Ganna Kudryavtseva\, Primož Potočnik\, Matija Pretnar\, Emil Žagar\nPr
 ostor: Sejna soba J21
LOCATION:Sejna soba J21
ORGANIZER:Ganna Kudryavtseva, Primož Potočnik, Matija Pretnar, Emil Žag
 ar
RELATED-TO:fmf-AFLABS-URNIK:srecanje:17247
X-WR-TIMEZONE:Europe/Ljubljana
END:VEVENT
BEGIN:VEVENT
SUMMARY:Sestanek skupine za kvantno optiko ()\, Ostalo (O)
DTSTART;TZID=Europe/Ljubljana:20260220T120000
DTEND;TZID=Europe/Ljubljana:20260220T140000
DTSTAMP:20260424T081931Z
UID:fmf-AFLABS-URNIK:premaknjeno-srecanje:243211
CATEGORIES:Entry,Standard
COLOR:darkgreen
DESCRIPTION:Predmet: Sestanek skupine za kvantno optiko ()\, Ostalo (O)\nL
 etniki: \nIzvajalci: Rainer Kaltenbaek\, Žiga Pušavec\nProstor: Sejna so
 ba J21
LOCATION:Sejna soba J21
ORGANIZER:Rainer Kaltenbaek, Žiga Pušavec
RELATED-TO:fmf-AFLABS-URNIK:srecanje:17279
X-WR-TIMEZONE:Europe/Ljubljana
END:VEVENT
BEGIN:VEVENT
SUMMARY:Sestanek skupine za kvantno optiko ()\, Ostalo (O)
DTSTART;TZID=Europe/Ljubljana:20260227T120000
DTEND;TZID=Europe/Ljubljana:20260227T140000
DTSTAMP:20260424T081931Z
UID:fmf-AFLABS-URNIK:premaknjeno-srecanje:243212
CATEGORIES:Entry,Standard
COLOR:darkgreen
DESCRIPTION:Predmet: Sestanek skupine za kvantno optiko ()\, Ostalo (O)\nL
 etniki: \nIzvajalci: Rainer Kaltenbaek\, Žiga Pušavec\nProstor: Sejna so
 ba J21
LOCATION:Sejna soba J21
ORGANIZER:Rainer Kaltenbaek, Žiga Pušavec
RELATED-TO:fmf-AFLABS-URNIK:srecanje:17279
X-WR-TIMEZONE:Europe/Ljubljana
END:VEVENT
BEGIN:VEVENT
SUMMARY:Sestanek skupine za kvantno optiko ()\, Ostalo (O)
DTSTART;TZID=Europe/Ljubljana:20260306T120000
DTEND;TZID=Europe/Ljubljana:20260306T140000
DTSTAMP:20260424T081931Z
UID:fmf-AFLABS-URNIK:premaknjeno-srecanje:243213
CATEGORIES:Entry,Standard
COLOR:darkgreen
DESCRIPTION:Predmet: Sestanek skupine za kvantno optiko ()\, Ostalo (O)\nL
 etniki: \nIzvajalci: Rainer Kaltenbaek\, Žiga Pušavec\nProstor: Sejna so
 ba J21
LOCATION:Sejna soba J21
ORGANIZER:Rainer Kaltenbaek, Žiga Pušavec
RELATED-TO:fmf-AFLABS-URNIK:srecanje:17279
X-WR-TIMEZONE:Europe/Ljubljana
END:VEVENT
BEGIN:VEVENT
SUMMARY:Sestanek skupine za kvantno optiko ()\, Ostalo (O)
DTSTART;TZID=Europe/Ljubljana:20260313T120000
DTEND;TZID=Europe/Ljubljana:20260313T140000
DTSTAMP:20260424T081931Z
UID:fmf-AFLABS-URNIK:premaknjeno-srecanje:243214
CATEGORIES:Entry,Standard
COLOR:darkgreen
DESCRIPTION:Predmet: Sestanek skupine za kvantno optiko ()\, Ostalo (O)\nL
 etniki: \nIzvajalci: Rainer Kaltenbaek\, Žiga Pušavec\nProstor: Sejna so
 ba J21
LOCATION:Sejna soba J21
ORGANIZER:Rainer Kaltenbaek, Žiga Pušavec
RELATED-TO:fmf-AFLABS-URNIK:srecanje:17279
X-WR-TIMEZONE:Europe/Ljubljana
END:VEVENT
BEGIN:VEVENT
SUMMARY:Sestanek skupine za kvantno optiko ()\, Ostalo (O)
DTSTART;TZID=Europe/Ljubljana:20260320T120000
DTEND;TZID=Europe/Ljubljana:20260320T140000
DTSTAMP:20260424T081931Z
UID:fmf-AFLABS-URNIK:premaknjeno-srecanje:243215
CATEGORIES:Entry,Standard
COLOR:darkgreen
DESCRIPTION:Predmet: Sestanek skupine za kvantno optiko ()\, Ostalo (O)\nL
 etniki: \nIzvajalci: Rainer Kaltenbaek\, Žiga Pušavec\nProstor: Sejna so
 ba J21
LOCATION:Sejna soba J21
ORGANIZER:Rainer Kaltenbaek, Žiga Pušavec
RELATED-TO:fmf-AFLABS-URNIK:srecanje:17279
X-WR-TIMEZONE:Europe/Ljubljana
END:VEVENT
BEGIN:VEVENT
SUMMARY:Sestanek skupine za kvantno optiko ()\, Ostalo (O)
DTSTART;TZID=Europe/Ljubljana:20260327T120000
DTEND;TZID=Europe/Ljubljana:20260327T140000
DTSTAMP:20260424T081931Z
UID:fmf-AFLABS-URNIK:premaknjeno-srecanje:243216
CATEGORIES:Entry,Standard
COLOR:darkgreen
DESCRIPTION:Predmet: Sestanek skupine za kvantno optiko ()\, Ostalo (O)\nL
 etniki: \nIzvajalci: Rainer Kaltenbaek\, Žiga Pušavec\nProstor: Sejna so
 ba J21
LOCATION:Sejna soba J21
ORGANIZER:Rainer Kaltenbaek, Žiga Pušavec
RELATED-TO:fmf-AFLABS-URNIK:srecanje:17279
X-WR-TIMEZONE:Europe/Ljubljana
END:VEVENT
BEGIN:VEVENT
SUMMARY:Sestanek skupine za kvantno optiko ()\, Ostalo (O)
DTSTART;TZID=Europe/Ljubljana:20260403T120000
DTEND;TZID=Europe/Ljubljana:20260403T140000
DTSTAMP:20260424T081931Z
UID:fmf-AFLABS-URNIK:premaknjeno-srecanje:243217
CATEGORIES:Entry,Standard
COLOR:darkgreen
DESCRIPTION:Predmet: Sestanek skupine za kvantno optiko ()\, Ostalo (O)\nL
 etniki: \nIzvajalci: Rainer Kaltenbaek\, Žiga Pušavec\nProstor: Sejna so
 ba J21
LOCATION:Sejna soba J21
ORGANIZER:Rainer Kaltenbaek, Žiga Pušavec
RELATED-TO:fmf-AFLABS-URNIK:srecanje:17279
X-WR-TIMEZONE:Europe/Ljubljana
END:VEVENT
BEGIN:VEVENT
SUMMARY:Sestanek skupine za kvantno optiko ()\, Ostalo (O)
DTSTART;TZID=Europe/Ljubljana:20260410T120000
DTEND;TZID=Europe/Ljubljana:20260410T140000
DTSTAMP:20260424T081931Z
UID:fmf-AFLABS-URNIK:premaknjeno-srecanje:243218
CATEGORIES:Entry,Standard
COLOR:darkgreen
DESCRIPTION:Predmet: Sestanek skupine za kvantno optiko ()\, Ostalo (O)\nL
 etniki: \nIzvajalci: Rainer Kaltenbaek\, Žiga Pušavec\nProstor: Sejna so
 ba J21
LOCATION:Sejna soba J21
ORGANIZER:Rainer Kaltenbaek, Žiga Pušavec
RELATED-TO:fmf-AFLABS-URNIK:srecanje:17279
X-WR-TIMEZONE:Europe/Ljubljana
END:VEVENT
BEGIN:VEVENT
SUMMARY:Sestanek skupine za kvantno optiko ()\, Ostalo (O)
DTSTART;TZID=Europe/Ljubljana:20260417T120000
DTEND;TZID=Europe/Ljubljana:20260417T140000
DTSTAMP:20260424T081931Z
UID:fmf-AFLABS-URNIK:premaknjeno-srecanje:243219
CATEGORIES:Entry,Standard
COLOR:darkgreen
DESCRIPTION:Predmet: Sestanek skupine za kvantno optiko ()\, Ostalo (O)\nL
 etniki: \nIzvajalci: Rainer Kaltenbaek\, Žiga Pušavec\nProstor: Sejna so
 ba J21
LOCATION:Sejna soba J21
ORGANIZER:Rainer Kaltenbaek, Žiga Pušavec
RELATED-TO:fmf-AFLABS-URNIK:srecanje:17279
X-WR-TIMEZONE:Europe/Ljubljana
END:VEVENT
BEGIN:VEVENT
SUMMARY:Sestanek skupine za kvantno optiko ()\, Ostalo (O)
DTSTART;TZID=Europe/Ljubljana:20260424T120000
DTEND;TZID=Europe/Ljubljana:20260424T140000
DTSTAMP:20260424T081931Z
UID:fmf-AFLABS-URNIK:premaknjeno-srecanje:243220
CATEGORIES:Entry,Standard
COLOR:darkgreen
DESCRIPTION:Predmet: Sestanek skupine za kvantno optiko ()\, Ostalo (O)\nL
 etniki: \nIzvajalci: Rainer Kaltenbaek\, Žiga Pušavec\nProstor: Sejna so
 ba J21
LOCATION:Sejna soba J21
ORGANIZER:Rainer Kaltenbaek, Žiga Pušavec
RELATED-TO:fmf-AFLABS-URNIK:srecanje:17279
X-WR-TIMEZONE:Europe/Ljubljana
END:VEVENT
BEGIN:VEVENT
SUMMARY:Sestanek skupine za kvantno optiko ()\, Ostalo (O)
DTSTART;TZID=Europe/Ljubljana:20260508T120000
DTEND;TZID=Europe/Ljubljana:20260508T140000
DTSTAMP:20260424T081931Z
UID:fmf-AFLABS-URNIK:premaknjeno-srecanje:243221
CATEGORIES:Entry,Standard
COLOR:darkgreen
DESCRIPTION:Predmet: Sestanek skupine za kvantno optiko ()\, Ostalo (O)\nL
 etniki: \nIzvajalci: Rainer Kaltenbaek\, Žiga Pušavec\nProstor: Sejna so
 ba J21
LOCATION:Sejna soba J21
ORGANIZER:Rainer Kaltenbaek, Žiga Pušavec
RELATED-TO:fmf-AFLABS-URNIK:srecanje:17279
X-WR-TIMEZONE:Europe/Ljubljana
END:VEVENT
BEGIN:VEVENT
SUMMARY:Sestanek skupine za kvantno optiko ()\, Ostalo (O)
DTSTART;TZID=Europe/Ljubljana:20260515T120000
DTEND;TZID=Europe/Ljubljana:20260515T140000
DTSTAMP:20260424T081931Z
UID:fmf-AFLABS-URNIK:premaknjeno-srecanje:243222
CATEGORIES:Entry,Standard
COLOR:darkgreen
DESCRIPTION:Predmet: Sestanek skupine za kvantno optiko ()\, Ostalo (O)\nL
 etniki: \nIzvajalci: Rainer Kaltenbaek\, Žiga Pušavec\nProstor: Sejna so
 ba J21
LOCATION:Sejna soba J21
ORGANIZER:Rainer Kaltenbaek, Žiga Pušavec
RELATED-TO:fmf-AFLABS-URNIK:srecanje:17279
X-WR-TIMEZONE:Europe/Ljubljana
END:VEVENT
BEGIN:VEVENT
SUMMARY:Sestanek skupine za kvantno optiko ()\, Ostalo (O)
DTSTART;TZID=Europe/Ljubljana:20260522T120000
DTEND;TZID=Europe/Ljubljana:20260522T140000
DTSTAMP:20260424T081931Z
UID:fmf-AFLABS-URNIK:premaknjeno-srecanje:243223
CATEGORIES:Entry,Standard
COLOR:darkgreen
DESCRIPTION:Predmet: Sestanek skupine za kvantno optiko ()\, Ostalo (O)\nL
 etniki: \nIzvajalci: Rainer Kaltenbaek\, Žiga Pušavec\nProstor: Sejna so
 ba J21
LOCATION:Sejna soba J21
ORGANIZER:Rainer Kaltenbaek, Žiga Pušavec
RELATED-TO:fmf-AFLABS-URNIK:srecanje:17279
X-WR-TIMEZONE:Europe/Ljubljana
END:VEVENT
BEGIN:VEVENT
SUMMARY:Sestanek skupine za kvantno optiko ()\, Ostalo (O)
DTSTART;TZID=Europe/Ljubljana:20260529T120000
DTEND;TZID=Europe/Ljubljana:20260529T140000
DTSTAMP:20260424T081931Z
UID:fmf-AFLABS-URNIK:premaknjeno-srecanje:243224
CATEGORIES:Entry,Standard
COLOR:darkgreen
DESCRIPTION:Predmet: Sestanek skupine za kvantno optiko ()\, Ostalo (O)\nL
 etniki: \nIzvajalci: Rainer Kaltenbaek\, Žiga Pušavec\nProstor: Sejna so
 ba J21
LOCATION:Sejna soba J21
ORGANIZER:Rainer Kaltenbaek, Žiga Pušavec
RELATED-TO:fmf-AFLABS-URNIK:srecanje:17279
X-WR-TIMEZONE:Europe/Ljubljana
END:VEVENT
BEGIN:VEVENT
SUMMARY:Upravni odbor OM
DTSTART;TZID=Europe/Ljubljana:20260311T120000
DTEND;TZID=Europe/Ljubljana:20260311T140000
DTSTAMP:20260424T081931Z
UID:fmf-AFLABS-URNIK:rezervacija:25374
CATEGORIES:Reservation
COLOR:royalblue
DESCRIPTION:Predmeti: \nLetniki: \nIzvajalci: Primož Potočnik\nProstori:
  Sejna soba J21
LOCATION:Sejna soba J21
ORGANIZER:Primož Potočnik
X-WR-TIMEZONE:Europe/Ljubljana
END:VEVENT
BEGIN:VEVENT
SUMMARY:Upravni odbor OM
DTSTART;TZID=Europe/Ljubljana:20260408T120000
DTEND;TZID=Europe/Ljubljana:20260408T140000
DTSTAMP:20260424T081931Z
UID:fmf-AFLABS-URNIK:rezervacija:25375
CATEGORIES:Reservation
COLOR:royalblue
DESCRIPTION:Predmeti: \nLetniki: \nIzvajalci: Primož Potočnik\nProstori:
  Sejna soba J21
LOCATION:Sejna soba J21
ORGANIZER:Primož Potočnik
X-WR-TIMEZONE:Europe/Ljubljana
END:VEVENT
BEGIN:VEVENT
SUMMARY:Upravni odbor OM
DTSTART;TZID=Europe/Ljubljana:20260513T120000
DTEND;TZID=Europe/Ljubljana:20260513T140000
DTSTAMP:20260424T081931Z
UID:fmf-AFLABS-URNIK:rezervacija:25376
CATEGORIES:Reservation
COLOR:royalblue
DESCRIPTION:Predmeti: \nLetniki: \nIzvajalci: Primož Potočnik\nProstori:
  Sejna soba J21
LOCATION:Sejna soba J21
ORGANIZER:Primož Potočnik
X-WR-TIMEZONE:Europe/Ljubljana
END:VEVENT
BEGIN:VEVENT
SUMMARY:UO OF
DTSTART;TZID=Europe/Ljubljana:20260311T140000
DTEND;TZID=Europe/Ljubljana:20260311T160000
DTSTAMP:20260424T081931Z
UID:fmf-AFLABS-URNIK:rezervacija:25411
CATEGORIES:Reservation
COLOR:royalblue
DESCRIPTION:Predmeti: \nLetniki: \nIzvajalci: Miha Ravnik\nProstori: Sejna
  soba J21
LOCATION:Sejna soba J21
ORGANIZER:Miha Ravnik
X-WR-TIMEZONE:Europe/Ljubljana
END:VEVENT
BEGIN:VEVENT
SUMMARY:UO OF
DTSTART;TZID=Europe/Ljubljana:20260408T140000
DTEND;TZID=Europe/Ljubljana:20260408T160000
DTSTAMP:20260424T081931Z
UID:fmf-AFLABS-URNIK:rezervacija:25412
CATEGORIES:Reservation
COLOR:royalblue
DESCRIPTION:Predmeti: \nLetniki: \nIzvajalci: Miha Ravnik\nProstori: Sejna
  soba J21
LOCATION:Sejna soba J21
ORGANIZER:Miha Ravnik
X-WR-TIMEZONE:Europe/Ljubljana
END:VEVENT
BEGIN:VEVENT
SUMMARY:UO OF
DTSTART;TZID=Europe/Ljubljana:20260513T140000
DTEND;TZID=Europe/Ljubljana:20260513T160000
DTSTAMP:20260424T081931Z
UID:fmf-AFLABS-URNIK:rezervacija:25413
CATEGORIES:Reservation
COLOR:royalblue
DESCRIPTION:Predmeti: \nLetniki: \nIzvajalci: Miha Ravnik\nProstori: Sejna
  soba J21
LOCATION:Sejna soba J21
ORGANIZER:Miha Ravnik
X-WR-TIMEZONE:Europe/Ljubljana
END:VEVENT
BEGIN:VEVENT
SUMMARY:Komisija za zgotavljanje kakovosti
DTSTART;TZID=Europe/Ljubljana:20260223T120000
DTEND;TZID=Europe/Ljubljana:20260223T140000
DTSTAMP:20260424T081931Z
UID:fmf-AFLABS-URNIK:rezervacija:26679
CATEGORIES:Reservation
COLOR:royalblue
DESCRIPTION:Predmeti: \nLetniki: \nIzvajalci: Mojca Avbelj Korošec\nProst
 ori: Sejna soba J21
LOCATION:Sejna soba J21
ORGANIZER:Mojca Avbelj Korošec
X-WR-TIMEZONE:Europe/Ljubljana
END:VEVENT
BEGIN:VEVENT
SUMMARY:Nadomestna lokacija - sestanek programske
DTSTART;TZID=Europe/Ljubljana:20260226T110000
DTEND;TZID=Europe/Ljubljana:20260226T120000
DTSTAMP:20260424T081931Z
UID:fmf-AFLABS-URNIK:rezervacija:27244
CATEGORIES:Reservation
COLOR:royalblue
DESCRIPTION:Predmeti: Sestanek programske skupine P1-0192 ()\nLetniki: \nI
 zvajalci: Irena Drevenšek Olenik\nProstori: Sejna soba J21
LOCATION:Sejna soba J21
ORGANIZER:Irena Drevenšek Olenik
X-WR-TIMEZONE:Europe/Ljubljana
END:VEVENT
BEGIN:VEVENT
SUMMARY:NAKVIS vzorčna evalvacija VSŠ
DTSTART;TZID=Europe/Ljubljana:20260519T080000
DTEND;TZID=Europe/Ljubljana:20260519T190000
DTSTAMP:20260424T081931Z
UID:fmf-AFLABS-URNIK:rezervacija:27764
CATEGORIES:Reservation
COLOR:royalblue
DESCRIPTION:Predmeti: \nLetniki: \nIzvajalci: Mojca Avbelj Korošec\nProst
 ori: Sejna soba J21
LOCATION:Sejna soba J21
ORGANIZER:Mojca Avbelj Korošec
X-WR-TIMEZONE:Europe/Ljubljana
END:VEVENT
BEGIN:VEVENT
SUMMARY:NAKVIS vzorčna evalvacija VSŠ
DTSTART;TZID=Europe/Ljubljana:20260515T080000
DTEND;TZID=Europe/Ljubljana:20260515T190000
DTSTAMP:20260424T081931Z
UID:fmf-AFLABS-URNIK:rezervacija:27766
CATEGORIES:Reservation
COLOR:royalblue
DESCRIPTION:Predmeti: \nLetniki: \nIzvajalci: Mojca Avbelj Korošec\nProst
 ori: Sejna soba J21
LOCATION:Sejna soba J21
ORGANIZER:Mojca Avbelj Korošec
X-WR-TIMEZONE:Europe/Ljubljana
END:VEVENT
BEGIN:VEVENT
SUMMARY:GC Služba za kakovost
DTSTART;TZID=Europe/Ljubljana:20260526T090000
DTEND;TZID=Europe/Ljubljana:20260526T110000
DTSTAMP:20260424T081931Z
UID:fmf-AFLABS-URNIK:rezervacija:28054
CATEGORIES:Reservation
COLOR:royalblue
DESCRIPTION:Predmeti: \nLetniki: \nIzvajalci: Mojca Avbelj Korošec\nProst
 ori: Sejna soba J21
LOCATION:Sejna soba J21
ORGANIZER:Mojca Avbelj Korošec
X-WR-TIMEZONE:Europe/Ljubljana
END:VEVENT
BEGIN:VEVENT
SUMMARY:UO OF
DTSTART;TZID=Europe/Ljubljana:20260506T130000
DTEND;TZID=Europe/Ljubljana:20260506T140000
DTSTAMP:20260424T081931Z
UID:fmf-AFLABS-URNIK:rezervacija:28099
CATEGORIES:Reservation
COLOR:royalblue
DESCRIPTION:Predmeti: \nLetniki: \nIzvajalci: Miha Ravnik\nProstori: Sejna
  soba J21
LOCATION:Sejna soba J21
ORGANIZER:Miha Ravnik
X-WR-TIMEZONE:Europe/Ljubljana
END:VEVENT
END:VCALENDAR
