BEGIN:VCALENDAR
VERSION:2.0
PRODID:-//AFLabs urnik izvoz - fmf//aflabs.si//SI
DTSTAMP:20260423T050947Z
NAME:UL FMF urnik
REFRESH-INTERVAL:PT1H
SOURCE:https://urnik.fmf.uni-lj.si/en/subject/387/?export=1
URL:https://urnik.fmf.uni-lj.si/en/subject/387/?export=1
X-PUBLISHED-TTL:PT1H
X-WR-CALNAME:UL FMF urnik
X-WR-TIMEZONE:Europe/Ljubljana
BEGIN:VTIMEZONE
TZID:Europe/Ljubljana
BEGIN:DAYLIGHT
DTSTART:20260329T020000
RDATE:20260329T020000
RDATE:20270328T020000
TZNAME:CEST
TZOFFSETFROM:+0100
TZOFFSETTO:+0200
END:DAYLIGHT
BEGIN:STANDARD
DTSTART:20261025T030000
RDATE:20261025T030000
RDATE:20271031T030000
TZNAME:CET
TZOFFSETFROM:+0200
TZOFFSETTO:+0100
END:STANDARD
END:VTIMEZONE
BEGIN:VEVENT
SUMMARY:Seminar za verjetnost\, statistiko in finančno matematiko (MAT-D)
 \, Seminar (S)
DTSTART;TZID=Europe/Ljubljana:20260217T160000
DTEND;TZID=Europe/Ljubljana:20260217T180000
DTSTAMP:20260423T050947Z
UID:fmf-AFLABS-URNIK:premaknjeno-srecanje:250940
ATTENDEE:doktorski študij (M)
CATEGORIES:Entry,Standard
COLOR:darkgreen
DESCRIPTION:Predmet: Seminar za verjetnost\, statistiko in finančno matem
 atiko (MAT-D)\, Seminar (S)\nLetniki: doktorski študij (M)\nIzvajalci: Ma
 tija Vidmar\nProstor: 3.06
LOCATION:3.06
ORGANIZER:Matija Vidmar
RELATED-TO:fmf-AFLABS-URNIK:srecanje:17412
X-WR-TIMEZONE:Europe/Ljubljana
END:VEVENT
BEGIN:VEVENT
SUMMARY:Seminar za verjetnost\, statistiko in finančno matematiko (MAT-D)
 \, Seminar (S)
DTSTART;TZID=Europe/Ljubljana:20260224T160000
DTEND;TZID=Europe/Ljubljana:20260224T180000
DTSTAMP:20260423T050947Z
UID:fmf-AFLABS-URNIK:premaknjeno-srecanje:250941
ATTENDEE:doktorski študij (M)
CATEGORIES:Entry,Standard
COLOR:darkgreen
DESCRIPTION:Predmet: Seminar za verjetnost\, statistiko in finančno matem
 atiko (MAT-D)\, Seminar (S)\nLetniki: doktorski študij (M)\nIzvajalci: Ma
 tija Vidmar\nProstor: 3.06
LOCATION:3.06
ORGANIZER:Matija Vidmar
RELATED-TO:fmf-AFLABS-URNIK:srecanje:17412
X-WR-TIMEZONE:Europe/Ljubljana
END:VEVENT
BEGIN:VEVENT
SUMMARY:Seminar za verjetnost\, statistiko in finančno matematiko (MAT-D)
 \, Seminar (S)
DTSTART;TZID=Europe/Ljubljana:20260303T160000
DTEND;TZID=Europe/Ljubljana:20260303T180000
DTSTAMP:20260423T050947Z
UID:fmf-AFLABS-URNIK:premaknjeno-srecanje:250942
ATTENDEE:doktorski študij (M)
CATEGORIES:Entry,Standard
COLOR:darkgreen
DESCRIPTION:Predmet: Seminar za verjetnost\, statistiko in finančno matem
 atiko (MAT-D)\, Seminar (S)\nLetniki: doktorski študij (M)\nIzvajalci: Ma
 tija Vidmar\nProstor: 3.06
LOCATION:3.06
ORGANIZER:Matija Vidmar
RELATED-TO:fmf-AFLABS-URNIK:srecanje:17412
X-WR-TIMEZONE:Europe/Ljubljana
END:VEVENT
BEGIN:VEVENT
SUMMARY:Seminar za verjetnost\, statistiko in finančno matematiko (MAT-D)
 \, Seminar (S)
DTSTART;TZID=Europe/Ljubljana:20260310T160000
DTEND;TZID=Europe/Ljubljana:20260310T180000
DTSTAMP:20260423T050947Z
UID:fmf-AFLABS-URNIK:premaknjeno-srecanje:250943
ATTENDEE:doktorski študij (M)
CATEGORIES:Entry,Standard
COLOR:darkgreen
DESCRIPTION:Predmet: Seminar za verjetnost\, statistiko in finančno matem
 atiko (MAT-D)\, Seminar (S)\nLetniki: doktorski študij (M)\nIzvajalci: Ma
 tija Vidmar\nProstor: 3.06
LOCATION:3.06
ORGANIZER:Matija Vidmar
RELATED-TO:fmf-AFLABS-URNIK:srecanje:17412
X-WR-TIMEZONE:Europe/Ljubljana
END:VEVENT
BEGIN:VEVENT
SUMMARY:Seminar za verjetnost\, statistiko in finančno matematiko (MAT-D)
 \, Seminar (S)
DTSTART;TZID=Europe/Ljubljana:20260317T160000
DTEND;TZID=Europe/Ljubljana:20260317T180000
DTSTAMP:20260423T050947Z
UID:fmf-AFLABS-URNIK:premaknjeno-srecanje:250944
ATTENDEE:doktorski študij (M)
CATEGORIES:Entry,Standard
COLOR:darkgreen
DESCRIPTION:Predmet: Seminar za verjetnost\, statistiko in finančno matem
 atiko (MAT-D)\, Seminar (S)\nLetniki: doktorski študij (M)\nIzvajalci: Ma
 tija Vidmar\nProstor: 3.06
LOCATION:3.06
ORGANIZER:Matija Vidmar
RELATED-TO:fmf-AFLABS-URNIK:srecanje:17412
X-WR-TIMEZONE:Europe/Ljubljana
END:VEVENT
BEGIN:VEVENT
SUMMARY:Seminar za verjetnost\, statistiko in finančno matematiko (MAT-D)
 \, Seminar (S)
DTSTART;TZID=Europe/Ljubljana:20260324T160000
DTEND;TZID=Europe/Ljubljana:20260324T180000
DTSTAMP:20260423T050947Z
UID:fmf-AFLABS-URNIK:premaknjeno-srecanje:250945
ATTENDEE:doktorski študij (M)
CATEGORIES:Entry,Standard
COLOR:darkgreen
DESCRIPTION:Predmet: Seminar za verjetnost\, statistiko in finančno matem
 atiko (MAT-D)\, Seminar (S)\nLetniki: doktorski študij (M)\nIzvajalci: Ma
 tija Vidmar\nProstor: 3.06
LOCATION:3.06
ORGANIZER:Matija Vidmar
RELATED-TO:fmf-AFLABS-URNIK:srecanje:17412
X-WR-TIMEZONE:Europe/Ljubljana
END:VEVENT
BEGIN:VEVENT
SUMMARY:Seminar za verjetnost\, statistiko in finančno matematiko (MAT-D)
 \, Seminar (S)
DTSTART;TZID=Europe/Ljubljana:20260331T160000
DTEND;TZID=Europe/Ljubljana:20260331T180000
DTSTAMP:20260423T050947Z
UID:fmf-AFLABS-URNIK:premaknjeno-srecanje:250946
ATTENDEE:doktorski študij (M)
CATEGORIES:Entry,Standard
COLOR:darkgreen
DESCRIPTION:Predmet: Seminar za verjetnost\, statistiko in finančno matem
 atiko (MAT-D)\, Seminar (S)\nLetniki: doktorski študij (M)\nIzvajalci: Ma
 tija Vidmar\nProstor: 3.06
LOCATION:3.06
ORGANIZER:Matija Vidmar
RELATED-TO:fmf-AFLABS-URNIK:srecanje:17412
X-WR-TIMEZONE:Europe/Ljubljana
END:VEVENT
BEGIN:VEVENT
SUMMARY:Seminar za verjetnost\, statistiko in finančno matematiko (MAT-D)
 \, Seminar (S)
DTSTART;TZID=Europe/Ljubljana:20260407T160000
DTEND;TZID=Europe/Ljubljana:20260407T180000
DTSTAMP:20260423T050947Z
UID:fmf-AFLABS-URNIK:premaknjeno-srecanje:250947
ATTENDEE:doktorski študij (M)
CATEGORIES:Entry,Standard
COLOR:darkgreen
DESCRIPTION:Predmet: Seminar za verjetnost\, statistiko in finančno matem
 atiko (MAT-D)\, Seminar (S)\nLetniki: doktorski študij (M)\nIzvajalci: Ma
 tija Vidmar\nProstor: 3.06
LOCATION:3.06
ORGANIZER:Matija Vidmar
RELATED-TO:fmf-AFLABS-URNIK:srecanje:17412
X-WR-TIMEZONE:Europe/Ljubljana
END:VEVENT
BEGIN:VEVENT
SUMMARY:Seminar za verjetnost\, statistiko in finančno matematiko (MAT-D)
 \, Seminar (S)
DTSTART;TZID=Europe/Ljubljana:20260414T160000
DTEND;TZID=Europe/Ljubljana:20260414T180000
DTSTAMP:20260423T050947Z
UID:fmf-AFLABS-URNIK:premaknjeno-srecanje:250948
ATTENDEE:doktorski študij (M)
CATEGORIES:Entry,Standard
COLOR:darkgreen
DESCRIPTION:Predmet: Seminar za verjetnost\, statistiko in finančno matem
 atiko (MAT-D)\, Seminar (S)\nLetniki: doktorski študij (M)\nIzvajalci: Ma
 tija Vidmar\nProstor: 3.06
LOCATION:3.06
ORGANIZER:Matija Vidmar
RELATED-TO:fmf-AFLABS-URNIK:srecanje:17412
X-WR-TIMEZONE:Europe/Ljubljana
END:VEVENT
BEGIN:VEVENT
SUMMARY:Seminar za verjetnost\, statistiko in finančno matematiko (MAT-D)
 \, Seminar (S)
DTSTART;TZID=Europe/Ljubljana:20260421T160000
DTEND;TZID=Europe/Ljubljana:20260421T180000
DTSTAMP:20260423T050947Z
UID:fmf-AFLABS-URNIK:premaknjeno-srecanje:250949
ATTENDEE:doktorski študij (M)
CATEGORIES:Entry,Standard
COLOR:darkgreen
DESCRIPTION:Predmet: Seminar za verjetnost\, statistiko in finančno matem
 atiko (MAT-D)\, Seminar (S)\nLetniki: doktorski študij (M)\nIzvajalci: Ma
 tija Vidmar\nProstor: 3.06
LOCATION:3.06
ORGANIZER:Matija Vidmar
RELATED-TO:fmf-AFLABS-URNIK:srecanje:17412
X-WR-TIMEZONE:Europe/Ljubljana
END:VEVENT
BEGIN:VEVENT
SUMMARY:Seminar za verjetnost\, statistiko in finančno matematiko (MAT-D)
 \, Seminar (S)
DTSTART;TZID=Europe/Ljubljana:20260428T160000
DTEND;TZID=Europe/Ljubljana:20260428T180000
DTSTAMP:20260423T050947Z
UID:fmf-AFLABS-URNIK:premaknjeno-srecanje:250950
ATTENDEE:doktorski študij (M)
CATEGORIES:Entry,Standard
COLOR:darkgreen
DESCRIPTION:Predmet: Seminar za verjetnost\, statistiko in finančno matem
 atiko (MAT-D)\, Seminar (S)\nLetniki: doktorski študij (M)\nIzvajalci: Ma
 tija Vidmar\nProstor: 3.06
LOCATION:3.06
ORGANIZER:Matija Vidmar
RELATED-TO:fmf-AFLABS-URNIK:srecanje:17412
X-WR-TIMEZONE:Europe/Ljubljana
END:VEVENT
BEGIN:VEVENT
SUMMARY:Seminar za verjetnost\, statistiko in finančno matematiko (MAT-D)
 \, Seminar (S)
DTSTART;TZID=Europe/Ljubljana:20260505T160000
DTEND;TZID=Europe/Ljubljana:20260505T180000
DTSTAMP:20260423T050947Z
UID:fmf-AFLABS-URNIK:premaknjeno-srecanje:250951
ATTENDEE:doktorski študij (M)
CATEGORIES:Entry,Standard
COLOR:darkgreen
DESCRIPTION:Predmet: Seminar za verjetnost\, statistiko in finančno matem
 atiko (MAT-D)\, Seminar (S)\nLetniki: doktorski študij (M)\nIzvajalci: Ma
 tija Vidmar\nProstor: 3.06
LOCATION:3.06
ORGANIZER:Matija Vidmar
RELATED-TO:fmf-AFLABS-URNIK:srecanje:17412
X-WR-TIMEZONE:Europe/Ljubljana
END:VEVENT
BEGIN:VEVENT
SUMMARY:Seminar za verjetnost\, statistiko in finančno matematiko (MAT-D)
 \, Seminar (S)
DTSTART;TZID=Europe/Ljubljana:20260512T160000
DTEND;TZID=Europe/Ljubljana:20260512T180000
DTSTAMP:20260423T050947Z
UID:fmf-AFLABS-URNIK:premaknjeno-srecanje:250952
ATTENDEE:doktorski študij (M)
CATEGORIES:Entry,Standard
COLOR:darkgreen
DESCRIPTION:Predmet: Seminar za verjetnost\, statistiko in finančno matem
 atiko (MAT-D)\, Seminar (S)\nLetniki: doktorski študij (M)\nIzvajalci: Ma
 tija Vidmar\nProstor: 3.06
LOCATION:3.06
ORGANIZER:Matija Vidmar
RELATED-TO:fmf-AFLABS-URNIK:srecanje:17412
X-WR-TIMEZONE:Europe/Ljubljana
END:VEVENT
BEGIN:VEVENT
SUMMARY:Seminar za verjetnost\, statistiko in finančno matematiko (MAT-D)
 \, Seminar (S)
DTSTART;TZID=Europe/Ljubljana:20260519T160000
DTEND;TZID=Europe/Ljubljana:20260519T180000
DTSTAMP:20260423T050947Z
UID:fmf-AFLABS-URNIK:premaknjeno-srecanje:250953
ATTENDEE:doktorski študij (M)
CATEGORIES:Entry,Standard
COLOR:darkgreen
DESCRIPTION:Predmet: Seminar za verjetnost\, statistiko in finančno matem
 atiko (MAT-D)\, Seminar (S)\nLetniki: doktorski študij (M)\nIzvajalci: Ma
 tija Vidmar\nProstor: 3.06
LOCATION:3.06
ORGANIZER:Matija Vidmar
RELATED-TO:fmf-AFLABS-URNIK:srecanje:17412
X-WR-TIMEZONE:Europe/Ljubljana
END:VEVENT
BEGIN:VEVENT
SUMMARY:Seminar za verjetnost\, statistiko in finančno matematiko (MAT-D)
 \, Seminar (S)
DTSTART;TZID=Europe/Ljubljana:20260526T160000
DTEND;TZID=Europe/Ljubljana:20260526T180000
DTSTAMP:20260423T050947Z
UID:fmf-AFLABS-URNIK:premaknjeno-srecanje:250954
ATTENDEE:doktorski študij (M)
CATEGORIES:Entry,Standard
COLOR:darkgreen
DESCRIPTION:Predmet: Seminar za verjetnost\, statistiko in finančno matem
 atiko (MAT-D)\, Seminar (S)\nLetniki: doktorski študij (M)\nIzvajalci: Ma
 tija Vidmar\nProstor: 3.06
LOCATION:3.06
ORGANIZER:Matija Vidmar
RELATED-TO:fmf-AFLABS-URNIK:srecanje:17412
X-WR-TIMEZONE:Europe/Ljubljana
END:VEVENT
END:VCALENDAR
