BEGIN:VCALENDAR
VERSION:2.0
PRODID:-//AFLabs urnik izvoz - fmf//aflabs.si//SI
DTSTAMP:20260424T145112Z
NAME:UL FMF urnik
REFRESH-INTERVAL:PT1H
SOURCE:https://urnik.fmf.uni-lj.si/en/teacher/100?day=2021-02-01&export=1
URL:https://urnik.fmf.uni-lj.si/en/teacher/100?day=2021-02-01&export=1
X-PUBLISHED-TTL:PT1H
X-WR-CALNAME:UL FMF urnik
X-WR-TIMEZONE:Europe/Ljubljana
BEGIN:VTIMEZONE
TZID:Europe/Ljubljana
BEGIN:DAYLIGHT
DTSTART:20260329T020000
RDATE:20260329T020000
RDATE:20270328T020000
TZNAME:CEST
TZOFFSETFROM:+0100
TZOFFSETTO:+0200
END:DAYLIGHT
BEGIN:STANDARD
DTSTART:20261025T030000
RDATE:20261025T030000
RDATE:20271031T030000
TZNAME:CET
TZOFFSETFROM:+0200
TZOFFSETTO:+0100
END:STANDARD
END:VTIMEZONE
BEGIN:VEVENT
SUMMARY:Zajemanje in obdelava podatkov (FIZ-3)\, Predavanja (P)
DTSTART;TZID=Europe/Ljubljana:20201228T120000
DTEND;TZID=Europe/Ljubljana:20201228T140000
DTSTAMP:20260424T145112Z
UID:fmf-AFLABS-URNIK:premaknjeno-srecanje:121839
ATTENDEE:3. letnik (Fizika, 1. stopnja)
CATEGORIES:Entry,Standard
COLOR:darkgreen
DESCRIPTION:Predmet: Zajemanje in obdelava podatkov (FIZ-3)\, Predavanja (
 P)\nLetniki: 3. letnik (Fizika\, 1. stopnja)\nIzvajalci: Dušan Ponikvar\n
 Prostor: F3
LOCATION:F3
ORGANIZER:Dušan Ponikvar
RELATED-TO:fmf-AFLABS-URNIK:srecanje:5293
X-WR-TIMEZONE:Europe/Ljubljana
END:VEVENT
BEGIN:VEVENT
SUMMARY:Zajemanje in obdelava podatkov (FIZ-3)\, Predavanja (P)
DTSTART;TZID=Europe/Ljubljana:20210104T120000
DTEND;TZID=Europe/Ljubljana:20210104T140000
DTSTAMP:20260424T145112Z
UID:fmf-AFLABS-URNIK:premaknjeno-srecanje:121840
ATTENDEE:3. letnik (Fizika, 1. stopnja)
CATEGORIES:Entry,Standard
COLOR:darkgreen
DESCRIPTION:Predmet: Zajemanje in obdelava podatkov (FIZ-3)\, Predavanja (
 P)\nLetniki: 3. letnik (Fizika\, 1. stopnja)\nIzvajalci: Dušan Ponikvar\n
 Prostor: F3
LOCATION:F3
ORGANIZER:Dušan Ponikvar
RELATED-TO:fmf-AFLABS-URNIK:srecanje:5293
X-WR-TIMEZONE:Europe/Ljubljana
END:VEVENT
BEGIN:VEVENT
SUMMARY:Zajemanje in obdelava podatkov (FIZ-3)\, Predavanja (P)
DTSTART;TZID=Europe/Ljubljana:20210111T120000
DTEND;TZID=Europe/Ljubljana:20210111T140000
DTSTAMP:20260424T145112Z
UID:fmf-AFLABS-URNIK:premaknjeno-srecanje:121841
ATTENDEE:3. letnik (Fizika, 1. stopnja)
CATEGORIES:Entry,Standard
COLOR:darkgreen
DESCRIPTION:Predmet: Zajemanje in obdelava podatkov (FIZ-3)\, Predavanja (
 P)\nLetniki: 3. letnik (Fizika\, 1. stopnja)\nIzvajalci: Dušan Ponikvar\n
 Prostor: F3
LOCATION:F3
ORGANIZER:Dušan Ponikvar
RELATED-TO:fmf-AFLABS-URNIK:srecanje:5293
X-WR-TIMEZONE:Europe/Ljubljana
END:VEVENT
BEGIN:VEVENT
SUMMARY:Elektronika I (FIZ-2)\, Predavanja (P)
DTSTART;TZID=Europe/Ljubljana:20201230T140000
DTEND;TZID=Europe/Ljubljana:20201230T160000
DTSTAMP:20260424T145112Z
UID:fmf-AFLABS-URNIK:premaknjeno-srecanje:18609
ATTENDEE:2. letnik (Fizika, 1. stopnja)
CATEGORIES:Entry,Standard
COLOR:darkgreen
DESCRIPTION:Predmet: Elektronika I (FIZ-2)\, Predavanja (P)\nLetniki: 2. l
 etnik (Fizika\, 1. stopnja)\nIzvajalci: Dušan Ponikvar\nProstor: P.01
LOCATION:P.01
ORGANIZER:Dušan Ponikvar
RELATED-TO:fmf-AFLABS-URNIK:srecanje:4727
X-WR-TIMEZONE:Europe/Ljubljana
END:VEVENT
BEGIN:VEVENT
SUMMARY:Elektronika I (FIZ-2)\, Predavanja (P)
DTSTART;TZID=Europe/Ljubljana:20210106T140000
DTEND;TZID=Europe/Ljubljana:20210106T160000
DTSTAMP:20260424T145112Z
UID:fmf-AFLABS-URNIK:premaknjeno-srecanje:18610
ATTENDEE:2. letnik (Fizika, 1. stopnja)
CATEGORIES:Entry,Standard
COLOR:darkgreen
DESCRIPTION:Predmet: Elektronika I (FIZ-2)\, Predavanja (P)\nLetniki: 2. l
 etnik (Fizika\, 1. stopnja)\nIzvajalci: Dušan Ponikvar\nProstor: P.01
LOCATION:P.01
ORGANIZER:Dušan Ponikvar
RELATED-TO:fmf-AFLABS-URNIK:srecanje:4727
X-WR-TIMEZONE:Europe/Ljubljana
END:VEVENT
BEGIN:VEVENT
SUMMARY:Elektronika I (FIZ-2)\, Predavanja (P)
DTSTART;TZID=Europe/Ljubljana:20210113T140000
DTEND;TZID=Europe/Ljubljana:20210113T160000
DTSTAMP:20260424T145112Z
UID:fmf-AFLABS-URNIK:premaknjeno-srecanje:18611
ATTENDEE:2. letnik (Fizika, 1. stopnja)
CATEGORIES:Entry,Standard
COLOR:darkgreen
DESCRIPTION:Predmet: Elektronika I (FIZ-2)\, Predavanja (P)\nLetniki: 2. l
 etnik (Fizika\, 1. stopnja)\nIzvajalci: Dušan Ponikvar\nProstor: P.01
LOCATION:P.01
ORGANIZER:Dušan Ponikvar
RELATED-TO:fmf-AFLABS-URNIK:srecanje:4727
X-WR-TIMEZONE:Europe/Ljubljana
END:VEVENT
BEGIN:VEVENT
SUMMARY:Zajemanje in obdelava podatkov (FIZ-3)\, Vaje (V)
DTSTART;TZID=Europe/Ljubljana:20210101T120000
DTEND;TZID=Europe/Ljubljana:20210101T140000
DTSTAMP:20260424T145112Z
UID:fmf-AFLABS-URNIK:premaknjeno-srecanje:121966
ATTENDEE:3. letnik (Fizika, 1. stopnja)
CATEGORIES:Entry,Standard
COLOR:darkgreen
DESCRIPTION:Predmet: Zajemanje in obdelava podatkov (FIZ-3)\, Vaje (V)\nLe
 tniki: 3. letnik (Fizika\, 1. stopnja)\nIzvajalci: Dušan Ponikvar\nProsto
 r: EL
LOCATION:EL
ORGANIZER:Dušan Ponikvar
RELATED-TO:fmf-AFLABS-URNIK:srecanje:5294
X-WR-TIMEZONE:Europe/Ljubljana
END:VEVENT
BEGIN:VEVENT
SUMMARY:Zajemanje in obdelava podatkov (FIZ-3)\, Vaje (V)
DTSTART;TZID=Europe/Ljubljana:20210108T120000
DTEND;TZID=Europe/Ljubljana:20210108T140000
DTSTAMP:20260424T145112Z
UID:fmf-AFLABS-URNIK:premaknjeno-srecanje:121967
ATTENDEE:3. letnik (Fizika, 1. stopnja)
CATEGORIES:Entry,Standard
COLOR:darkgreen
DESCRIPTION:Predmet: Zajemanje in obdelava podatkov (FIZ-3)\, Vaje (V)\nLe
 tniki: 3. letnik (Fizika\, 1. stopnja)\nIzvajalci: Dušan Ponikvar\nProsto
 r: EL
LOCATION:EL
ORGANIZER:Dušan Ponikvar
RELATED-TO:fmf-AFLABS-URNIK:srecanje:5294
X-WR-TIMEZONE:Europe/Ljubljana
END:VEVENT
BEGIN:VEVENT
SUMMARY:Zajemanje in obdelava podatkov (FIZ-3)\, Vaje (V)
DTSTART;TZID=Europe/Ljubljana:20210115T120000
DTEND;TZID=Europe/Ljubljana:20210115T140000
DTSTAMP:20260424T145112Z
UID:fmf-AFLABS-URNIK:premaknjeno-srecanje:121968
ATTENDEE:3. letnik (Fizika, 1. stopnja)
CATEGORIES:Entry,Standard
COLOR:darkgreen
DESCRIPTION:Predmet: Zajemanje in obdelava podatkov (FIZ-3)\, Vaje (V)\nLe
 tniki: 3. letnik (Fizika\, 1. stopnja)\nIzvajalci: Dušan Ponikvar\nProsto
 r: EL
LOCATION:EL
ORGANIZER:Dušan Ponikvar
RELATED-TO:fmf-AFLABS-URNIK:srecanje:5294
X-WR-TIMEZONE:Europe/Ljubljana
END:VEVENT
BEGIN:VEVENT
SUMMARY:Elektronika v fiziki (APF-2)\, Predavanja (P)
DTSTART;TZID=Europe/Ljubljana:20210215T080000
DTEND;TZID=Europe/Ljubljana:20210215T110000
DTSTAMP:20260424T145112Z
UID:fmf-AFLABS-URNIK:premaknjeno-srecanje:18982
ATTENDEE:2. letnik (Aplikativna fizika)
CATEGORIES:Entry,Standard
COLOR:darkgreen
DESCRIPTION:Predmet: Elektronika v fiziki (APF-2)\, Predavanja (P)\nLetnik
 i: 2. letnik (Aplikativna fizika)\nIzvajalci: Dušan Ponikvar\nProstor: F6
LOCATION:F6
ORGANIZER:Dušan Ponikvar
RELATED-TO:fmf-AFLABS-URNIK:srecanje:5509
X-WR-TIMEZONE:Europe/Ljubljana
END:VEVENT
BEGIN:VEVENT
SUMMARY:Elektronika v fiziki (APF-2)\, Predavanja (P)
DTSTART;TZID=Europe/Ljubljana:20210222T080000
DTEND;TZID=Europe/Ljubljana:20210222T110000
DTSTAMP:20260424T145112Z
UID:fmf-AFLABS-URNIK:premaknjeno-srecanje:18983
ATTENDEE:2. letnik (Aplikativna fizika)
CATEGORIES:Entry,Standard
COLOR:darkgreen
DESCRIPTION:Predmet: Elektronika v fiziki (APF-2)\, Predavanja (P)\nLetnik
 i: 2. letnik (Aplikativna fizika)\nIzvajalci: Dušan Ponikvar\nProstor: F6
LOCATION:F6
ORGANIZER:Dušan Ponikvar
RELATED-TO:fmf-AFLABS-URNIK:srecanje:5509
X-WR-TIMEZONE:Europe/Ljubljana
END:VEVENT
BEGIN:VEVENT
SUMMARY:Elektronika v fiziki (APF-2)\, Predavanja (P)
DTSTART;TZID=Europe/Ljubljana:20210301T080000
DTEND;TZID=Europe/Ljubljana:20210301T110000
DTSTAMP:20260424T145112Z
UID:fmf-AFLABS-URNIK:premaknjeno-srecanje:18984
ATTENDEE:2. letnik (Aplikativna fizika)
CATEGORIES:Entry,Standard
COLOR:darkgreen
DESCRIPTION:Predmet: Elektronika v fiziki (APF-2)\, Predavanja (P)\nLetnik
 i: 2. letnik (Aplikativna fizika)\nIzvajalci: Dušan Ponikvar\nProstor: F6
LOCATION:F6
ORGANIZER:Dušan Ponikvar
RELATED-TO:fmf-AFLABS-URNIK:srecanje:5509
X-WR-TIMEZONE:Europe/Ljubljana
END:VEVENT
BEGIN:VEVENT
SUMMARY:Elektronika v fiziki (APF-2)\, Predavanja (P)
DTSTART;TZID=Europe/Ljubljana:20210308T080000
DTEND;TZID=Europe/Ljubljana:20210308T110000
DTSTAMP:20260424T145112Z
UID:fmf-AFLABS-URNIK:premaknjeno-srecanje:18985
ATTENDEE:2. letnik (Aplikativna fizika)
CATEGORIES:Entry,Standard
COLOR:darkgreen
DESCRIPTION:Predmet: Elektronika v fiziki (APF-2)\, Predavanja (P)\nLetnik
 i: 2. letnik (Aplikativna fizika)\nIzvajalci: Dušan Ponikvar\nProstor: F6
LOCATION:F6
ORGANIZER:Dušan Ponikvar
RELATED-TO:fmf-AFLABS-URNIK:srecanje:5509
X-WR-TIMEZONE:Europe/Ljubljana
END:VEVENT
BEGIN:VEVENT
SUMMARY:Elektronika II (FIZ-2)\, Predavanja (P)
DTSTART;TZID=Europe/Ljubljana:20210216T100000
DTEND;TZID=Europe/Ljubljana:20210216T120000
DTSTAMP:20260424T145112Z
UID:fmf-AFLABS-URNIK:premaknjeno-srecanje:18752
ATTENDEE:2. letnik (Fizika, 1. stopnja)
CATEGORIES:Entry,Standard
COLOR:darkgreen
DESCRIPTION:Predmet: Elektronika II (FIZ-2)\, Predavanja (P)\nLetniki: 2. 
 letnik (Fizika\, 1. stopnja)\nIzvajalci: Dušan Ponikvar\nProstor: F4
LOCATION:F4
ORGANIZER:Dušan Ponikvar
RELATED-TO:fmf-AFLABS-URNIK:srecanje:5507
X-WR-TIMEZONE:Europe/Ljubljana
END:VEVENT
BEGIN:VEVENT
SUMMARY:Elektronika II (FIZ-2)\, Predavanja (P)
DTSTART;TZID=Europe/Ljubljana:20210223T100000
DTEND;TZID=Europe/Ljubljana:20210223T120000
DTSTAMP:20260424T145112Z
UID:fmf-AFLABS-URNIK:premaknjeno-srecanje:18753
ATTENDEE:2. letnik (Fizika, 1. stopnja)
CATEGORIES:Entry,Standard
COLOR:darkgreen
DESCRIPTION:Predmet: Elektronika II (FIZ-2)\, Predavanja (P)\nLetniki: 2. 
 letnik (Fizika\, 1. stopnja)\nIzvajalci: Dušan Ponikvar\nProstor: F4
LOCATION:F4
ORGANIZER:Dušan Ponikvar
RELATED-TO:fmf-AFLABS-URNIK:srecanje:5507
X-WR-TIMEZONE:Europe/Ljubljana
END:VEVENT
BEGIN:VEVENT
SUMMARY:Elektronika II (FIZ-2)\, Predavanja (P)
DTSTART;TZID=Europe/Ljubljana:20210302T100000
DTEND;TZID=Europe/Ljubljana:20210302T120000
DTSTAMP:20260424T145112Z
UID:fmf-AFLABS-URNIK:premaknjeno-srecanje:18754
ATTENDEE:2. letnik (Fizika, 1. stopnja)
CATEGORIES:Entry,Standard
COLOR:darkgreen
DESCRIPTION:Predmet: Elektronika II (FIZ-2)\, Predavanja (P)\nLetniki: 2. 
 letnik (Fizika\, 1. stopnja)\nIzvajalci: Dušan Ponikvar\nProstor: F4
LOCATION:F4
ORGANIZER:Dušan Ponikvar
RELATED-TO:fmf-AFLABS-URNIK:srecanje:5507
X-WR-TIMEZONE:Europe/Ljubljana
END:VEVENT
BEGIN:VEVENT
SUMMARY:Elektronski praktikum (FIZ-2)\, Vaje (V)
DTSTART;TZID=Europe/Ljubljana:20210217T150000
DTEND;TZID=Europe/Ljubljana:20210217T180000
DTSTAMP:20260424T145112Z
UID:fmf-AFLABS-URNIK:premaknjeno-srecanje:19232
ATTENDEE:2. letnik (Fizika, 1. stopnja)
CATEGORIES:Entry,Standard
COLOR:darkgreen
DESCRIPTION:Predmet: Elektronski praktikum (FIZ-2)\, Vaje (V)\nLetniki: 2.
  letnik (Fizika\, 1. stopnja)\nIzvajalci: Dušan Ponikvar\nProstor: EP
LOCATION:EP
ORGANIZER:Dušan Ponikvar
RELATED-TO:fmf-AFLABS-URNIK:srecanje:5512
X-WR-TIMEZONE:Europe/Ljubljana
END:VEVENT
BEGIN:VEVENT
SUMMARY:Elektronski praktikum (FIZ-2)\, Vaje (V)
DTSTART;TZID=Europe/Ljubljana:20210224T150000
DTEND;TZID=Europe/Ljubljana:20210224T180000
DTSTAMP:20260424T145112Z
UID:fmf-AFLABS-URNIK:premaknjeno-srecanje:19233
ATTENDEE:2. letnik (Fizika, 1. stopnja)
CATEGORIES:Entry,Standard
COLOR:darkgreen
DESCRIPTION:Predmet: Elektronski praktikum (FIZ-2)\, Vaje (V)\nLetniki: 2.
  letnik (Fizika\, 1. stopnja)\nIzvajalci: Dušan Ponikvar\nProstor: EP
LOCATION:EP
ORGANIZER:Dušan Ponikvar
RELATED-TO:fmf-AFLABS-URNIK:srecanje:5512
X-WR-TIMEZONE:Europe/Ljubljana
END:VEVENT
BEGIN:VEVENT
SUMMARY:Elektronski praktikum (FIZ-2)\, Vaje (V)
DTSTART;TZID=Europe/Ljubljana:20210303T150000
DTEND;TZID=Europe/Ljubljana:20210303T180000
DTSTAMP:20260424T145112Z
UID:fmf-AFLABS-URNIK:premaknjeno-srecanje:19234
ATTENDEE:2. letnik (Fizika, 1. stopnja)
CATEGORIES:Entry,Standard
COLOR:darkgreen
DESCRIPTION:Predmet: Elektronski praktikum (FIZ-2)\, Vaje (V)\nLetniki: 2.
  letnik (Fizika\, 1. stopnja)\nIzvajalci: Dušan Ponikvar\nProstor: EP
LOCATION:EP
ORGANIZER:Dušan Ponikvar
RELATED-TO:fmf-AFLABS-URNIK:srecanje:5512
X-WR-TIMEZONE:Europe/Ljubljana
END:VEVENT
END:VCALENDAR
