BEGIN:VCALENDAR
VERSION:2.0
PRODID:-//AFLabs urnik izvoz - fmf//aflabs.si//SI
DTSTAMP:20260425T010303Z
NAME:UL FMF urnik
REFRESH-INTERVAL:PT1H
SOURCE:https://urnik.fmf.uni-lj.si/en/teacher/1102?day=2024-04-08&export=1
URL:https://urnik.fmf.uni-lj.si/en/teacher/1102?day=2024-04-08&export=1
X-PUBLISHED-TTL:PT1H
X-WR-CALNAME:UL FMF urnik
X-WR-TIMEZONE:Europe/Ljubljana
BEGIN:VTIMEZONE
TZID:Europe/Ljubljana
BEGIN:DAYLIGHT
DTSTART:20260329T020000
RDATE:20260329T020000
RDATE:20270328T020000
TZNAME:CEST
TZOFFSETFROM:+0100
TZOFFSETTO:+0200
END:DAYLIGHT
BEGIN:STANDARD
DTSTART:20261025T030000
RDATE:20261025T030000
RDATE:20271031T030000
TZNAME:CET
TZOFFSETFROM:+0200
TZOFFSETTO:+0100
END:STANDARD
END:VTIMEZONE
BEGIN:VEVENT
SUMMARY:Seminar skupine za fiziko mehke in delno urejene snovi ()\, Semina
 r (S)
DTSTART;TZID=Europe/Ljubljana:20240220T100000
DTEND;TZID=Europe/Ljubljana:20240220T120000
DTSTAMP:20260425T010303Z
UID:fmf-AFLABS-URNIK:premaknjeno-srecanje:136458
CATEGORIES:Entry,Standard
COLOR:darkgreen
DESCRIPTION:Predmet: Seminar skupine za fiziko mehke in delno urejene snov
 i ()\, Seminar (S)\nLetniki: \nIzvajalci: Polona Aupič\, Enej Caf\, Simon
  Čopar\, Andraž Gnidovec\, Žiga Kos\, Nika Kralj\, Matevž Marinčič\,
  Peter Marinko\, Urban Mur\, Miha Ravnik\, Peter Ropač\, Andreja Šarlah\
 , Gregor Skačej\, Daniel Svenšek\, Jaka Zaplotnik\, Slobodan Žumer\nPro
 stor: F7
LOCATION:F7
ORGANIZER:Polona Aupič, Enej Caf, Simon Čopar, Andraž Gnidovec, Žiga K
 os, Nika Kralj, Matevž Marinčič, Peter Marinko, Urban Mur, Miha Ravnik,
  Peter Ropač, Andreja Šarlah, Gregor Skačej, Daniel Svenšek, Jaka Zapl
 otnik, Slobodan Žumer
RELATED-TO:fmf-AFLABS-URNIK:srecanje:10383
X-WR-TIMEZONE:Europe/Ljubljana
END:VEVENT
BEGIN:VEVENT
SUMMARY:Seminar skupine za fiziko mehke in delno urejene snovi ()\, Semina
 r (S)
DTSTART;TZID=Europe/Ljubljana:20240227T100000
DTEND;TZID=Europe/Ljubljana:20240227T120000
DTSTAMP:20260425T010303Z
UID:fmf-AFLABS-URNIK:premaknjeno-srecanje:136459
CATEGORIES:Entry,Standard
COLOR:darkgreen
DESCRIPTION:Predmet: Seminar skupine za fiziko mehke in delno urejene snov
 i ()\, Seminar (S)\nLetniki: \nIzvajalci: Polona Aupič\, Enej Caf\, Simon
  Čopar\, Andraž Gnidovec\, Žiga Kos\, Nika Kralj\, Matevž Marinčič\,
  Peter Marinko\, Urban Mur\, Miha Ravnik\, Peter Ropač\, Andreja Šarlah\
 , Gregor Skačej\, Daniel Svenšek\, Jaka Zaplotnik\, Slobodan Žumer\nPro
 stor: F7
LOCATION:F7
ORGANIZER:Polona Aupič, Enej Caf, Simon Čopar, Andraž Gnidovec, Žiga K
 os, Nika Kralj, Matevž Marinčič, Peter Marinko, Urban Mur, Miha Ravnik,
  Peter Ropač, Andreja Šarlah, Gregor Skačej, Daniel Svenšek, Jaka Zapl
 otnik, Slobodan Žumer
RELATED-TO:fmf-AFLABS-URNIK:srecanje:10383
X-WR-TIMEZONE:Europe/Ljubljana
END:VEVENT
BEGIN:VEVENT
SUMMARY:Seminar skupine za fiziko mehke in delno urejene snovi ()\, Semina
 r (S)
DTSTART;TZID=Europe/Ljubljana:20240305T100000
DTEND;TZID=Europe/Ljubljana:20240305T120000
DTSTAMP:20260425T010303Z
UID:fmf-AFLABS-URNIK:premaknjeno-srecanje:136460
CATEGORIES:Entry,Standard
COLOR:darkgreen
DESCRIPTION:Predmet: Seminar skupine za fiziko mehke in delno urejene snov
 i ()\, Seminar (S)\nLetniki: \nIzvajalci: Polona Aupič\, Enej Caf\, Simon
  Čopar\, Andraž Gnidovec\, Žiga Kos\, Nika Kralj\, Matevž Marinčič\,
  Peter Marinko\, Urban Mur\, Miha Ravnik\, Peter Ropač\, Andreja Šarlah\
 , Gregor Skačej\, Daniel Svenšek\, Jaka Zaplotnik\, Slobodan Žumer\nPro
 stor: F7
LOCATION:F7
ORGANIZER:Polona Aupič, Enej Caf, Simon Čopar, Andraž Gnidovec, Žiga K
 os, Nika Kralj, Matevž Marinčič, Peter Marinko, Urban Mur, Miha Ravnik,
  Peter Ropač, Andreja Šarlah, Gregor Skačej, Daniel Svenšek, Jaka Zapl
 otnik, Slobodan Žumer
RELATED-TO:fmf-AFLABS-URNIK:srecanje:10383
X-WR-TIMEZONE:Europe/Ljubljana
END:VEVENT
BEGIN:VEVENT
SUMMARY:Seminar skupine za fiziko mehke in delno urejene snovi ()\, Semina
 r (S)
DTSTART;TZID=Europe/Ljubljana:20240312T100000
DTEND;TZID=Europe/Ljubljana:20240312T120000
DTSTAMP:20260425T010303Z
UID:fmf-AFLABS-URNIK:premaknjeno-srecanje:136461
CATEGORIES:Entry,Standard
COLOR:darkgreen
DESCRIPTION:Predmet: Seminar skupine za fiziko mehke in delno urejene snov
 i ()\, Seminar (S)\nLetniki: \nIzvajalci: Polona Aupič\, Enej Caf\, Simon
  Čopar\, Andraž Gnidovec\, Žiga Kos\, Nika Kralj\, Matevž Marinčič\,
  Peter Marinko\, Urban Mur\, Miha Ravnik\, Peter Ropač\, Andreja Šarlah\
 , Gregor Skačej\, Daniel Svenšek\, Jaka Zaplotnik\, Slobodan Žumer\nPro
 stor: F7
LOCATION:F7
ORGANIZER:Polona Aupič, Enej Caf, Simon Čopar, Andraž Gnidovec, Žiga K
 os, Nika Kralj, Matevž Marinčič, Peter Marinko, Urban Mur, Miha Ravnik,
  Peter Ropač, Andreja Šarlah, Gregor Skačej, Daniel Svenšek, Jaka Zapl
 otnik, Slobodan Žumer
RELATED-TO:fmf-AFLABS-URNIK:srecanje:10383
X-WR-TIMEZONE:Europe/Ljubljana
END:VEVENT
BEGIN:VEVENT
SUMMARY:Seminar skupine za fiziko mehke in delno urejene snovi ()\, Semina
 r (S)
DTSTART;TZID=Europe/Ljubljana:20240319T100000
DTEND;TZID=Europe/Ljubljana:20240319T120000
DTSTAMP:20260425T010303Z
UID:fmf-AFLABS-URNIK:premaknjeno-srecanje:136462
CATEGORIES:Entry,Standard
COLOR:darkgreen
DESCRIPTION:Predmet: Seminar skupine za fiziko mehke in delno urejene snov
 i ()\, Seminar (S)\nLetniki: \nIzvajalci: Polona Aupič\, Enej Caf\, Simon
  Čopar\, Andraž Gnidovec\, Žiga Kos\, Nika Kralj\, Matevž Marinčič\,
  Peter Marinko\, Urban Mur\, Miha Ravnik\, Peter Ropač\, Andreja Šarlah\
 , Gregor Skačej\, Daniel Svenšek\, Jaka Zaplotnik\, Slobodan Žumer\nPro
 stor: F7
LOCATION:F7
ORGANIZER:Polona Aupič, Enej Caf, Simon Čopar, Andraž Gnidovec, Žiga K
 os, Nika Kralj, Matevž Marinčič, Peter Marinko, Urban Mur, Miha Ravnik,
  Peter Ropač, Andreja Šarlah, Gregor Skačej, Daniel Svenšek, Jaka Zapl
 otnik, Slobodan Žumer
RELATED-TO:fmf-AFLABS-URNIK:srecanje:10383
X-WR-TIMEZONE:Europe/Ljubljana
END:VEVENT
BEGIN:VEVENT
SUMMARY:Seminar skupine za fiziko mehke in delno urejene snovi ()\, Semina
 r (S)
DTSTART;TZID=Europe/Ljubljana:20240326T100000
DTEND;TZID=Europe/Ljubljana:20240326T120000
DTSTAMP:20260425T010303Z
UID:fmf-AFLABS-URNIK:premaknjeno-srecanje:136463
CATEGORIES:Entry,Standard
COLOR:darkgreen
DESCRIPTION:Predmet: Seminar skupine za fiziko mehke in delno urejene snov
 i ()\, Seminar (S)\nLetniki: \nIzvajalci: Polona Aupič\, Enej Caf\, Simon
  Čopar\, Andraž Gnidovec\, Žiga Kos\, Nika Kralj\, Matevž Marinčič\,
  Peter Marinko\, Urban Mur\, Miha Ravnik\, Peter Ropač\, Andreja Šarlah\
 , Gregor Skačej\, Daniel Svenšek\, Jaka Zaplotnik\, Slobodan Žumer\nPro
 stor: F7
LOCATION:F7
ORGANIZER:Polona Aupič, Enej Caf, Simon Čopar, Andraž Gnidovec, Žiga K
 os, Nika Kralj, Matevž Marinčič, Peter Marinko, Urban Mur, Miha Ravnik,
  Peter Ropač, Andreja Šarlah, Gregor Skačej, Daniel Svenšek, Jaka Zapl
 otnik, Slobodan Žumer
RELATED-TO:fmf-AFLABS-URNIK:srecanje:10383
X-WR-TIMEZONE:Europe/Ljubljana
END:VEVENT
BEGIN:VEVENT
SUMMARY:Seminar skupine za fiziko mehke in delno urejene snovi ()\, Semina
 r (S)
DTSTART;TZID=Europe/Ljubljana:20240402T100000
DTEND;TZID=Europe/Ljubljana:20240402T120000
DTSTAMP:20260425T010303Z
UID:fmf-AFLABS-URNIK:premaknjeno-srecanje:136464
CATEGORIES:Entry,Standard
COLOR:darkgreen
DESCRIPTION:Predmet: Seminar skupine za fiziko mehke in delno urejene snov
 i ()\, Seminar (S)\nLetniki: \nIzvajalci: Polona Aupič\, Enej Caf\, Simon
  Čopar\, Andraž Gnidovec\, Žiga Kos\, Nika Kralj\, Matevž Marinčič\,
  Peter Marinko\, Urban Mur\, Miha Ravnik\, Peter Ropač\, Andreja Šarlah\
 , Gregor Skačej\, Daniel Svenšek\, Jaka Zaplotnik\, Slobodan Žumer\nPro
 stor: F7
LOCATION:F7
ORGANIZER:Polona Aupič, Enej Caf, Simon Čopar, Andraž Gnidovec, Žiga K
 os, Nika Kralj, Matevž Marinčič, Peter Marinko, Urban Mur, Miha Ravnik,
  Peter Ropač, Andreja Šarlah, Gregor Skačej, Daniel Svenšek, Jaka Zapl
 otnik, Slobodan Žumer
RELATED-TO:fmf-AFLABS-URNIK:srecanje:10383
X-WR-TIMEZONE:Europe/Ljubljana
END:VEVENT
BEGIN:VEVENT
SUMMARY:Seminar skupine za fiziko mehke in delno urejene snovi ()\, Semina
 r (S)
DTSTART;TZID=Europe/Ljubljana:20240409T100000
DTEND;TZID=Europe/Ljubljana:20240409T120000
DTSTAMP:20260425T010303Z
UID:fmf-AFLABS-URNIK:premaknjeno-srecanje:136465
CATEGORIES:Entry,Standard
COLOR:darkgreen
DESCRIPTION:Predmet: Seminar skupine za fiziko mehke in delno urejene snov
 i ()\, Seminar (S)\nLetniki: \nIzvajalci: Polona Aupič\, Enej Caf\, Simon
  Čopar\, Andraž Gnidovec\, Žiga Kos\, Nika Kralj\, Matevž Marinčič\,
  Peter Marinko\, Urban Mur\, Miha Ravnik\, Peter Ropač\, Andreja Šarlah\
 , Gregor Skačej\, Daniel Svenšek\, Jaka Zaplotnik\, Slobodan Žumer\nPro
 stor: F7
LOCATION:F7
ORGANIZER:Polona Aupič, Enej Caf, Simon Čopar, Andraž Gnidovec, Žiga K
 os, Nika Kralj, Matevž Marinčič, Peter Marinko, Urban Mur, Miha Ravnik,
  Peter Ropač, Andreja Šarlah, Gregor Skačej, Daniel Svenšek, Jaka Zapl
 otnik, Slobodan Žumer
RELATED-TO:fmf-AFLABS-URNIK:srecanje:10383
X-WR-TIMEZONE:Europe/Ljubljana
END:VEVENT
BEGIN:VEVENT
SUMMARY:Seminar skupine za fiziko mehke in delno urejene snovi ()\, Semina
 r (S)
DTSTART;TZID=Europe/Ljubljana:20240416T100000
DTEND;TZID=Europe/Ljubljana:20240416T120000
DTSTAMP:20260425T010303Z
UID:fmf-AFLABS-URNIK:premaknjeno-srecanje:136466
CATEGORIES:Entry,Standard
COLOR:darkgreen
DESCRIPTION:Predmet: Seminar skupine za fiziko mehke in delno urejene snov
 i ()\, Seminar (S)\nLetniki: \nIzvajalci: Polona Aupič\, Enej Caf\, Simon
  Čopar\, Andraž Gnidovec\, Žiga Kos\, Nika Kralj\, Matevž Marinčič\,
  Peter Marinko\, Urban Mur\, Miha Ravnik\, Peter Ropač\, Andreja Šarlah\
 , Gregor Skačej\, Daniel Svenšek\, Jaka Zaplotnik\, Slobodan Žumer\nPro
 stor: F7
LOCATION:F7
ORGANIZER:Polona Aupič, Enej Caf, Simon Čopar, Andraž Gnidovec, Žiga K
 os, Nika Kralj, Matevž Marinčič, Peter Marinko, Urban Mur, Miha Ravnik,
  Peter Ropač, Andreja Šarlah, Gregor Skačej, Daniel Svenšek, Jaka Zapl
 otnik, Slobodan Žumer
RELATED-TO:fmf-AFLABS-URNIK:srecanje:10383
X-WR-TIMEZONE:Europe/Ljubljana
END:VEVENT
BEGIN:VEVENT
SUMMARY:Seminar skupine za fiziko mehke in delno urejene snovi ()\, Semina
 r (S)
DTSTART;TZID=Europe/Ljubljana:20240423T100000
DTEND;TZID=Europe/Ljubljana:20240423T120000
DTSTAMP:20260425T010303Z
UID:fmf-AFLABS-URNIK:premaknjeno-srecanje:136467
CATEGORIES:Entry,Standard
COLOR:darkgreen
DESCRIPTION:Predmet: Seminar skupine za fiziko mehke in delno urejene snov
 i ()\, Seminar (S)\nLetniki: \nIzvajalci: Polona Aupič\, Enej Caf\, Simon
  Čopar\, Andraž Gnidovec\, Žiga Kos\, Nika Kralj\, Matevž Marinčič\,
  Peter Marinko\, Urban Mur\, Miha Ravnik\, Peter Ropač\, Andreja Šarlah\
 , Gregor Skačej\, Daniel Svenšek\, Jaka Zaplotnik\, Slobodan Žumer\nPro
 stor: F7
LOCATION:F7
ORGANIZER:Polona Aupič, Enej Caf, Simon Čopar, Andraž Gnidovec, Žiga K
 os, Nika Kralj, Matevž Marinčič, Peter Marinko, Urban Mur, Miha Ravnik,
  Peter Ropač, Andreja Šarlah, Gregor Skačej, Daniel Svenšek, Jaka Zapl
 otnik, Slobodan Žumer
RELATED-TO:fmf-AFLABS-URNIK:srecanje:10383
X-WR-TIMEZONE:Europe/Ljubljana
END:VEVENT
BEGIN:VEVENT
SUMMARY:Seminar skupine za fiziko mehke in delno urejene snovi ()\, Semina
 r (S)
DTSTART;TZID=Europe/Ljubljana:20240430T100000
DTEND;TZID=Europe/Ljubljana:20240430T120000
DTSTAMP:20260425T010303Z
UID:fmf-AFLABS-URNIK:premaknjeno-srecanje:136468
CATEGORIES:Entry,Standard
COLOR:darkgreen
DESCRIPTION:Predmet: Seminar skupine za fiziko mehke in delno urejene snov
 i ()\, Seminar (S)\nLetniki: \nIzvajalci: Polona Aupič\, Enej Caf\, Simon
  Čopar\, Andraž Gnidovec\, Žiga Kos\, Nika Kralj\, Matevž Marinčič\,
  Peter Marinko\, Urban Mur\, Miha Ravnik\, Peter Ropač\, Andreja Šarlah\
 , Gregor Skačej\, Daniel Svenšek\, Jaka Zaplotnik\, Slobodan Žumer\nPro
 stor: F7
LOCATION:F7
ORGANIZER:Polona Aupič, Enej Caf, Simon Čopar, Andraž Gnidovec, Žiga K
 os, Nika Kralj, Matevž Marinčič, Peter Marinko, Urban Mur, Miha Ravnik,
  Peter Ropač, Andreja Šarlah, Gregor Skačej, Daniel Svenšek, Jaka Zapl
 otnik, Slobodan Žumer
RELATED-TO:fmf-AFLABS-URNIK:srecanje:10383
X-WR-TIMEZONE:Europe/Ljubljana
END:VEVENT
BEGIN:VEVENT
SUMMARY:Seminar skupine za fiziko mehke in delno urejene snovi ()\, Semina
 r (S)
DTSTART;TZID=Europe/Ljubljana:20240507T100000
DTEND;TZID=Europe/Ljubljana:20240507T120000
DTSTAMP:20260425T010303Z
UID:fmf-AFLABS-URNIK:premaknjeno-srecanje:136469
CATEGORIES:Entry,Standard
COLOR:darkgreen
DESCRIPTION:Predmet: Seminar skupine za fiziko mehke in delno urejene snov
 i ()\, Seminar (S)\nLetniki: \nIzvajalci: Polona Aupič\, Enej Caf\, Simon
  Čopar\, Andraž Gnidovec\, Žiga Kos\, Nika Kralj\, Matevž Marinčič\,
  Peter Marinko\, Urban Mur\, Miha Ravnik\, Peter Ropač\, Andreja Šarlah\
 , Gregor Skačej\, Daniel Svenšek\, Jaka Zaplotnik\, Slobodan Žumer\nPro
 stor: F7
LOCATION:F7
ORGANIZER:Polona Aupič, Enej Caf, Simon Čopar, Andraž Gnidovec, Žiga K
 os, Nika Kralj, Matevž Marinčič, Peter Marinko, Urban Mur, Miha Ravnik,
  Peter Ropač, Andreja Šarlah, Gregor Skačej, Daniel Svenšek, Jaka Zapl
 otnik, Slobodan Žumer
RELATED-TO:fmf-AFLABS-URNIK:srecanje:10383
X-WR-TIMEZONE:Europe/Ljubljana
END:VEVENT
BEGIN:VEVENT
SUMMARY:Seminar skupine za fiziko mehke in delno urejene snovi ()\, Semina
 r (S)
DTSTART;TZID=Europe/Ljubljana:20240514T100000
DTEND;TZID=Europe/Ljubljana:20240514T120000
DTSTAMP:20260425T010303Z
UID:fmf-AFLABS-URNIK:premaknjeno-srecanje:136470
CATEGORIES:Entry,Standard
COLOR:darkgreen
DESCRIPTION:Predmet: Seminar skupine za fiziko mehke in delno urejene snov
 i ()\, Seminar (S)\nLetniki: \nIzvajalci: Polona Aupič\, Enej Caf\, Simon
  Čopar\, Andraž Gnidovec\, Žiga Kos\, Nika Kralj\, Matevž Marinčič\,
  Peter Marinko\, Urban Mur\, Miha Ravnik\, Peter Ropač\, Andreja Šarlah\
 , Gregor Skačej\, Daniel Svenšek\, Jaka Zaplotnik\, Slobodan Žumer\nPro
 stor: F7
LOCATION:F7
ORGANIZER:Polona Aupič, Enej Caf, Simon Čopar, Andraž Gnidovec, Žiga K
 os, Nika Kralj, Matevž Marinčič, Peter Marinko, Urban Mur, Miha Ravnik,
  Peter Ropač, Andreja Šarlah, Gregor Skačej, Daniel Svenšek, Jaka Zapl
 otnik, Slobodan Žumer
RELATED-TO:fmf-AFLABS-URNIK:srecanje:10383
X-WR-TIMEZONE:Europe/Ljubljana
END:VEVENT
BEGIN:VEVENT
SUMMARY:Seminar skupine za fiziko mehke in delno urejene snovi ()\, Semina
 r (S)
DTSTART;TZID=Europe/Ljubljana:20240521T100000
DTEND;TZID=Europe/Ljubljana:20240521T120000
DTSTAMP:20260425T010303Z
UID:fmf-AFLABS-URNIK:premaknjeno-srecanje:136471
CATEGORIES:Entry,Standard
COLOR:darkgreen
DESCRIPTION:Predmet: Seminar skupine za fiziko mehke in delno urejene snov
 i ()\, Seminar (S)\nLetniki: \nIzvajalci: Polona Aupič\, Enej Caf\, Simon
  Čopar\, Andraž Gnidovec\, Žiga Kos\, Nika Kralj\, Matevž Marinčič\,
  Peter Marinko\, Urban Mur\, Miha Ravnik\, Peter Ropač\, Andreja Šarlah\
 , Gregor Skačej\, Daniel Svenšek\, Jaka Zaplotnik\, Slobodan Žumer\nPro
 stor: F7
LOCATION:F7
ORGANIZER:Polona Aupič, Enej Caf, Simon Čopar, Andraž Gnidovec, Žiga K
 os, Nika Kralj, Matevž Marinčič, Peter Marinko, Urban Mur, Miha Ravnik,
  Peter Ropač, Andreja Šarlah, Gregor Skačej, Daniel Svenšek, Jaka Zapl
 otnik, Slobodan Žumer
RELATED-TO:fmf-AFLABS-URNIK:srecanje:10383
X-WR-TIMEZONE:Europe/Ljubljana
END:VEVENT
BEGIN:VEVENT
SUMMARY:Seminar skupine za fiziko mehke in delno urejene snovi ()\, Semina
 r (S)
DTSTART;TZID=Europe/Ljubljana:20240528T100000
DTEND;TZID=Europe/Ljubljana:20240528T120000
DTSTAMP:20260425T010303Z
UID:fmf-AFLABS-URNIK:premaknjeno-srecanje:136472
CATEGORIES:Entry,Standard
COLOR:darkgreen
DESCRIPTION:Predmet: Seminar skupine za fiziko mehke in delno urejene snov
 i ()\, Seminar (S)\nLetniki: \nIzvajalci: Polona Aupič\, Enej Caf\, Simon
  Čopar\, Andraž Gnidovec\, Žiga Kos\, Nika Kralj\, Matevž Marinčič\,
  Peter Marinko\, Urban Mur\, Miha Ravnik\, Peter Ropač\, Andreja Šarlah\
 , Gregor Skačej\, Daniel Svenšek\, Jaka Zaplotnik\, Slobodan Žumer\nPro
 stor: F7
LOCATION:F7
ORGANIZER:Polona Aupič, Enej Caf, Simon Čopar, Andraž Gnidovec, Žiga K
 os, Nika Kralj, Matevž Marinčič, Peter Marinko, Urban Mur, Miha Ravnik,
  Peter Ropač, Andreja Šarlah, Gregor Skačej, Daniel Svenšek, Jaka Zapl
 otnik, Slobodan Žumer
RELATED-TO:fmf-AFLABS-URNIK:srecanje:10383
X-WR-TIMEZONE:Europe/Ljubljana
END:VEVENT
BEGIN:VEVENT
SUMMARY:Fizikalni praktikum IV (FIZ-2)\, Laboratorijske vaje (L)\, [5]
DTSTART;TZID=Europe/Ljubljana:20240222T130000
DTEND;TZID=Europe/Ljubljana:20240222T160000
DTSTAMP:20260425T010303Z
UID:fmf-AFLABS-URNIK:premaknjeno-srecanje:124949
ATTENDEE:2. letnik (Fizika, 1. stopnja)
CATEGORIES:Entry,Standard
COLOR:darkgreen
DESCRIPTION:Predmet: Fizikalni praktikum IV (FIZ-2)\, Laboratorijske vaje 
 (L)\, [5]\nLetniki: 2. letnik (Fizika\, 1. stopnja)\nIzvajalci: Peter Ropa
 č\nProstor: Praktikum 2
LOCATION:Praktikum 2
ORGANIZER:Peter Ropač
RELATED-TO:fmf-AFLABS-URNIK:srecanje:9897
X-WR-TIMEZONE:Europe/Ljubljana
END:VEVENT
BEGIN:VEVENT
SUMMARY:Fizikalni praktikum IV (FIZ-2)\, Laboratorijske vaje (L)\, [5]
DTSTART;TZID=Europe/Ljubljana:20240229T130000
DTEND;TZID=Europe/Ljubljana:20240229T160000
DTSTAMP:20260425T010303Z
UID:fmf-AFLABS-URNIK:premaknjeno-srecanje:124950
ATTENDEE:2. letnik (Fizika, 1. stopnja)
CATEGORIES:Entry,Standard
COLOR:darkgreen
DESCRIPTION:Predmet: Fizikalni praktikum IV (FIZ-2)\, Laboratorijske vaje 
 (L)\, [5]\nLetniki: 2. letnik (Fizika\, 1. stopnja)\nIzvajalci: Peter Ropa
 č\nProstor: Praktikum 2
LOCATION:Praktikum 2
ORGANIZER:Peter Ropač
RELATED-TO:fmf-AFLABS-URNIK:srecanje:9897
X-WR-TIMEZONE:Europe/Ljubljana
END:VEVENT
BEGIN:VEVENT
SUMMARY:Fizikalni praktikum IV (FIZ-2)\, Laboratorijske vaje (L)\, [5]
DTSTART;TZID=Europe/Ljubljana:20240307T130000
DTEND;TZID=Europe/Ljubljana:20240307T160000
DTSTAMP:20260425T010303Z
UID:fmf-AFLABS-URNIK:premaknjeno-srecanje:124951
ATTENDEE:2. letnik (Fizika, 1. stopnja)
CATEGORIES:Entry,Standard
COLOR:darkgreen
DESCRIPTION:Predmet: Fizikalni praktikum IV (FIZ-2)\, Laboratorijske vaje 
 (L)\, [5]\nLetniki: 2. letnik (Fizika\, 1. stopnja)\nIzvajalci: Peter Ropa
 č\nProstor: Praktikum 2
LOCATION:Praktikum 2
ORGANIZER:Peter Ropač
RELATED-TO:fmf-AFLABS-URNIK:srecanje:9897
X-WR-TIMEZONE:Europe/Ljubljana
END:VEVENT
BEGIN:VEVENT
SUMMARY:Fizikalni praktikum IV (FIZ-2)\, Laboratorijske vaje (L)\, [5]
DTSTART;TZID=Europe/Ljubljana:20240314T130000
DTEND;TZID=Europe/Ljubljana:20240314T160000
DTSTAMP:20260425T010303Z
UID:fmf-AFLABS-URNIK:premaknjeno-srecanje:124952
ATTENDEE:2. letnik (Fizika, 1. stopnja)
CATEGORIES:Entry,Standard
COLOR:darkgreen
DESCRIPTION:Predmet: Fizikalni praktikum IV (FIZ-2)\, Laboratorijske vaje 
 (L)\, [5]\nLetniki: 2. letnik (Fizika\, 1. stopnja)\nIzvajalci: Peter Ropa
 č\nProstor: Praktikum 2
LOCATION:Praktikum 2
ORGANIZER:Peter Ropač
RELATED-TO:fmf-AFLABS-URNIK:srecanje:9897
X-WR-TIMEZONE:Europe/Ljubljana
END:VEVENT
BEGIN:VEVENT
SUMMARY:Fizikalni praktikum IV (FIZ-2)\, Laboratorijske vaje (L)\, [5]
DTSTART;TZID=Europe/Ljubljana:20240321T130000
DTEND;TZID=Europe/Ljubljana:20240321T160000
DTSTAMP:20260425T010303Z
UID:fmf-AFLABS-URNIK:premaknjeno-srecanje:124953
ATTENDEE:2. letnik (Fizika, 1. stopnja)
CATEGORIES:Entry,Standard
COLOR:darkgreen
DESCRIPTION:Predmet: Fizikalni praktikum IV (FIZ-2)\, Laboratorijske vaje 
 (L)\, [5]\nLetniki: 2. letnik (Fizika\, 1. stopnja)\nIzvajalci: Peter Ropa
 č\nProstor: Praktikum 2
LOCATION:Praktikum 2
ORGANIZER:Peter Ropač
RELATED-TO:fmf-AFLABS-URNIK:srecanje:9897
X-WR-TIMEZONE:Europe/Ljubljana
END:VEVENT
BEGIN:VEVENT
SUMMARY:Fizikalni praktikum IV (FIZ-2)\, Laboratorijske vaje (L)\, [5]
DTSTART;TZID=Europe/Ljubljana:20240328T130000
DTEND;TZID=Europe/Ljubljana:20240328T160000
DTSTAMP:20260425T010303Z
UID:fmf-AFLABS-URNIK:premaknjeno-srecanje:124954
ATTENDEE:2. letnik (Fizika, 1. stopnja)
CATEGORIES:Entry,Standard
COLOR:darkgreen
DESCRIPTION:Predmet: Fizikalni praktikum IV (FIZ-2)\, Laboratorijske vaje 
 (L)\, [5]\nLetniki: 2. letnik (Fizika\, 1. stopnja)\nIzvajalci: Peter Ropa
 č\nProstor: Praktikum 2
LOCATION:Praktikum 2
ORGANIZER:Peter Ropač
RELATED-TO:fmf-AFLABS-URNIK:srecanje:9897
X-WR-TIMEZONE:Europe/Ljubljana
END:VEVENT
BEGIN:VEVENT
SUMMARY:Fizikalni praktikum IV (FIZ-2)\, Laboratorijske vaje (L)\, [5]
DTSTART;TZID=Europe/Ljubljana:20240404T130000
DTEND;TZID=Europe/Ljubljana:20240404T160000
DTSTAMP:20260425T010303Z
UID:fmf-AFLABS-URNIK:premaknjeno-srecanje:124955
ATTENDEE:2. letnik (Fizika, 1. stopnja)
CATEGORIES:Entry,Standard
COLOR:darkgreen
DESCRIPTION:Predmet: Fizikalni praktikum IV (FIZ-2)\, Laboratorijske vaje 
 (L)\, [5]\nLetniki: 2. letnik (Fizika\, 1. stopnja)\nIzvajalci: Peter Ropa
 č\nProstor: Praktikum 2
LOCATION:Praktikum 2
ORGANIZER:Peter Ropač
RELATED-TO:fmf-AFLABS-URNIK:srecanje:9897
X-WR-TIMEZONE:Europe/Ljubljana
END:VEVENT
BEGIN:VEVENT
SUMMARY:Fizikalni praktikum IV (FIZ-2)\, Laboratorijske vaje (L)\, [5]
DTSTART;TZID=Europe/Ljubljana:20240411T130000
DTEND;TZID=Europe/Ljubljana:20240411T160000
DTSTAMP:20260425T010303Z
UID:fmf-AFLABS-URNIK:premaknjeno-srecanje:124956
ATTENDEE:2. letnik (Fizika, 1. stopnja)
CATEGORIES:Entry,Standard
COLOR:darkgreen
DESCRIPTION:Predmet: Fizikalni praktikum IV (FIZ-2)\, Laboratorijske vaje 
 (L)\, [5]\nLetniki: 2. letnik (Fizika\, 1. stopnja)\nIzvajalci: Peter Ropa
 č\nProstor: Praktikum 2
LOCATION:Praktikum 2
ORGANIZER:Peter Ropač
RELATED-TO:fmf-AFLABS-URNIK:srecanje:9897
X-WR-TIMEZONE:Europe/Ljubljana
END:VEVENT
BEGIN:VEVENT
SUMMARY:Fizikalni praktikum IV (FIZ-2)\, Laboratorijske vaje (L)\, [5]
DTSTART;TZID=Europe/Ljubljana:20240418T130000
DTEND;TZID=Europe/Ljubljana:20240418T160000
DTSTAMP:20260425T010303Z
UID:fmf-AFLABS-URNIK:premaknjeno-srecanje:124957
ATTENDEE:2. letnik (Fizika, 1. stopnja)
CATEGORIES:Entry,Standard
COLOR:darkgreen
DESCRIPTION:Predmet: Fizikalni praktikum IV (FIZ-2)\, Laboratorijske vaje 
 (L)\, [5]\nLetniki: 2. letnik (Fizika\, 1. stopnja)\nIzvajalci: Peter Ropa
 č\nProstor: Praktikum 2
LOCATION:Praktikum 2
ORGANIZER:Peter Ropač
RELATED-TO:fmf-AFLABS-URNIK:srecanje:9897
X-WR-TIMEZONE:Europe/Ljubljana
END:VEVENT
BEGIN:VEVENT
SUMMARY:Fizikalni praktikum IV (FIZ-2)\, Laboratorijske vaje (L)\, [5]
DTSTART;TZID=Europe/Ljubljana:20240425T130000
DTEND;TZID=Europe/Ljubljana:20240425T160000
DTSTAMP:20260425T010303Z
UID:fmf-AFLABS-URNIK:premaknjeno-srecanje:124958
ATTENDEE:2. letnik (Fizika, 1. stopnja)
CATEGORIES:Entry,Standard
COLOR:darkgreen
DESCRIPTION:Predmet: Fizikalni praktikum IV (FIZ-2)\, Laboratorijske vaje 
 (L)\, [5]\nLetniki: 2. letnik (Fizika\, 1. stopnja)\nIzvajalci: Peter Ropa
 č\nProstor: Praktikum 2
LOCATION:Praktikum 2
ORGANIZER:Peter Ropač
RELATED-TO:fmf-AFLABS-URNIK:srecanje:9897
X-WR-TIMEZONE:Europe/Ljubljana
END:VEVENT
BEGIN:VEVENT
SUMMARY:Fizikalni praktikum IV (FIZ-2)\, Laboratorijske vaje (L)\, [5]
DTSTART;TZID=Europe/Ljubljana:20240502T130000
DTEND;TZID=Europe/Ljubljana:20240502T160000
DTSTAMP:20260425T010303Z
UID:fmf-AFLABS-URNIK:premaknjeno-srecanje:124959
ATTENDEE:2. letnik (Fizika, 1. stopnja)
CATEGORIES:Entry,Standard
COLOR:darkgreen
DESCRIPTION:Predmet: Fizikalni praktikum IV (FIZ-2)\, Laboratorijske vaje 
 (L)\, [5]\nLetniki: 2. letnik (Fizika\, 1. stopnja)\nIzvajalci: Peter Ropa
 č\nProstor: Praktikum 2
LOCATION:Praktikum 2
ORGANIZER:Peter Ropač
RELATED-TO:fmf-AFLABS-URNIK:srecanje:9897
X-WR-TIMEZONE:Europe/Ljubljana
END:VEVENT
BEGIN:VEVENT
SUMMARY:Fizikalni praktikum IV (FIZ-2)\, Laboratorijske vaje (L)\, [5]
DTSTART;TZID=Europe/Ljubljana:20240509T130000
DTEND;TZID=Europe/Ljubljana:20240509T160000
DTSTAMP:20260425T010303Z
UID:fmf-AFLABS-URNIK:premaknjeno-srecanje:124960
ATTENDEE:2. letnik (Fizika, 1. stopnja)
CATEGORIES:Entry,Standard
COLOR:darkgreen
DESCRIPTION:Predmet: Fizikalni praktikum IV (FIZ-2)\, Laboratorijske vaje 
 (L)\, [5]\nLetniki: 2. letnik (Fizika\, 1. stopnja)\nIzvajalci: Peter Ropa
 č\nProstor: Praktikum 2
LOCATION:Praktikum 2
ORGANIZER:Peter Ropač
RELATED-TO:fmf-AFLABS-URNIK:srecanje:9897
X-WR-TIMEZONE:Europe/Ljubljana
END:VEVENT
BEGIN:VEVENT
SUMMARY:Fizikalni praktikum IV (FIZ-2)\, Laboratorijske vaje (L)\, [5]
DTSTART;TZID=Europe/Ljubljana:20240516T130000
DTEND;TZID=Europe/Ljubljana:20240516T160000
DTSTAMP:20260425T010303Z
UID:fmf-AFLABS-URNIK:premaknjeno-srecanje:124961
ATTENDEE:2. letnik (Fizika, 1. stopnja)
CATEGORIES:Entry,Standard
COLOR:darkgreen
DESCRIPTION:Predmet: Fizikalni praktikum IV (FIZ-2)\, Laboratorijske vaje 
 (L)\, [5]\nLetniki: 2. letnik (Fizika\, 1. stopnja)\nIzvajalci: Peter Ropa
 č\nProstor: Praktikum 2
LOCATION:Praktikum 2
ORGANIZER:Peter Ropač
RELATED-TO:fmf-AFLABS-URNIK:srecanje:9897
X-WR-TIMEZONE:Europe/Ljubljana
END:VEVENT
BEGIN:VEVENT
SUMMARY:Fizikalni praktikum IV (FIZ-2)\, Laboratorijske vaje (L)\, [5]
DTSTART;TZID=Europe/Ljubljana:20240523T130000
DTEND;TZID=Europe/Ljubljana:20240523T160000
DTSTAMP:20260425T010303Z
UID:fmf-AFLABS-URNIK:premaknjeno-srecanje:124962
ATTENDEE:2. letnik (Fizika, 1. stopnja)
CATEGORIES:Entry,Standard
COLOR:darkgreen
DESCRIPTION:Predmet: Fizikalni praktikum IV (FIZ-2)\, Laboratorijske vaje 
 (L)\, [5]\nLetniki: 2. letnik (Fizika\, 1. stopnja)\nIzvajalci: Peter Ropa
 č\nProstor: Praktikum 2
LOCATION:Praktikum 2
ORGANIZER:Peter Ropač
RELATED-TO:fmf-AFLABS-URNIK:srecanje:9897
X-WR-TIMEZONE:Europe/Ljubljana
END:VEVENT
BEGIN:VEVENT
SUMMARY:Fizikalni praktikum IV (FIZ-2)\, Laboratorijske vaje (L)\, [5]
DTSTART;TZID=Europe/Ljubljana:20240530T130000
DTEND;TZID=Europe/Ljubljana:20240530T160000
DTSTAMP:20260425T010303Z
UID:fmf-AFLABS-URNIK:premaknjeno-srecanje:124963
ATTENDEE:2. letnik (Fizika, 1. stopnja)
CATEGORIES:Entry,Standard
COLOR:darkgreen
DESCRIPTION:Predmet: Fizikalni praktikum IV (FIZ-2)\, Laboratorijske vaje 
 (L)\, [5]\nLetniki: 2. letnik (Fizika\, 1. stopnja)\nIzvajalci: Peter Ropa
 č\nProstor: Praktikum 2
LOCATION:Praktikum 2
ORGANIZER:Peter Ropač
RELATED-TO:fmf-AFLABS-URNIK:srecanje:9897
X-WR-TIMEZONE:Europe/Ljubljana
END:VEVENT
END:VCALENDAR
