BEGIN:VCALENDAR
VERSION:2.0
PRODID:-//AFLabs urnik izvoz - fmf//aflabs.si//SI
DTSTAMP:20260422T151358Z
NAME:UL FMF urnik
REFRESH-INTERVAL:PT1H
SOURCE:https://urnik.fmf.uni-lj.si/en/teacher/133?day=2019-01-07&export=1
URL:https://urnik.fmf.uni-lj.si/en/teacher/133?day=2019-01-07&export=1
X-PUBLISHED-TTL:PT1H
X-WR-CALNAME:UL FMF urnik
X-WR-TIMEZONE:Europe/Ljubljana
BEGIN:VTIMEZONE
TZID:Europe/Ljubljana
BEGIN:DAYLIGHT
DTSTART:20260329T020000
RDATE:20260329T020000
RDATE:20270328T020000
TZNAME:CEST
TZOFFSETFROM:+0100
TZOFFSETTO:+0200
END:DAYLIGHT
BEGIN:STANDARD
DTSTART:20261025T030000
RDATE:20261025T030000
RDATE:20271031T030000
TZNAME:CET
TZOFFSETFROM:+0200
TZOFFSETTO:+0100
END:STANDARD
END:VTIMEZONE
BEGIN:VEVENT
SUMMARY:Linearna algebra (APM-1)\, Predavanja (P)
DTSTART;TZID=Europe/Ljubljana:20181004T100000
DTEND;TZID=Europe/Ljubljana:20181004T130000
DTSTAMP:20260422T151358Z
UID:fmf-AFLABS-URNIK:premaknjeno-srecanje:57076
ATTENDEE:1. letnik (APM)
CATEGORIES:Entry,Standard
COLOR:darkgreen
DESCRIPTION:Predmet: Linearna algebra (APM-1)\, Predavanja (P)\nLetniki: 1
 . letnik (APM)\nIzvajalci: Boris Lavrič\nProstor: P.02
LOCATION:P.02
ORGANIZER:Boris Lavrič
RELATED-TO:fmf-AFLABS-URNIK:srecanje:1994
X-WR-TIMEZONE:Europe/Ljubljana
END:VEVENT
BEGIN:VEVENT
SUMMARY:Linearna algebra (APM-1)\, Predavanja (P)
DTSTART;TZID=Europe/Ljubljana:20181011T100000
DTEND;TZID=Europe/Ljubljana:20181011T130000
DTSTAMP:20260422T151358Z
UID:fmf-AFLABS-URNIK:premaknjeno-srecanje:57077
ATTENDEE:1. letnik (APM)
CATEGORIES:Entry,Standard
COLOR:darkgreen
DESCRIPTION:Predmet: Linearna algebra (APM-1)\, Predavanja (P)\nLetniki: 1
 . letnik (APM)\nIzvajalci: Boris Lavrič\nProstor: P.02
LOCATION:P.02
ORGANIZER:Boris Lavrič
RELATED-TO:fmf-AFLABS-URNIK:srecanje:1994
X-WR-TIMEZONE:Europe/Ljubljana
END:VEVENT
BEGIN:VEVENT
SUMMARY:Linearna algebra (APM-1)\, Predavanja (P)
DTSTART;TZID=Europe/Ljubljana:20181018T100000
DTEND;TZID=Europe/Ljubljana:20181018T130000
DTSTAMP:20260422T151358Z
UID:fmf-AFLABS-URNIK:premaknjeno-srecanje:57078
ATTENDEE:1. letnik (APM)
CATEGORIES:Entry,Standard
COLOR:darkgreen
DESCRIPTION:Predmet: Linearna algebra (APM-1)\, Predavanja (P)\nLetniki: 1
 . letnik (APM)\nIzvajalci: Boris Lavrič\nProstor: P.02
LOCATION:P.02
ORGANIZER:Boris Lavrič
RELATED-TO:fmf-AFLABS-URNIK:srecanje:1994
X-WR-TIMEZONE:Europe/Ljubljana
END:VEVENT
BEGIN:VEVENT
SUMMARY:Linearna algebra (APM-1)\, Predavanja (P)
DTSTART;TZID=Europe/Ljubljana:20181025T100000
DTEND;TZID=Europe/Ljubljana:20181025T130000
DTSTAMP:20260422T151358Z
UID:fmf-AFLABS-URNIK:premaknjeno-srecanje:57079
ATTENDEE:1. letnik (APM)
CATEGORIES:Entry,Standard
COLOR:darkgreen
DESCRIPTION:Predmet: Linearna algebra (APM-1)\, Predavanja (P)\nLetniki: 1
 . letnik (APM)\nIzvajalci: Boris Lavrič\nProstor: P.02
LOCATION:P.02
ORGANIZER:Boris Lavrič
RELATED-TO:fmf-AFLABS-URNIK:srecanje:1994
X-WR-TIMEZONE:Europe/Ljubljana
END:VEVENT
BEGIN:VEVENT
SUMMARY:Linearna algebra (APM-1)\, Predavanja (P)
DTSTART;TZID=Europe/Ljubljana:20181101T100000
DTEND;TZID=Europe/Ljubljana:20181101T130000
DTSTAMP:20260422T151358Z
UID:fmf-AFLABS-URNIK:premaknjeno-srecanje:57080
ATTENDEE:1. letnik (APM)
CATEGORIES:Entry,Standard
COLOR:darkgreen
DESCRIPTION:Predmet: Linearna algebra (APM-1)\, Predavanja (P)\nLetniki: 1
 . letnik (APM)\nIzvajalci: Boris Lavrič\nProstor: P.02
LOCATION:P.02
ORGANIZER:Boris Lavrič
RELATED-TO:fmf-AFLABS-URNIK:srecanje:1994
X-WR-TIMEZONE:Europe/Ljubljana
END:VEVENT
BEGIN:VEVENT
SUMMARY:Linearna algebra (APM-1)\, Predavanja (P)
DTSTART;TZID=Europe/Ljubljana:20181108T100000
DTEND;TZID=Europe/Ljubljana:20181108T130000
DTSTAMP:20260422T151358Z
UID:fmf-AFLABS-URNIK:premaknjeno-srecanje:57081
ATTENDEE:1. letnik (APM)
CATEGORIES:Entry,Standard
COLOR:darkgreen
DESCRIPTION:Predmet: Linearna algebra (APM-1)\, Predavanja (P)\nLetniki: 1
 . letnik (APM)\nIzvajalci: Boris Lavrič\nProstor: P.02
LOCATION:P.02
ORGANIZER:Boris Lavrič
RELATED-TO:fmf-AFLABS-URNIK:srecanje:1994
X-WR-TIMEZONE:Europe/Ljubljana
END:VEVENT
BEGIN:VEVENT
SUMMARY:Linearna algebra (APM-1)\, Predavanja (P)
DTSTART;TZID=Europe/Ljubljana:20181115T100000
DTEND;TZID=Europe/Ljubljana:20181115T130000
DTSTAMP:20260422T151358Z
UID:fmf-AFLABS-URNIK:premaknjeno-srecanje:57082
ATTENDEE:1. letnik (APM)
CATEGORIES:Entry,Standard
COLOR:darkgreen
DESCRIPTION:Predmet: Linearna algebra (APM-1)\, Predavanja (P)\nLetniki: 1
 . letnik (APM)\nIzvajalci: Boris Lavrič\nProstor: P.02
LOCATION:P.02
ORGANIZER:Boris Lavrič
RELATED-TO:fmf-AFLABS-URNIK:srecanje:1994
X-WR-TIMEZONE:Europe/Ljubljana
END:VEVENT
BEGIN:VEVENT
SUMMARY:Linearna algebra (APM-1)\, Predavanja (P)
DTSTART;TZID=Europe/Ljubljana:20181122T100000
DTEND;TZID=Europe/Ljubljana:20181122T130000
DTSTAMP:20260422T151358Z
UID:fmf-AFLABS-URNIK:premaknjeno-srecanje:57083
ATTENDEE:1. letnik (APM)
CATEGORIES:Entry,Standard
COLOR:darkgreen
DESCRIPTION:Predmet: Linearna algebra (APM-1)\, Predavanja (P)\nLetniki: 1
 . letnik (APM)\nIzvajalci: Boris Lavrič\nProstor: P.02
LOCATION:P.02
ORGANIZER:Boris Lavrič
RELATED-TO:fmf-AFLABS-URNIK:srecanje:1994
X-WR-TIMEZONE:Europe/Ljubljana
END:VEVENT
BEGIN:VEVENT
SUMMARY:Linearna algebra (APM-1)\, Predavanja (P)
DTSTART;TZID=Europe/Ljubljana:20181129T100000
DTEND;TZID=Europe/Ljubljana:20181129T130000
DTSTAMP:20260422T151358Z
UID:fmf-AFLABS-URNIK:premaknjeno-srecanje:57084
ATTENDEE:1. letnik (APM)
CATEGORIES:Entry,Standard
COLOR:darkgreen
DESCRIPTION:Predmet: Linearna algebra (APM-1)\, Predavanja (P)\nLetniki: 1
 . letnik (APM)\nIzvajalci: Boris Lavrič\nProstor: P.02
LOCATION:P.02
ORGANIZER:Boris Lavrič
RELATED-TO:fmf-AFLABS-URNIK:srecanje:1994
X-WR-TIMEZONE:Europe/Ljubljana
END:VEVENT
BEGIN:VEVENT
SUMMARY:Linearna algebra (APM-1)\, Predavanja (P)
DTSTART;TZID=Europe/Ljubljana:20181206T100000
DTEND;TZID=Europe/Ljubljana:20181206T130000
DTSTAMP:20260422T151358Z
UID:fmf-AFLABS-URNIK:premaknjeno-srecanje:57085
ATTENDEE:1. letnik (APM)
CATEGORIES:Entry,Standard
COLOR:darkgreen
DESCRIPTION:Predmet: Linearna algebra (APM-1)\, Predavanja (P)\nLetniki: 1
 . letnik (APM)\nIzvajalci: Boris Lavrič\nProstor: P.02
LOCATION:P.02
ORGANIZER:Boris Lavrič
RELATED-TO:fmf-AFLABS-URNIK:srecanje:1994
X-WR-TIMEZONE:Europe/Ljubljana
END:VEVENT
BEGIN:VEVENT
SUMMARY:Linearna algebra (APM-1)\, Predavanja (P)
DTSTART;TZID=Europe/Ljubljana:20181213T100000
DTEND;TZID=Europe/Ljubljana:20181213T130000
DTSTAMP:20260422T151358Z
UID:fmf-AFLABS-URNIK:premaknjeno-srecanje:57086
ATTENDEE:1. letnik (APM)
CATEGORIES:Entry,Standard
COLOR:darkgreen
DESCRIPTION:Predmet: Linearna algebra (APM-1)\, Predavanja (P)\nLetniki: 1
 . letnik (APM)\nIzvajalci: Boris Lavrič\nProstor: P.02
LOCATION:P.02
ORGANIZER:Boris Lavrič
RELATED-TO:fmf-AFLABS-URNIK:srecanje:1994
X-WR-TIMEZONE:Europe/Ljubljana
END:VEVENT
BEGIN:VEVENT
SUMMARY:Linearna algebra (APM-1)\, Predavanja (P)
DTSTART;TZID=Europe/Ljubljana:20181220T100000
DTEND;TZID=Europe/Ljubljana:20181220T130000
DTSTAMP:20260422T151358Z
UID:fmf-AFLABS-URNIK:premaknjeno-srecanje:57087
ATTENDEE:1. letnik (APM)
CATEGORIES:Entry,Standard
COLOR:darkgreen
DESCRIPTION:Predmet: Linearna algebra (APM-1)\, Predavanja (P)\nLetniki: 1
 . letnik (APM)\nIzvajalci: Boris Lavrič\nProstor: P.02
LOCATION:P.02
ORGANIZER:Boris Lavrič
RELATED-TO:fmf-AFLABS-URNIK:srecanje:1994
X-WR-TIMEZONE:Europe/Ljubljana
END:VEVENT
BEGIN:VEVENT
SUMMARY:Linearna algebra (APM-1)\, Predavanja (P)
DTSTART;TZID=Europe/Ljubljana:20181227T100000
DTEND;TZID=Europe/Ljubljana:20181227T130000
DTSTAMP:20260422T151358Z
UID:fmf-AFLABS-URNIK:premaknjeno-srecanje:57088
ATTENDEE:1. letnik (APM)
CATEGORIES:Entry,Standard
COLOR:darkgreen
DESCRIPTION:Predmet: Linearna algebra (APM-1)\, Predavanja (P)\nLetniki: 1
 . letnik (APM)\nIzvajalci: Boris Lavrič\nProstor: P.02
LOCATION:P.02
ORGANIZER:Boris Lavrič
RELATED-TO:fmf-AFLABS-URNIK:srecanje:1994
X-WR-TIMEZONE:Europe/Ljubljana
END:VEVENT
BEGIN:VEVENT
SUMMARY:Linearna algebra (APM-1)\, Predavanja (P)
DTSTART;TZID=Europe/Ljubljana:20190103T100000
DTEND;TZID=Europe/Ljubljana:20190103T130000
DTSTAMP:20260422T151358Z
UID:fmf-AFLABS-URNIK:premaknjeno-srecanje:57089
ATTENDEE:1. letnik (APM)
CATEGORIES:Entry,Standard
COLOR:darkgreen
DESCRIPTION:Predmet: Linearna algebra (APM-1)\, Predavanja (P)\nLetniki: 1
 . letnik (APM)\nIzvajalci: Boris Lavrič\nProstor: P.02
LOCATION:P.02
ORGANIZER:Boris Lavrič
RELATED-TO:fmf-AFLABS-URNIK:srecanje:1994
X-WR-TIMEZONE:Europe/Ljubljana
END:VEVENT
BEGIN:VEVENT
SUMMARY:Linearna algebra (APM-1)\, Predavanja (P)
DTSTART;TZID=Europe/Ljubljana:20190110T100000
DTEND;TZID=Europe/Ljubljana:20190110T130000
DTSTAMP:20260422T151358Z
UID:fmf-AFLABS-URNIK:premaknjeno-srecanje:57090
ATTENDEE:1. letnik (APM)
CATEGORIES:Entry,Standard
COLOR:darkgreen
DESCRIPTION:Predmet: Linearna algebra (APM-1)\, Predavanja (P)\nLetniki: 1
 . letnik (APM)\nIzvajalci: Boris Lavrič\nProstor: P.02
LOCATION:P.02
ORGANIZER:Boris Lavrič
RELATED-TO:fmf-AFLABS-URNIK:srecanje:1994
X-WR-TIMEZONE:Europe/Ljubljana
END:VEVENT
BEGIN:VEVENT
SUMMARY:Linearna algebra (APM-1)\, Predavanja (P)
DTSTART;TZID=Europe/Ljubljana:20190117T100000
DTEND;TZID=Europe/Ljubljana:20190117T130000
DTSTAMP:20260422T151358Z
UID:fmf-AFLABS-URNIK:premaknjeno-srecanje:57091
ATTENDEE:1. letnik (APM)
CATEGORIES:Entry,Standard
COLOR:darkgreen
DESCRIPTION:Predmet: Linearna algebra (APM-1)\, Predavanja (P)\nLetniki: 1
 . letnik (APM)\nIzvajalci: Boris Lavrič\nProstor: P.02
LOCATION:P.02
ORGANIZER:Boris Lavrič
RELATED-TO:fmf-AFLABS-URNIK:srecanje:1994
X-WR-TIMEZONE:Europe/Ljubljana
END:VEVENT
BEGIN:VEVENT
SUMMARY:Konveksnost (FM-M\, MAT-M\, PM-5)\, Predavanja (P)
DTSTART;TZID=Europe/Ljubljana:20181005T110000
DTEND;TZID=Europe/Ljubljana:20181005T140000
DTSTAMP:20260422T151358Z
UID:fmf-AFLABS-URNIK:premaknjeno-srecanje:55227
ATTENDEE:5. letnik (PM)
ATTENDEE:magistrski študij (FM)
ATTENDEE:magistrski študij (M)
CATEGORIES:Entry,Standard
COLOR:darkgreen
DESCRIPTION:Predmet: Konveksnost (FM-M\, MAT-M\, PM-5)\, Predavanja (P)\nL
 etniki: magistrski študij (FM)\, magistrski študij (M)\, 5. letnik (PM)\
 nIzvajalci: Boris Lavrič\nProstor: P.02
LOCATION:P.02
ORGANIZER:Boris Lavrič
RELATED-TO:fmf-AFLABS-URNIK:srecanje:1923
X-WR-TIMEZONE:Europe/Ljubljana
END:VEVENT
BEGIN:VEVENT
SUMMARY:Konveksnost (FM-M\, MAT-M\, PM-5)\, Predavanja (P)
DTSTART;TZID=Europe/Ljubljana:20181012T110000
DTEND;TZID=Europe/Ljubljana:20181012T140000
DTSTAMP:20260422T151358Z
UID:fmf-AFLABS-URNIK:premaknjeno-srecanje:55228
ATTENDEE:5. letnik (PM)
ATTENDEE:magistrski študij (FM)
ATTENDEE:magistrski študij (M)
CATEGORIES:Entry,Standard
COLOR:darkgreen
DESCRIPTION:Predmet: Konveksnost (FM-M\, MAT-M\, PM-5)\, Predavanja (P)\nL
 etniki: magistrski študij (FM)\, magistrski študij (M)\, 5. letnik (PM)\
 nIzvajalci: Boris Lavrič\nProstor: P.02
LOCATION:P.02
ORGANIZER:Boris Lavrič
RELATED-TO:fmf-AFLABS-URNIK:srecanje:1923
X-WR-TIMEZONE:Europe/Ljubljana
END:VEVENT
BEGIN:VEVENT
SUMMARY:Konveksnost (FM-M\, MAT-M\, PM-5)\, Predavanja (P)
DTSTART;TZID=Europe/Ljubljana:20181019T110000
DTEND;TZID=Europe/Ljubljana:20181019T140000
DTSTAMP:20260422T151358Z
UID:fmf-AFLABS-URNIK:premaknjeno-srecanje:55229
ATTENDEE:5. letnik (PM)
ATTENDEE:magistrski študij (FM)
ATTENDEE:magistrski študij (M)
CATEGORIES:Entry,Standard
COLOR:darkgreen
DESCRIPTION:Predmet: Konveksnost (FM-M\, MAT-M\, PM-5)\, Predavanja (P)\nL
 etniki: magistrski študij (FM)\, magistrski študij (M)\, 5. letnik (PM)\
 nIzvajalci: Boris Lavrič\nProstor: P.02
LOCATION:P.02
ORGANIZER:Boris Lavrič
RELATED-TO:fmf-AFLABS-URNIK:srecanje:1923
X-WR-TIMEZONE:Europe/Ljubljana
END:VEVENT
BEGIN:VEVENT
SUMMARY:Konveksnost (FM-M\, MAT-M\, PM-5)\, Predavanja (P)
DTSTART;TZID=Europe/Ljubljana:20181026T110000
DTEND;TZID=Europe/Ljubljana:20181026T140000
DTSTAMP:20260422T151358Z
UID:fmf-AFLABS-URNIK:premaknjeno-srecanje:55230
ATTENDEE:5. letnik (PM)
ATTENDEE:magistrski študij (FM)
ATTENDEE:magistrski študij (M)
CATEGORIES:Entry,Standard
COLOR:darkgreen
DESCRIPTION:Predmet: Konveksnost (FM-M\, MAT-M\, PM-5)\, Predavanja (P)\nL
 etniki: magistrski študij (FM)\, magistrski študij (M)\, 5. letnik (PM)\
 nIzvajalci: Boris Lavrič\nProstor: P.02
LOCATION:P.02
ORGANIZER:Boris Lavrič
RELATED-TO:fmf-AFLABS-URNIK:srecanje:1923
X-WR-TIMEZONE:Europe/Ljubljana
END:VEVENT
BEGIN:VEVENT
SUMMARY:Konveksnost (FM-M\, MAT-M\, PM-5)\, Predavanja (P)
DTSTART;TZID=Europe/Ljubljana:20181102T110000
DTEND;TZID=Europe/Ljubljana:20181102T140000
DTSTAMP:20260422T151358Z
UID:fmf-AFLABS-URNIK:premaknjeno-srecanje:55231
ATTENDEE:5. letnik (PM)
ATTENDEE:magistrski študij (FM)
ATTENDEE:magistrski študij (M)
CATEGORIES:Entry,Standard
COLOR:darkgreen
DESCRIPTION:Predmet: Konveksnost (FM-M\, MAT-M\, PM-5)\, Predavanja (P)\nL
 etniki: magistrski študij (FM)\, magistrski študij (M)\, 5. letnik (PM)\
 nIzvajalci: Boris Lavrič\nProstor: P.02
LOCATION:P.02
ORGANIZER:Boris Lavrič
RELATED-TO:fmf-AFLABS-URNIK:srecanje:1923
X-WR-TIMEZONE:Europe/Ljubljana
END:VEVENT
BEGIN:VEVENT
SUMMARY:Konveksnost (FM-M\, MAT-M\, PM-5)\, Predavanja (P)
DTSTART;TZID=Europe/Ljubljana:20181109T110000
DTEND;TZID=Europe/Ljubljana:20181109T140000
DTSTAMP:20260422T151358Z
UID:fmf-AFLABS-URNIK:premaknjeno-srecanje:55232
ATTENDEE:5. letnik (PM)
ATTENDEE:magistrski študij (FM)
ATTENDEE:magistrski študij (M)
CATEGORIES:Entry,Standard
COLOR:darkgreen
DESCRIPTION:Predmet: Konveksnost (FM-M\, MAT-M\, PM-5)\, Predavanja (P)\nL
 etniki: magistrski študij (FM)\, magistrski študij (M)\, 5. letnik (PM)\
 nIzvajalci: Boris Lavrič\nProstor: P.02
LOCATION:P.02
ORGANIZER:Boris Lavrič
RELATED-TO:fmf-AFLABS-URNIK:srecanje:1923
X-WR-TIMEZONE:Europe/Ljubljana
END:VEVENT
BEGIN:VEVENT
SUMMARY:Konveksnost (FM-M\, MAT-M\, PM-5)\, Predavanja (P)
DTSTART;TZID=Europe/Ljubljana:20181116T110000
DTEND;TZID=Europe/Ljubljana:20181116T140000
DTSTAMP:20260422T151358Z
UID:fmf-AFLABS-URNIK:premaknjeno-srecanje:55233
ATTENDEE:5. letnik (PM)
ATTENDEE:magistrski študij (FM)
ATTENDEE:magistrski študij (M)
CATEGORIES:Entry,Standard
COLOR:darkgreen
DESCRIPTION:Predmet: Konveksnost (FM-M\, MAT-M\, PM-5)\, Predavanja (P)\nL
 etniki: magistrski študij (FM)\, magistrski študij (M)\, 5. letnik (PM)\
 nIzvajalci: Boris Lavrič\nProstor: P.02
LOCATION:P.02
ORGANIZER:Boris Lavrič
RELATED-TO:fmf-AFLABS-URNIK:srecanje:1923
X-WR-TIMEZONE:Europe/Ljubljana
END:VEVENT
BEGIN:VEVENT
SUMMARY:Konveksnost (FM-M\, MAT-M\, PM-5)\, Predavanja (P)
DTSTART;TZID=Europe/Ljubljana:20181123T110000
DTEND;TZID=Europe/Ljubljana:20181123T140000
DTSTAMP:20260422T151358Z
UID:fmf-AFLABS-URNIK:premaknjeno-srecanje:55234
ATTENDEE:5. letnik (PM)
ATTENDEE:magistrski študij (FM)
ATTENDEE:magistrski študij (M)
CATEGORIES:Entry,Standard
COLOR:darkgreen
DESCRIPTION:Predmet: Konveksnost (FM-M\, MAT-M\, PM-5)\, Predavanja (P)\nL
 etniki: magistrski študij (FM)\, magistrski študij (M)\, 5. letnik (PM)\
 nIzvajalci: Boris Lavrič\nProstor: P.02
LOCATION:P.02
ORGANIZER:Boris Lavrič
RELATED-TO:fmf-AFLABS-URNIK:srecanje:1923
X-WR-TIMEZONE:Europe/Ljubljana
END:VEVENT
BEGIN:VEVENT
SUMMARY:Konveksnost (FM-M\, MAT-M\, PM-5)\, Predavanja (P)
DTSTART;TZID=Europe/Ljubljana:20181130T110000
DTEND;TZID=Europe/Ljubljana:20181130T140000
DTSTAMP:20260422T151358Z
UID:fmf-AFLABS-URNIK:premaknjeno-srecanje:55235
ATTENDEE:5. letnik (PM)
ATTENDEE:magistrski študij (FM)
ATTENDEE:magistrski študij (M)
CATEGORIES:Entry,Standard
COLOR:darkgreen
DESCRIPTION:Predmet: Konveksnost (FM-M\, MAT-M\, PM-5)\, Predavanja (P)\nL
 etniki: magistrski študij (FM)\, magistrski študij (M)\, 5. letnik (PM)\
 nIzvajalci: Boris Lavrič\nProstor: P.02
LOCATION:P.02
ORGANIZER:Boris Lavrič
RELATED-TO:fmf-AFLABS-URNIK:srecanje:1923
X-WR-TIMEZONE:Europe/Ljubljana
END:VEVENT
BEGIN:VEVENT
SUMMARY:Konveksnost (FM-M\, MAT-M\, PM-5)\, Predavanja (P)
DTSTART;TZID=Europe/Ljubljana:20181207T110000
DTEND;TZID=Europe/Ljubljana:20181207T140000
DTSTAMP:20260422T151358Z
UID:fmf-AFLABS-URNIK:premaknjeno-srecanje:55236
ATTENDEE:5. letnik (PM)
ATTENDEE:magistrski študij (FM)
ATTENDEE:magistrski študij (M)
CATEGORIES:Entry,Standard
COLOR:darkgreen
DESCRIPTION:Predmet: Konveksnost (FM-M\, MAT-M\, PM-5)\, Predavanja (P)\nL
 etniki: magistrski študij (FM)\, magistrski študij (M)\, 5. letnik (PM)\
 nIzvajalci: Boris Lavrič\nProstor: P.02
LOCATION:P.02
ORGANIZER:Boris Lavrič
RELATED-TO:fmf-AFLABS-URNIK:srecanje:1923
X-WR-TIMEZONE:Europe/Ljubljana
END:VEVENT
BEGIN:VEVENT
SUMMARY:Konveksnost (FM-M\, MAT-M\, PM-5)\, Predavanja (P)
DTSTART;TZID=Europe/Ljubljana:20181214T110000
DTEND;TZID=Europe/Ljubljana:20181214T140000
DTSTAMP:20260422T151358Z
UID:fmf-AFLABS-URNIK:premaknjeno-srecanje:55237
ATTENDEE:5. letnik (PM)
ATTENDEE:magistrski študij (FM)
ATTENDEE:magistrski študij (M)
CATEGORIES:Entry,Standard
COLOR:darkgreen
DESCRIPTION:Predmet: Konveksnost (FM-M\, MAT-M\, PM-5)\, Predavanja (P)\nL
 etniki: magistrski študij (FM)\, magistrski študij (M)\, 5. letnik (PM)\
 nIzvajalci: Boris Lavrič\nProstor: P.02
LOCATION:P.02
ORGANIZER:Boris Lavrič
RELATED-TO:fmf-AFLABS-URNIK:srecanje:1923
X-WR-TIMEZONE:Europe/Ljubljana
END:VEVENT
BEGIN:VEVENT
SUMMARY:Konveksnost (FM-M\, MAT-M\, PM-5)\, Predavanja (P)
DTSTART;TZID=Europe/Ljubljana:20181221T110000
DTEND;TZID=Europe/Ljubljana:20181221T140000
DTSTAMP:20260422T151358Z
UID:fmf-AFLABS-URNIK:premaknjeno-srecanje:55238
ATTENDEE:5. letnik (PM)
ATTENDEE:magistrski študij (FM)
ATTENDEE:magistrski študij (M)
CATEGORIES:Entry,Standard
COLOR:darkgreen
DESCRIPTION:Predmet: Konveksnost (FM-M\, MAT-M\, PM-5)\, Predavanja (P)\nL
 etniki: magistrski študij (FM)\, magistrski študij (M)\, 5. letnik (PM)\
 nIzvajalci: Boris Lavrič\nProstor: P.02
LOCATION:P.02
ORGANIZER:Boris Lavrič
RELATED-TO:fmf-AFLABS-URNIK:srecanje:1923
X-WR-TIMEZONE:Europe/Ljubljana
END:VEVENT
BEGIN:VEVENT
SUMMARY:Konveksnost (FM-M\, MAT-M\, PM-5)\, Predavanja (P)
DTSTART;TZID=Europe/Ljubljana:20181228T110000
DTEND;TZID=Europe/Ljubljana:20181228T140000
DTSTAMP:20260422T151358Z
UID:fmf-AFLABS-URNIK:premaknjeno-srecanje:55239
ATTENDEE:5. letnik (PM)
ATTENDEE:magistrski študij (FM)
ATTENDEE:magistrski študij (M)
CATEGORIES:Entry,Standard
COLOR:darkgreen
DESCRIPTION:Predmet: Konveksnost (FM-M\, MAT-M\, PM-5)\, Predavanja (P)\nL
 etniki: magistrski študij (FM)\, magistrski študij (M)\, 5. letnik (PM)\
 nIzvajalci: Boris Lavrič\nProstor: P.02
LOCATION:P.02
ORGANIZER:Boris Lavrič
RELATED-TO:fmf-AFLABS-URNIK:srecanje:1923
X-WR-TIMEZONE:Europe/Ljubljana
END:VEVENT
BEGIN:VEVENT
SUMMARY:Konveksnost (FM-M\, MAT-M\, PM-5)\, Predavanja (P)
DTSTART;TZID=Europe/Ljubljana:20190104T110000
DTEND;TZID=Europe/Ljubljana:20190104T140000
DTSTAMP:20260422T151358Z
UID:fmf-AFLABS-URNIK:premaknjeno-srecanje:55240
ATTENDEE:5. letnik (PM)
ATTENDEE:magistrski študij (FM)
ATTENDEE:magistrski študij (M)
CATEGORIES:Entry,Standard
COLOR:darkgreen
DESCRIPTION:Predmet: Konveksnost (FM-M\, MAT-M\, PM-5)\, Predavanja (P)\nL
 etniki: magistrski študij (FM)\, magistrski študij (M)\, 5. letnik (PM)\
 nIzvajalci: Boris Lavrič\nProstor: P.02
LOCATION:P.02
ORGANIZER:Boris Lavrič
RELATED-TO:fmf-AFLABS-URNIK:srecanje:1923
X-WR-TIMEZONE:Europe/Ljubljana
END:VEVENT
BEGIN:VEVENT
SUMMARY:Konveksnost (FM-M\, MAT-M\, PM-5)\, Predavanja (P)
DTSTART;TZID=Europe/Ljubljana:20190111T110000
DTEND;TZID=Europe/Ljubljana:20190111T140000
DTSTAMP:20260422T151358Z
UID:fmf-AFLABS-URNIK:premaknjeno-srecanje:55241
ATTENDEE:5. letnik (PM)
ATTENDEE:magistrski študij (FM)
ATTENDEE:magistrski študij (M)
CATEGORIES:Entry,Standard
COLOR:darkgreen
DESCRIPTION:Predmet: Konveksnost (FM-M\, MAT-M\, PM-5)\, Predavanja (P)\nL
 etniki: magistrski študij (FM)\, magistrski študij (M)\, 5. letnik (PM)\
 nIzvajalci: Boris Lavrič\nProstor: P.02
LOCATION:P.02
ORGANIZER:Boris Lavrič
RELATED-TO:fmf-AFLABS-URNIK:srecanje:1923
X-WR-TIMEZONE:Europe/Ljubljana
END:VEVENT
BEGIN:VEVENT
SUMMARY:Konveksnost (FM-M\, MAT-M\, PM-5)\, Predavanja (P)
DTSTART;TZID=Europe/Ljubljana:20190118T110000
DTEND;TZID=Europe/Ljubljana:20190118T140000
DTSTAMP:20260422T151358Z
UID:fmf-AFLABS-URNIK:premaknjeno-srecanje:55242
ATTENDEE:5. letnik (PM)
ATTENDEE:magistrski študij (FM)
ATTENDEE:magistrski študij (M)
CATEGORIES:Entry,Standard
COLOR:darkgreen
DESCRIPTION:Predmet: Konveksnost (FM-M\, MAT-M\, PM-5)\, Predavanja (P)\nL
 etniki: magistrski študij (FM)\, magistrski študij (M)\, 5. letnik (PM)\
 nIzvajalci: Boris Lavrič\nProstor: P.02
LOCATION:P.02
ORGANIZER:Boris Lavrič
RELATED-TO:fmf-AFLABS-URNIK:srecanje:1923
X-WR-TIMEZONE:Europe/Ljubljana
END:VEVENT
END:VCALENDAR
