BEGIN:VCALENDAR
VERSION:2.0
PRODID:-//AFLabs urnik izvoz - fmf//aflabs.si//SI
DTSTAMP:20260424T200341Z
NAME:UL FMF urnik
REFRESH-INTERVAL:PT1H
SOURCE:https://urnik.fmf.uni-lj.si/en/teacher/151?day=2026-02-02&export=1
URL:https://urnik.fmf.uni-lj.si/en/teacher/151?day=2026-02-02&export=1
X-PUBLISHED-TTL:PT1H
X-WR-CALNAME:UL FMF urnik
X-WR-TIMEZONE:Europe/Ljubljana
BEGIN:VTIMEZONE
TZID:Europe/Ljubljana
BEGIN:DAYLIGHT
DTSTART:20260329T020000
RDATE:20260329T020000
RDATE:20270328T020000
TZNAME:CEST
TZOFFSETFROM:+0100
TZOFFSETTO:+0200
END:DAYLIGHT
BEGIN:STANDARD
DTSTART:20261025T030000
RDATE:20261025T030000
RDATE:20271031T030000
TZNAME:CET
TZOFFSETFROM:+0200
TZOFFSETTO:+0100
END:STANDARD
END:VTIMEZONE
BEGIN:VEVENT
SUMMARY:Uvod v programiranje (FM-1)\, Vaje (V)\, [3]
DTSTART;TZID=Europe/Ljubljana:20260216T170000
DTEND;TZID=Europe/Ljubljana:20260216T200000
DTSTAMP:20260424T200341Z
UID:fmf-AFLABS-URNIK:premaknjeno-srecanje:246946
ATTENDEE:1. letnik (FM)
CATEGORIES:Entry,Standard
COLOR:darkgreen
DESCRIPTION:Predmet: Uvod v programiranje (FM-1)\, Vaje (V)\, [3]\nLetniki
 : 1. letnik (FM)\nIzvajalci: Matjaž Zaveršnik\nProstor: 3.11
LOCATION:3.11
ORGANIZER:Matjaž Zaveršnik
RELATED-TO:fmf-AFLABS-URNIK:srecanje:17148
X-WR-TIMEZONE:Europe/Ljubljana
END:VEVENT
BEGIN:VEVENT
SUMMARY:Uvod v programiranje (FM-1)\, Vaje (V)\, [3]
DTSTART;TZID=Europe/Ljubljana:20260223T170000
DTEND;TZID=Europe/Ljubljana:20260223T200000
DTSTAMP:20260424T200341Z
UID:fmf-AFLABS-URNIK:premaknjeno-srecanje:246947
ATTENDEE:1. letnik (FM)
CATEGORIES:Entry,Standard
COLOR:darkgreen
DESCRIPTION:Predmet: Uvod v programiranje (FM-1)\, Vaje (V)\, [3]\nLetniki
 : 1. letnik (FM)\nIzvajalci: Matjaž Zaveršnik\nProstor: 3.11
LOCATION:3.11
ORGANIZER:Matjaž Zaveršnik
RELATED-TO:fmf-AFLABS-URNIK:srecanje:17148
X-WR-TIMEZONE:Europe/Ljubljana
END:VEVENT
BEGIN:VEVENT
SUMMARY:Uvod v programiranje (FM-1)\, Vaje (V)\, [3]
DTSTART;TZID=Europe/Ljubljana:20260302T170000
DTEND;TZID=Europe/Ljubljana:20260302T200000
DTSTAMP:20260424T200341Z
UID:fmf-AFLABS-URNIK:premaknjeno-srecanje:246948
ATTENDEE:1. letnik (FM)
CATEGORIES:Entry,Standard
COLOR:darkgreen
DESCRIPTION:Predmet: Uvod v programiranje (FM-1)\, Vaje (V)\, [3]\nLetniki
 : 1. letnik (FM)\nIzvajalci: Matjaž Zaveršnik\nProstor: 3.11
LOCATION:3.11
ORGANIZER:Matjaž Zaveršnik
RELATED-TO:fmf-AFLABS-URNIK:srecanje:17148
X-WR-TIMEZONE:Europe/Ljubljana
END:VEVENT
BEGIN:VEVENT
SUMMARY:Uvod v programiranje (FM-1)\, Vaje (V)\, [3]
DTSTART;TZID=Europe/Ljubljana:20260309T170000
DTEND;TZID=Europe/Ljubljana:20260309T200000
DTSTAMP:20260424T200341Z
UID:fmf-AFLABS-URNIK:premaknjeno-srecanje:246949
ATTENDEE:1. letnik (FM)
CATEGORIES:Entry,Standard
COLOR:darkgreen
DESCRIPTION:Predmet: Uvod v programiranje (FM-1)\, Vaje (V)\, [3]\nLetniki
 : 1. letnik (FM)\nIzvajalci: Matjaž Zaveršnik\nProstor: 3.11
LOCATION:3.11
ORGANIZER:Matjaž Zaveršnik
RELATED-TO:fmf-AFLABS-URNIK:srecanje:17148
X-WR-TIMEZONE:Europe/Ljubljana
END:VEVENT
BEGIN:VEVENT
SUMMARY:Uvod v programiranje (MAT-1\, PM-2)\, Vaje (V)\, [2]
DTSTART;TZID=Europe/Ljubljana:20260217T140000
DTEND;TZID=Europe/Ljubljana:20260217T170000
DTSTAMP:20260424T200341Z
UID:fmf-AFLABS-URNIK:premaknjeno-srecanje:249610
ATTENDEE:1. letnik (M)
ATTENDEE:2. letnik (PM)
CATEGORIES:Entry,Standard
COLOR:darkgreen
DESCRIPTION:Predmet: Uvod v programiranje (MAT-1\, PM-2)\, Vaje (V)\, [2]\
 nLetniki: 1. letnik (M)\, 2. letnik (PM)\nIzvajalci: Matjaž Zaveršnik\nP
 rostor: 3.11
LOCATION:3.11
ORGANIZER:Matjaž Zaveršnik
RELATED-TO:fmf-AFLABS-URNIK:srecanje:17389
X-WR-TIMEZONE:Europe/Ljubljana
END:VEVENT
BEGIN:VEVENT
SUMMARY:Uvod v programiranje (MAT-1\, PM-2)\, Vaje (V)\, [2]
DTSTART;TZID=Europe/Ljubljana:20260224T140000
DTEND;TZID=Europe/Ljubljana:20260224T170000
DTSTAMP:20260424T200341Z
UID:fmf-AFLABS-URNIK:premaknjeno-srecanje:249611
ATTENDEE:1. letnik (M)
ATTENDEE:2. letnik (PM)
CATEGORIES:Entry,Standard
COLOR:darkgreen
DESCRIPTION:Predmet: Uvod v programiranje (MAT-1\, PM-2)\, Vaje (V)\, [2]\
 nLetniki: 1. letnik (M)\, 2. letnik (PM)\nIzvajalci: Matjaž Zaveršnik\nP
 rostor: 3.11
LOCATION:3.11
ORGANIZER:Matjaž Zaveršnik
RELATED-TO:fmf-AFLABS-URNIK:srecanje:17389
X-WR-TIMEZONE:Europe/Ljubljana
END:VEVENT
BEGIN:VEVENT
SUMMARY:Uvod v programiranje (MAT-1\, PM-2)\, Vaje (V)\, [2]
DTSTART;TZID=Europe/Ljubljana:20260303T140000
DTEND;TZID=Europe/Ljubljana:20260303T170000
DTSTAMP:20260424T200341Z
UID:fmf-AFLABS-URNIK:premaknjeno-srecanje:249612
ATTENDEE:1. letnik (M)
ATTENDEE:2. letnik (PM)
CATEGORIES:Entry,Standard
COLOR:darkgreen
DESCRIPTION:Predmet: Uvod v programiranje (MAT-1\, PM-2)\, Vaje (V)\, [2]\
 nLetniki: 1. letnik (M)\, 2. letnik (PM)\nIzvajalci: Matjaž Zaveršnik\nP
 rostor: 3.11
LOCATION:3.11
ORGANIZER:Matjaž Zaveršnik
RELATED-TO:fmf-AFLABS-URNIK:srecanje:17389
X-WR-TIMEZONE:Europe/Ljubljana
END:VEVENT
BEGIN:VEVENT
SUMMARY:Uvod v programiranje (FM-1)\, Vaje (V)\, [2]
DTSTART;TZID=Europe/Ljubljana:20260219T140000
DTEND;TZID=Europe/Ljubljana:20260219T170000
DTSTAMP:20260424T200341Z
UID:fmf-AFLABS-URNIK:premaknjeno-srecanje:241426
ATTENDEE:1. letnik (FM)
CATEGORIES:Entry,Standard
COLOR:darkgreen
DESCRIPTION:Predmet: Uvod v programiranje (FM-1)\, Vaje (V)\, [2]\nLetniki
 : 1. letnik (FM)\nIzvajalci: Matjaž Zaveršnik\nProstor: 3.10
LOCATION:3.10
ORGANIZER:Matjaž Zaveršnik
RELATED-TO:fmf-AFLABS-URNIK:srecanje:17147
X-WR-TIMEZONE:Europe/Ljubljana
END:VEVENT
BEGIN:VEVENT
SUMMARY:Uvod v programiranje (FM-1)\, Vaje (V)\, [2]
DTSTART;TZID=Europe/Ljubljana:20260226T140000
DTEND;TZID=Europe/Ljubljana:20260226T170000
DTSTAMP:20260424T200341Z
UID:fmf-AFLABS-URNIK:premaknjeno-srecanje:241427
ATTENDEE:1. letnik (FM)
CATEGORIES:Entry,Standard
COLOR:darkgreen
DESCRIPTION:Predmet: Uvod v programiranje (FM-1)\, Vaje (V)\, [2]\nLetniki
 : 1. letnik (FM)\nIzvajalci: Matjaž Zaveršnik\nProstor: 3.10
LOCATION:3.10
ORGANIZER:Matjaž Zaveršnik
RELATED-TO:fmf-AFLABS-URNIK:srecanje:17147
X-WR-TIMEZONE:Europe/Ljubljana
END:VEVENT
BEGIN:VEVENT
SUMMARY:Uvod v programiranje (FM-1)\, Vaje (V)\, [2]
DTSTART;TZID=Europe/Ljubljana:20260305T140000
DTEND;TZID=Europe/Ljubljana:20260305T170000
DTSTAMP:20260424T200341Z
UID:fmf-AFLABS-URNIK:premaknjeno-srecanje:241428
ATTENDEE:1. letnik (FM)
CATEGORIES:Entry,Standard
COLOR:darkgreen
DESCRIPTION:Predmet: Uvod v programiranje (FM-1)\, Vaje (V)\, [2]\nLetniki
 : 1. letnik (FM)\nIzvajalci: Matjaž Zaveršnik\nProstor: 3.10
LOCATION:3.10
ORGANIZER:Matjaž Zaveršnik
RELATED-TO:fmf-AFLABS-URNIK:srecanje:17147
X-WR-TIMEZONE:Europe/Ljubljana
END:VEVENT
BEGIN:VEVENT
SUMMARY:Uvod v programiranje (MAT-1\, PM-2)\, Vaje (V)\, [3]
DTSTART;TZID=Europe/Ljubljana:20260220T140000
DTEND;TZID=Europe/Ljubljana:20260220T170000
DTSTAMP:20260424T200341Z
UID:fmf-AFLABS-URNIK:premaknjeno-srecanje:238467
ATTENDEE:1. letnik (M)
ATTENDEE:2. letnik (PM)
CATEGORIES:Entry,Standard
COLOR:darkgreen
DESCRIPTION:Predmet: Uvod v programiranje (MAT-1\, PM-2)\, Vaje (V)\, [3]\
 nLetniki: 1. letnik (M)\, 2. letnik (PM)\nIzvajalci: Matjaž Zaveršnik\nP
 rostor: 3.10
LOCATION:3.10
ORGANIZER:Matjaž Zaveršnik
RELATED-TO:fmf-AFLABS-URNIK:srecanje:16932
X-WR-TIMEZONE:Europe/Ljubljana
END:VEVENT
BEGIN:VEVENT
SUMMARY:Uvod v programiranje (MAT-1\, PM-2)\, Vaje (V)\, [3]
DTSTART;TZID=Europe/Ljubljana:20260227T140000
DTEND;TZID=Europe/Ljubljana:20260227T170000
DTSTAMP:20260424T200341Z
UID:fmf-AFLABS-URNIK:premaknjeno-srecanje:238468
ATTENDEE:1. letnik (M)
ATTENDEE:2. letnik (PM)
CATEGORIES:Entry,Standard
COLOR:darkgreen
DESCRIPTION:Predmet: Uvod v programiranje (MAT-1\, PM-2)\, Vaje (V)\, [3]\
 nLetniki: 1. letnik (M)\, 2. letnik (PM)\nIzvajalci: Matjaž Zaveršnik\nP
 rostor: 3.10
LOCATION:3.10
ORGANIZER:Matjaž Zaveršnik
RELATED-TO:fmf-AFLABS-URNIK:srecanje:16932
X-WR-TIMEZONE:Europe/Ljubljana
END:VEVENT
BEGIN:VEVENT
SUMMARY:Uvod v programiranje (MAT-1\, PM-2)\, Vaje (V)\, [3]
DTSTART;TZID=Europe/Ljubljana:20260306T140000
DTEND;TZID=Europe/Ljubljana:20260306T170000
DTSTAMP:20260424T200341Z
UID:fmf-AFLABS-URNIK:premaknjeno-srecanje:238469
ATTENDEE:1. letnik (M)
ATTENDEE:2. letnik (PM)
CATEGORIES:Entry,Standard
COLOR:darkgreen
DESCRIPTION:Predmet: Uvod v programiranje (MAT-1\, PM-2)\, Vaje (V)\, [3]\
 nLetniki: 1. letnik (M)\, 2. letnik (PM)\nIzvajalci: Matjaž Zaveršnik\nP
 rostor: 3.10
LOCATION:3.10
ORGANIZER:Matjaž Zaveršnik
RELATED-TO:fmf-AFLABS-URNIK:srecanje:16932
X-WR-TIMEZONE:Europe/Ljubljana
END:VEVENT
BEGIN:VEVENT
SUMMARY:Programiranje 2 (APM-2)\, Vaje (V)
DTSTART;TZID=Europe/Ljubljana:20260220T100000
DTEND;TZID=Europe/Ljubljana:20260220T120000
DTSTAMP:20260424T200341Z
UID:fmf-AFLABS-URNIK:premaknjeno-srecanje:251711
ATTENDEE:2. letnik (APM)
CATEGORIES:Entry,Standard
COLOR:darkgreen
DESCRIPTION:Predmet: Programiranje 2 (APM-2)\, Vaje (V)\nLetniki: 2. letni
 k (APM)\nIzvajalci: Matjaž Zaveršnik\nProstor: 3.11
LOCATION:3.11
ORGANIZER:Matjaž Zaveršnik
RELATED-TO:fmf-AFLABS-URNIK:srecanje:17154
X-WR-TIMEZONE:Europe/Ljubljana
END:VEVENT
BEGIN:VEVENT
SUMMARY:Programiranje 2 (APM-2)\, Vaje (V)
DTSTART;TZID=Europe/Ljubljana:20260227T100000
DTEND;TZID=Europe/Ljubljana:20260227T120000
DTSTAMP:20260424T200341Z
UID:fmf-AFLABS-URNIK:premaknjeno-srecanje:251712
ATTENDEE:2. letnik (APM)
CATEGORIES:Entry,Standard
COLOR:darkgreen
DESCRIPTION:Predmet: Programiranje 2 (APM-2)\, Vaje (V)\nLetniki: 2. letni
 k (APM)\nIzvajalci: Matjaž Zaveršnik\nProstor: 3.11
LOCATION:3.11
ORGANIZER:Matjaž Zaveršnik
RELATED-TO:fmf-AFLABS-URNIK:srecanje:17154
X-WR-TIMEZONE:Europe/Ljubljana
END:VEVENT
BEGIN:VEVENT
SUMMARY:Programiranje 2 (APM-2)\, Vaje (V)
DTSTART;TZID=Europe/Ljubljana:20260306T100000
DTEND;TZID=Europe/Ljubljana:20260306T120000
DTSTAMP:20260424T200341Z
UID:fmf-AFLABS-URNIK:premaknjeno-srecanje:251713
ATTENDEE:2. letnik (APM)
CATEGORIES:Entry,Standard
COLOR:darkgreen
DESCRIPTION:Predmet: Programiranje 2 (APM-2)\, Vaje (V)\nLetniki: 2. letni
 k (APM)\nIzvajalci: Matjaž Zaveršnik\nProstor: 3.11
LOCATION:3.11
ORGANIZER:Matjaž Zaveršnik
RELATED-TO:fmf-AFLABS-URNIK:srecanje:17154
X-WR-TIMEZONE:Europe/Ljubljana
END:VEVENT
BEGIN:VEVENT
SUMMARY:1. izpit
DTSTART;TZID=Europe/Ljubljana:20260127T090000
DTEND;TZID=Europe/Ljubljana:20260127T120000
DTSTAMP:20260424T200341Z
UID:fmf-AFLABS-URNIK:rezervacija:26336
ATTENDEE:1. letnik (Fizika, 1. stopnja)
CATEGORIES:Reservation
COLOR:royalblue
DESCRIPTION:Predmeti: Računalniški praktikum FIZ UNI (FIZ-1)\nLetniki: 1
 . letnik (Fizika\, 1. stopnja)\nIzvajalci: Matjaž Zaveršnik\nProstori: 3
 .10\, 3.11\, 3.12\, P.01\, P.02
LOCATION:3.10\, 3.11\, 3.12\, P.01\, P.02
ORGANIZER:Matjaž Zaveršnik
X-WR-TIMEZONE:Europe/Ljubljana
END:VEVENT
BEGIN:VEVENT
SUMMARY:Ogledi 1. izpita
DTSTART;TZID=Europe/Ljubljana:20260213T130000
DTEND;TZID=Europe/Ljubljana:20260213T140000
DTSTAMP:20260424T200341Z
UID:fmf-AFLABS-URNIK:rezervacija:26852
ATTENDEE:1. letnik (Fizika, 1. stopnja)
CATEGORIES:Reservation
COLOR:royalblue
DESCRIPTION:Predmeti: Računalniški praktikum FIZ UNI (FIZ-1)\nLetniki: 1
 . letnik (Fizika\, 1. stopnja)\nIzvajalci: Matjaž Zaveršnik\nProstori: 3
 .10
LOCATION:3.10
ORGANIZER:Matjaž Zaveršnik
X-WR-TIMEZONE:Europe/Ljubljana
END:VEVENT
END:VCALENDAR
