BEGIN:VCALENDAR
VERSION:2.0
PRODID:-//AFLabs urnik izvoz - fmf//aflabs.si//SI
DTSTAMP:20260421T151354Z
NAME:UL FMF urnik
REFRESH-INTERVAL:PT1H
SOURCE:https://urnik.fmf.uni-lj.si/en/teacher/151?day=2026-06-29&export=1
URL:https://urnik.fmf.uni-lj.si/en/teacher/151?day=2026-06-29&export=1
X-PUBLISHED-TTL:PT1H
X-WR-CALNAME:UL FMF urnik
X-WR-TIMEZONE:Europe/Ljubljana
BEGIN:VTIMEZONE
TZID:Europe/Ljubljana
BEGIN:DAYLIGHT
DTSTART:20260329T020000
RDATE:20260329T020000
RDATE:20270328T020000
TZNAME:CEST
TZOFFSETFROM:+0100
TZOFFSETTO:+0200
END:DAYLIGHT
BEGIN:STANDARD
DTSTART:20261025T030000
RDATE:20261025T030000
RDATE:20271031T030000
TZNAME:CET
TZOFFSETFROM:+0200
TZOFFSETTO:+0100
END:STANDARD
END:VTIMEZONE
BEGIN:VEVENT
SUMMARY:Uvod v programiranje (FM-1)\, Vaje (V)\, [3]
DTSTART;TZID=Europe/Ljubljana:20260525T170000
DTEND;TZID=Europe/Ljubljana:20260525T200000
DTSTAMP:20260421T151354Z
UID:fmf-AFLABS-URNIK:premaknjeno-srecanje:246958
ATTENDEE:1. letnik (FM)
CATEGORIES:Entry,Standard
COLOR:darkgreen
DESCRIPTION:Predmet: Uvod v programiranje (FM-1)\, Vaje (V)\, [3]\nLetniki
 : 1. letnik (FM)\nIzvajalci: Matjaž Zaveršnik\nProstor: 3.11
LOCATION:3.11
ORGANIZER:Matjaž Zaveršnik
RELATED-TO:fmf-AFLABS-URNIK:srecanje:17148
X-WR-TIMEZONE:Europe/Ljubljana
END:VEVENT
BEGIN:VEVENT
SUMMARY:Uvod v programiranje (FM-1)\, Vaje (V)\, [3]
DTSTART;TZID=Europe/Ljubljana:20260601T170000
DTEND;TZID=Europe/Ljubljana:20260601T200000
DTSTAMP:20260421T151354Z
UID:fmf-AFLABS-URNIK:premaknjeno-srecanje:246959
ATTENDEE:1. letnik (FM)
CATEGORIES:Entry,Standard
COLOR:darkgreen
DESCRIPTION:Predmet: Uvod v programiranje (FM-1)\, Vaje (V)\, [3]\nLetniki
 : 1. letnik (FM)\nIzvajalci: Matjaž Zaveršnik\nProstor: 3.11
LOCATION:3.11
ORGANIZER:Matjaž Zaveršnik
RELATED-TO:fmf-AFLABS-URNIK:srecanje:17148
X-WR-TIMEZONE:Europe/Ljubljana
END:VEVENT
BEGIN:VEVENT
SUMMARY:Uvod v programiranje (MAT-1\, PM-2)\, Vaje (V)\, [2]
DTSTART;TZID=Europe/Ljubljana:20260526T140000
DTEND;TZID=Europe/Ljubljana:20260526T170000
DTSTAMP:20260421T151354Z
UID:fmf-AFLABS-URNIK:premaknjeno-srecanje:249624
ATTENDEE:1. letnik (M)
ATTENDEE:2. letnik (PM)
CATEGORIES:Entry,Standard
COLOR:darkgreen
DESCRIPTION:Predmet: Uvod v programiranje (MAT-1\, PM-2)\, Vaje (V)\, [2]\
 nLetniki: 1. letnik (M)\, 2. letnik (PM)\nIzvajalci: Matjaž Zaveršnik\nP
 rostor: 3.11
LOCATION:3.11
ORGANIZER:Matjaž Zaveršnik
RELATED-TO:fmf-AFLABS-URNIK:srecanje:17389
X-WR-TIMEZONE:Europe/Ljubljana
END:VEVENT
BEGIN:VEVENT
SUMMARY:Uvod v programiranje (MAT-1\, PM-2)\, Vaje (V)\, [2]
DTSTART;TZID=Europe/Ljubljana:20260602T140000
DTEND;TZID=Europe/Ljubljana:20260602T170000
DTSTAMP:20260421T151354Z
UID:fmf-AFLABS-URNIK:premaknjeno-srecanje:249625
ATTENDEE:1. letnik (M)
ATTENDEE:2. letnik (PM)
CATEGORIES:Entry,Standard
COLOR:darkgreen
DESCRIPTION:Predmet: Uvod v programiranje (MAT-1\, PM-2)\, Vaje (V)\, [2]\
 nLetniki: 1. letnik (M)\, 2. letnik (PM)\nIzvajalci: Matjaž Zaveršnik\nP
 rostor: 3.11
LOCATION:3.11
ORGANIZER:Matjaž Zaveršnik
RELATED-TO:fmf-AFLABS-URNIK:srecanje:17389
X-WR-TIMEZONE:Europe/Ljubljana
END:VEVENT
BEGIN:VEVENT
SUMMARY:Uvod v programiranje (FM-1)\, Vaje (V)\, [2]
DTSTART;TZID=Europe/Ljubljana:20260528T140000
DTEND;TZID=Europe/Ljubljana:20260528T170000
DTSTAMP:20260421T151354Z
UID:fmf-AFLABS-URNIK:premaknjeno-srecanje:241440
ATTENDEE:1. letnik (FM)
CATEGORIES:Entry,Standard
COLOR:darkgreen
DESCRIPTION:Predmet: Uvod v programiranje (FM-1)\, Vaje (V)\, [2]\nLetniki
 : 1. letnik (FM)\nIzvajalci: Matjaž Zaveršnik\nProstor: 3.10
LOCATION:3.10
ORGANIZER:Matjaž Zaveršnik
RELATED-TO:fmf-AFLABS-URNIK:srecanje:17147
X-WR-TIMEZONE:Europe/Ljubljana
END:VEVENT
BEGIN:VEVENT
SUMMARY:Uvod v programiranje (MAT-1\, PM-2)\, Vaje (V)\, [3]
DTSTART;TZID=Europe/Ljubljana:20260529T140000
DTEND;TZID=Europe/Ljubljana:20260529T170000
DTSTAMP:20260421T151354Z
UID:fmf-AFLABS-URNIK:premaknjeno-srecanje:238480
ATTENDEE:1. letnik (M)
ATTENDEE:2. letnik (PM)
CATEGORIES:Entry,Standard
COLOR:darkgreen
DESCRIPTION:Predmet: Uvod v programiranje (MAT-1\, PM-2)\, Vaje (V)\, [3]\
 nLetniki: 1. letnik (M)\, 2. letnik (PM)\nIzvajalci: Matjaž Zaveršnik\nP
 rostor: 3.10
LOCATION:3.10
ORGANIZER:Matjaž Zaveršnik
RELATED-TO:fmf-AFLABS-URNIK:srecanje:16932
X-WR-TIMEZONE:Europe/Ljubljana
END:VEVENT
BEGIN:VEVENT
SUMMARY:Programiranje 2 (APM-2)\, Vaje (V)
DTSTART;TZID=Europe/Ljubljana:20260529T100000
DTEND;TZID=Europe/Ljubljana:20260529T120000
DTSTAMP:20260421T151354Z
UID:fmf-AFLABS-URNIK:premaknjeno-srecanje:251724
ATTENDEE:2. letnik (APM)
CATEGORIES:Entry,Standard
COLOR:darkgreen
DESCRIPTION:Predmet: Programiranje 2 (APM-2)\, Vaje (V)\nLetniki: 2. letni
 k (APM)\nIzvajalci: Matjaž Zaveršnik\nProstor: 3.11
LOCATION:3.11
ORGANIZER:Matjaž Zaveršnik
RELATED-TO:fmf-AFLABS-URNIK:srecanje:17154
X-WR-TIMEZONE:Europe/Ljubljana
END:VEVENT
END:VCALENDAR
