BEGIN:VCALENDAR
VERSION:2.0
PRODID:-//AFLabs urnik izvoz - fmf//aflabs.si//SI
DTSTAMP:20260425T131103Z
NAME:UL FMF urnik
REFRESH-INTERVAL:PT1H
SOURCE:https://urnik.fmf.uni-lj.si/en/teacher/160?day=2018-10-29&export=1
URL:https://urnik.fmf.uni-lj.si/en/teacher/160?day=2018-10-29&export=1
X-PUBLISHED-TTL:PT1H
X-WR-CALNAME:UL FMF urnik
X-WR-TIMEZONE:Europe/Ljubljana
BEGIN:VTIMEZONE
TZID:Europe/Ljubljana
BEGIN:DAYLIGHT
DTSTART:20260329T020000
RDATE:20260329T020000
RDATE:20270328T020000
TZNAME:CEST
TZOFFSETFROM:+0100
TZOFFSETTO:+0200
END:DAYLIGHT
BEGIN:STANDARD
DTSTART:20261025T030000
RDATE:20261025T030000
RDATE:20271031T030000
TZNAME:CET
TZOFFSETFROM:+0200
TZOFFSETTO:+0100
END:STANDARD
END:VTIMEZONE
BEGIN:VEVENT
SUMMARY:Fizika sevanja in dozimetrija (JET-1\, JET-2\, MEF-1\, MEF-2)\, Va
 je (V)
DTSTART;TZID=Europe/Ljubljana:20181003T080000
DTEND;TZID=Europe/Ljubljana:20181003T090000
DTSTAMP:20260425T131103Z
UID:fmf-AFLABS-URNIK:premaknjeno-srecanje:32102
ATTENDEE:1. letnik (Jedrska tehnika, 2. stopnja)
ATTENDEE:1. letnik (Medicinska fizika, 2. stopnja)
ATTENDEE:2. letnik (Jedrska tehnika, 2. stopnja)
ATTENDEE:2. letnik (Medicinska fizika, 2. stopnja)
CATEGORIES:Entry,Standard
COLOR:darkgreen
DESCRIPTION:Predmet: Fizika sevanja in dozimetrija (JET-1\, JET-2\, MEF-1\
 , MEF-2)\, Vaje (V)\nLetniki: 1. letnik (Jedrska tehnika\, 2. stopnja)\, 2
 . letnik (Jedrska tehnika\, 2. stopnja)\, 1. letnik (Medicinska fizika\, 2
 . stopnja)\, 2. letnik (Medicinska fizika\, 2. stopnja)\nIzvajalci: Boštj
 an Maček\nProstor: F5
LOCATION:F5
ORGANIZER:Boštjan Maček
RELATED-TO:fmf-AFLABS-URNIK:srecanje:1872
X-WR-TIMEZONE:Europe/Ljubljana
END:VEVENT
BEGIN:VEVENT
SUMMARY:Fizika sevanja in dozimetrija (JET-1\, JET-2\, MEF-1\, MEF-2)\, Va
 je (V)
DTSTART;TZID=Europe/Ljubljana:20181010T080000
DTEND;TZID=Europe/Ljubljana:20181010T090000
DTSTAMP:20260425T131103Z
UID:fmf-AFLABS-URNIK:premaknjeno-srecanje:32103
ATTENDEE:1. letnik (Jedrska tehnika, 2. stopnja)
ATTENDEE:1. letnik (Medicinska fizika, 2. stopnja)
ATTENDEE:2. letnik (Jedrska tehnika, 2. stopnja)
ATTENDEE:2. letnik (Medicinska fizika, 2. stopnja)
CATEGORIES:Entry,Standard
COLOR:darkgreen
DESCRIPTION:Predmet: Fizika sevanja in dozimetrija (JET-1\, JET-2\, MEF-1\
 , MEF-2)\, Vaje (V)\nLetniki: 1. letnik (Jedrska tehnika\, 2. stopnja)\, 2
 . letnik (Jedrska tehnika\, 2. stopnja)\, 1. letnik (Medicinska fizika\, 2
 . stopnja)\, 2. letnik (Medicinska fizika\, 2. stopnja)\nIzvajalci: Boštj
 an Maček\nProstor: F5
LOCATION:F5
ORGANIZER:Boštjan Maček
RELATED-TO:fmf-AFLABS-URNIK:srecanje:1872
X-WR-TIMEZONE:Europe/Ljubljana
END:VEVENT
BEGIN:VEVENT
SUMMARY:Fizika sevanja in dozimetrija (JET-1\, JET-2\, MEF-1\, MEF-2)\, Va
 je (V)
DTSTART;TZID=Europe/Ljubljana:20181017T080000
DTEND;TZID=Europe/Ljubljana:20181017T090000
DTSTAMP:20260425T131103Z
UID:fmf-AFLABS-URNIK:premaknjeno-srecanje:32104
ATTENDEE:1. letnik (Jedrska tehnika, 2. stopnja)
ATTENDEE:1. letnik (Medicinska fizika, 2. stopnja)
ATTENDEE:2. letnik (Jedrska tehnika, 2. stopnja)
ATTENDEE:2. letnik (Medicinska fizika, 2. stopnja)
CATEGORIES:Entry,Standard
COLOR:darkgreen
DESCRIPTION:Predmet: Fizika sevanja in dozimetrija (JET-1\, JET-2\, MEF-1\
 , MEF-2)\, Vaje (V)\nLetniki: 1. letnik (Jedrska tehnika\, 2. stopnja)\, 2
 . letnik (Jedrska tehnika\, 2. stopnja)\, 1. letnik (Medicinska fizika\, 2
 . stopnja)\, 2. letnik (Medicinska fizika\, 2. stopnja)\nIzvajalci: Boštj
 an Maček\nProstor: F5
LOCATION:F5
ORGANIZER:Boštjan Maček
RELATED-TO:fmf-AFLABS-URNIK:srecanje:1872
X-WR-TIMEZONE:Europe/Ljubljana
END:VEVENT
BEGIN:VEVENT
SUMMARY:Fizika sevanja in dozimetrija (JET-1\, JET-2\, MEF-1\, MEF-2)\, Va
 je (V)
DTSTART;TZID=Europe/Ljubljana:20181024T080000
DTEND;TZID=Europe/Ljubljana:20181024T090000
DTSTAMP:20260425T131103Z
UID:fmf-AFLABS-URNIK:premaknjeno-srecanje:32105
ATTENDEE:1. letnik (Jedrska tehnika, 2. stopnja)
ATTENDEE:1. letnik (Medicinska fizika, 2. stopnja)
ATTENDEE:2. letnik (Jedrska tehnika, 2. stopnja)
ATTENDEE:2. letnik (Medicinska fizika, 2. stopnja)
CATEGORIES:Entry,Standard
COLOR:darkgreen
DESCRIPTION:Predmet: Fizika sevanja in dozimetrija (JET-1\, JET-2\, MEF-1\
 , MEF-2)\, Vaje (V)\nLetniki: 1. letnik (Jedrska tehnika\, 2. stopnja)\, 2
 . letnik (Jedrska tehnika\, 2. stopnja)\, 1. letnik (Medicinska fizika\, 2
 . stopnja)\, 2. letnik (Medicinska fizika\, 2. stopnja)\nIzvajalci: Boštj
 an Maček\nProstor: F5
LOCATION:F5
ORGANIZER:Boštjan Maček
RELATED-TO:fmf-AFLABS-URNIK:srecanje:1872
X-WR-TIMEZONE:Europe/Ljubljana
END:VEVENT
BEGIN:VEVENT
SUMMARY:Fizika sevanja in dozimetrija (JET-1\, JET-2\, MEF-1\, MEF-2)\, Va
 je (V)
DTSTART;TZID=Europe/Ljubljana:20181031T080000
DTEND;TZID=Europe/Ljubljana:20181031T090000
DTSTAMP:20260425T131103Z
UID:fmf-AFLABS-URNIK:premaknjeno-srecanje:32106
ATTENDEE:1. letnik (Jedrska tehnika, 2. stopnja)
ATTENDEE:1. letnik (Medicinska fizika, 2. stopnja)
ATTENDEE:2. letnik (Jedrska tehnika, 2. stopnja)
ATTENDEE:2. letnik (Medicinska fizika, 2. stopnja)
CATEGORIES:Entry,Standard
COLOR:darkgreen
DESCRIPTION:Predmet: Fizika sevanja in dozimetrija (JET-1\, JET-2\, MEF-1\
 , MEF-2)\, Vaje (V)\nLetniki: 1. letnik (Jedrska tehnika\, 2. stopnja)\, 2
 . letnik (Jedrska tehnika\, 2. stopnja)\, 1. letnik (Medicinska fizika\, 2
 . stopnja)\, 2. letnik (Medicinska fizika\, 2. stopnja)\nIzvajalci: Boštj
 an Maček\nProstor: F5
LOCATION:F5
ORGANIZER:Boštjan Maček
RELATED-TO:fmf-AFLABS-URNIK:srecanje:1872
X-WR-TIMEZONE:Europe/Ljubljana
END:VEVENT
BEGIN:VEVENT
SUMMARY:Fizika sevanja in dozimetrija (JET-1\, JET-2\, MEF-1\, MEF-2)\, Va
 je (V)
DTSTART;TZID=Europe/Ljubljana:20181107T080000
DTEND;TZID=Europe/Ljubljana:20181107T090000
DTSTAMP:20260425T131103Z
UID:fmf-AFLABS-URNIK:premaknjeno-srecanje:32107
ATTENDEE:1. letnik (Jedrska tehnika, 2. stopnja)
ATTENDEE:1. letnik (Medicinska fizika, 2. stopnja)
ATTENDEE:2. letnik (Jedrska tehnika, 2. stopnja)
ATTENDEE:2. letnik (Medicinska fizika, 2. stopnja)
CATEGORIES:Entry,Standard
COLOR:darkgreen
DESCRIPTION:Predmet: Fizika sevanja in dozimetrija (JET-1\, JET-2\, MEF-1\
 , MEF-2)\, Vaje (V)\nLetniki: 1. letnik (Jedrska tehnika\, 2. stopnja)\, 2
 . letnik (Jedrska tehnika\, 2. stopnja)\, 1. letnik (Medicinska fizika\, 2
 . stopnja)\, 2. letnik (Medicinska fizika\, 2. stopnja)\nIzvajalci: Boštj
 an Maček\nProstor: F5
LOCATION:F5
ORGANIZER:Boštjan Maček
RELATED-TO:fmf-AFLABS-URNIK:srecanje:1872
X-WR-TIMEZONE:Europe/Ljubljana
END:VEVENT
BEGIN:VEVENT
SUMMARY:Fizika sevanja in dozimetrija (JET-1\, JET-2\, MEF-1\, MEF-2)\, Va
 je (V)
DTSTART;TZID=Europe/Ljubljana:20181114T080000
DTEND;TZID=Europe/Ljubljana:20181114T090000
DTSTAMP:20260425T131103Z
UID:fmf-AFLABS-URNIK:premaknjeno-srecanje:32108
ATTENDEE:1. letnik (Jedrska tehnika, 2. stopnja)
ATTENDEE:1. letnik (Medicinska fizika, 2. stopnja)
ATTENDEE:2. letnik (Jedrska tehnika, 2. stopnja)
ATTENDEE:2. letnik (Medicinska fizika, 2. stopnja)
CATEGORIES:Entry,Standard
COLOR:darkgreen
DESCRIPTION:Predmet: Fizika sevanja in dozimetrija (JET-1\, JET-2\, MEF-1\
 , MEF-2)\, Vaje (V)\nLetniki: 1. letnik (Jedrska tehnika\, 2. stopnja)\, 2
 . letnik (Jedrska tehnika\, 2. stopnja)\, 1. letnik (Medicinska fizika\, 2
 . stopnja)\, 2. letnik (Medicinska fizika\, 2. stopnja)\nIzvajalci: Boštj
 an Maček\nProstor: F5
LOCATION:F5
ORGANIZER:Boštjan Maček
RELATED-TO:fmf-AFLABS-URNIK:srecanje:1872
X-WR-TIMEZONE:Europe/Ljubljana
END:VEVENT
BEGIN:VEVENT
SUMMARY:Fizika sevanja in dozimetrija (JET-1\, JET-2\, MEF-1\, MEF-2)\, Va
 je (V)
DTSTART;TZID=Europe/Ljubljana:20181121T080000
DTEND;TZID=Europe/Ljubljana:20181121T090000
DTSTAMP:20260425T131103Z
UID:fmf-AFLABS-URNIK:premaknjeno-srecanje:32109
ATTENDEE:1. letnik (Jedrska tehnika, 2. stopnja)
ATTENDEE:1. letnik (Medicinska fizika, 2. stopnja)
ATTENDEE:2. letnik (Jedrska tehnika, 2. stopnja)
ATTENDEE:2. letnik (Medicinska fizika, 2. stopnja)
CATEGORIES:Entry,Standard
COLOR:darkgreen
DESCRIPTION:Predmet: Fizika sevanja in dozimetrija (JET-1\, JET-2\, MEF-1\
 , MEF-2)\, Vaje (V)\nLetniki: 1. letnik (Jedrska tehnika\, 2. stopnja)\, 2
 . letnik (Jedrska tehnika\, 2. stopnja)\, 1. letnik (Medicinska fizika\, 2
 . stopnja)\, 2. letnik (Medicinska fizika\, 2. stopnja)\nIzvajalci: Boštj
 an Maček\nProstor: F5
LOCATION:F5
ORGANIZER:Boštjan Maček
RELATED-TO:fmf-AFLABS-URNIK:srecanje:1872
X-WR-TIMEZONE:Europe/Ljubljana
END:VEVENT
BEGIN:VEVENT
SUMMARY:Fizika sevanja in dozimetrija (JET-1\, JET-2\, MEF-1\, MEF-2)\, Va
 je (V)
DTSTART;TZID=Europe/Ljubljana:20181128T080000
DTEND;TZID=Europe/Ljubljana:20181128T090000
DTSTAMP:20260425T131103Z
UID:fmf-AFLABS-URNIK:premaknjeno-srecanje:32110
ATTENDEE:1. letnik (Jedrska tehnika, 2. stopnja)
ATTENDEE:1. letnik (Medicinska fizika, 2. stopnja)
ATTENDEE:2. letnik (Jedrska tehnika, 2. stopnja)
ATTENDEE:2. letnik (Medicinska fizika, 2. stopnja)
CATEGORIES:Entry,Standard
COLOR:darkgreen
DESCRIPTION:Predmet: Fizika sevanja in dozimetrija (JET-1\, JET-2\, MEF-1\
 , MEF-2)\, Vaje (V)\nLetniki: 1. letnik (Jedrska tehnika\, 2. stopnja)\, 2
 . letnik (Jedrska tehnika\, 2. stopnja)\, 1. letnik (Medicinska fizika\, 2
 . stopnja)\, 2. letnik (Medicinska fizika\, 2. stopnja)\nIzvajalci: Boštj
 an Maček\nProstor: F5
LOCATION:F5
ORGANIZER:Boštjan Maček
RELATED-TO:fmf-AFLABS-URNIK:srecanje:1872
X-WR-TIMEZONE:Europe/Ljubljana
END:VEVENT
BEGIN:VEVENT
SUMMARY:Fizika sevanja in dozimetrija (JET-1\, JET-2\, MEF-1\, MEF-2)\, Va
 je (V)
DTSTART;TZID=Europe/Ljubljana:20181205T080000
DTEND;TZID=Europe/Ljubljana:20181205T090000
DTSTAMP:20260425T131103Z
UID:fmf-AFLABS-URNIK:premaknjeno-srecanje:32111
ATTENDEE:1. letnik (Jedrska tehnika, 2. stopnja)
ATTENDEE:1. letnik (Medicinska fizika, 2. stopnja)
ATTENDEE:2. letnik (Jedrska tehnika, 2. stopnja)
ATTENDEE:2. letnik (Medicinska fizika, 2. stopnja)
CATEGORIES:Entry,Standard
COLOR:darkgreen
DESCRIPTION:Predmet: Fizika sevanja in dozimetrija (JET-1\, JET-2\, MEF-1\
 , MEF-2)\, Vaje (V)\nLetniki: 1. letnik (Jedrska tehnika\, 2. stopnja)\, 2
 . letnik (Jedrska tehnika\, 2. stopnja)\, 1. letnik (Medicinska fizika\, 2
 . stopnja)\, 2. letnik (Medicinska fizika\, 2. stopnja)\nIzvajalci: Boštj
 an Maček\nProstor: F5
LOCATION:F5
ORGANIZER:Boštjan Maček
RELATED-TO:fmf-AFLABS-URNIK:srecanje:1872
X-WR-TIMEZONE:Europe/Ljubljana
END:VEVENT
BEGIN:VEVENT
SUMMARY:Fizika sevanja in dozimetrija (JET-1\, JET-2\, MEF-1\, MEF-2)\, Va
 je (V)
DTSTART;TZID=Europe/Ljubljana:20181212T080000
DTEND;TZID=Europe/Ljubljana:20181212T090000
DTSTAMP:20260425T131103Z
UID:fmf-AFLABS-URNIK:premaknjeno-srecanje:32112
ATTENDEE:1. letnik (Jedrska tehnika, 2. stopnja)
ATTENDEE:1. letnik (Medicinska fizika, 2. stopnja)
ATTENDEE:2. letnik (Jedrska tehnika, 2. stopnja)
ATTENDEE:2. letnik (Medicinska fizika, 2. stopnja)
CATEGORIES:Entry,Standard
COLOR:darkgreen
DESCRIPTION:Predmet: Fizika sevanja in dozimetrija (JET-1\, JET-2\, MEF-1\
 , MEF-2)\, Vaje (V)\nLetniki: 1. letnik (Jedrska tehnika\, 2. stopnja)\, 2
 . letnik (Jedrska tehnika\, 2. stopnja)\, 1. letnik (Medicinska fizika\, 2
 . stopnja)\, 2. letnik (Medicinska fizika\, 2. stopnja)\nIzvajalci: Boštj
 an Maček\nProstor: F5
LOCATION:F5
ORGANIZER:Boštjan Maček
RELATED-TO:fmf-AFLABS-URNIK:srecanje:1872
X-WR-TIMEZONE:Europe/Ljubljana
END:VEVENT
BEGIN:VEVENT
SUMMARY:Fizika sevanja in dozimetrija (JET-1\, JET-2\, MEF-1\, MEF-2)\, Va
 je (V)
DTSTART;TZID=Europe/Ljubljana:20181219T080000
DTEND;TZID=Europe/Ljubljana:20181219T090000
DTSTAMP:20260425T131103Z
UID:fmf-AFLABS-URNIK:premaknjeno-srecanje:32113
ATTENDEE:1. letnik (Jedrska tehnika, 2. stopnja)
ATTENDEE:1. letnik (Medicinska fizika, 2. stopnja)
ATTENDEE:2. letnik (Jedrska tehnika, 2. stopnja)
ATTENDEE:2. letnik (Medicinska fizika, 2. stopnja)
CATEGORIES:Entry,Standard
COLOR:darkgreen
DESCRIPTION:Predmet: Fizika sevanja in dozimetrija (JET-1\, JET-2\, MEF-1\
 , MEF-2)\, Vaje (V)\nLetniki: 1. letnik (Jedrska tehnika\, 2. stopnja)\, 2
 . letnik (Jedrska tehnika\, 2. stopnja)\, 1. letnik (Medicinska fizika\, 2
 . stopnja)\, 2. letnik (Medicinska fizika\, 2. stopnja)\nIzvajalci: Boštj
 an Maček\nProstor: F5
LOCATION:F5
ORGANIZER:Boštjan Maček
RELATED-TO:fmf-AFLABS-URNIK:srecanje:1872
X-WR-TIMEZONE:Europe/Ljubljana
END:VEVENT
BEGIN:VEVENT
SUMMARY:Fizika sevanja in dozimetrija (JET-1\, JET-2\, MEF-1\, MEF-2)\, Va
 je (V)
DTSTART;TZID=Europe/Ljubljana:20181226T080000
DTEND;TZID=Europe/Ljubljana:20181226T090000
DTSTAMP:20260425T131103Z
UID:fmf-AFLABS-URNIK:premaknjeno-srecanje:32114
ATTENDEE:1. letnik (Jedrska tehnika, 2. stopnja)
ATTENDEE:1. letnik (Medicinska fizika, 2. stopnja)
ATTENDEE:2. letnik (Jedrska tehnika, 2. stopnja)
ATTENDEE:2. letnik (Medicinska fizika, 2. stopnja)
CATEGORIES:Entry,Standard
COLOR:darkgreen
DESCRIPTION:Predmet: Fizika sevanja in dozimetrija (JET-1\, JET-2\, MEF-1\
 , MEF-2)\, Vaje (V)\nLetniki: 1. letnik (Jedrska tehnika\, 2. stopnja)\, 2
 . letnik (Jedrska tehnika\, 2. stopnja)\, 1. letnik (Medicinska fizika\, 2
 . stopnja)\, 2. letnik (Medicinska fizika\, 2. stopnja)\nIzvajalci: Boštj
 an Maček\nProstor: F5
LOCATION:F5
ORGANIZER:Boštjan Maček
RELATED-TO:fmf-AFLABS-URNIK:srecanje:1872
X-WR-TIMEZONE:Europe/Ljubljana
END:VEVENT
BEGIN:VEVENT
SUMMARY:Fizika sevanja in dozimetrija (JET-1\, JET-2\, MEF-1\, MEF-2)\, Va
 je (V)
DTSTART;TZID=Europe/Ljubljana:20190102T080000
DTEND;TZID=Europe/Ljubljana:20190102T090000
DTSTAMP:20260425T131103Z
UID:fmf-AFLABS-URNIK:premaknjeno-srecanje:32115
ATTENDEE:1. letnik (Jedrska tehnika, 2. stopnja)
ATTENDEE:1. letnik (Medicinska fizika, 2. stopnja)
ATTENDEE:2. letnik (Jedrska tehnika, 2. stopnja)
ATTENDEE:2. letnik (Medicinska fizika, 2. stopnja)
CATEGORIES:Entry,Standard
COLOR:darkgreen
DESCRIPTION:Predmet: Fizika sevanja in dozimetrija (JET-1\, JET-2\, MEF-1\
 , MEF-2)\, Vaje (V)\nLetniki: 1. letnik (Jedrska tehnika\, 2. stopnja)\, 2
 . letnik (Jedrska tehnika\, 2. stopnja)\, 1. letnik (Medicinska fizika\, 2
 . stopnja)\, 2. letnik (Medicinska fizika\, 2. stopnja)\nIzvajalci: Boštj
 an Maček\nProstor: F5
LOCATION:F5
ORGANIZER:Boštjan Maček
RELATED-TO:fmf-AFLABS-URNIK:srecanje:1872
X-WR-TIMEZONE:Europe/Ljubljana
END:VEVENT
BEGIN:VEVENT
SUMMARY:Fizika sevanja in dozimetrija (JET-1\, JET-2\, MEF-1\, MEF-2)\, Va
 je (V)
DTSTART;TZID=Europe/Ljubljana:20190109T080000
DTEND;TZID=Europe/Ljubljana:20190109T090000
DTSTAMP:20260425T131103Z
UID:fmf-AFLABS-URNIK:premaknjeno-srecanje:32116
ATTENDEE:1. letnik (Jedrska tehnika, 2. stopnja)
ATTENDEE:1. letnik (Medicinska fizika, 2. stopnja)
ATTENDEE:2. letnik (Jedrska tehnika, 2. stopnja)
ATTENDEE:2. letnik (Medicinska fizika, 2. stopnja)
CATEGORIES:Entry,Standard
COLOR:darkgreen
DESCRIPTION:Predmet: Fizika sevanja in dozimetrija (JET-1\, JET-2\, MEF-1\
 , MEF-2)\, Vaje (V)\nLetniki: 1. letnik (Jedrska tehnika\, 2. stopnja)\, 2
 . letnik (Jedrska tehnika\, 2. stopnja)\, 1. letnik (Medicinska fizika\, 2
 . stopnja)\, 2. letnik (Medicinska fizika\, 2. stopnja)\nIzvajalci: Boštj
 an Maček\nProstor: F5
LOCATION:F5
ORGANIZER:Boštjan Maček
RELATED-TO:fmf-AFLABS-URNIK:srecanje:1872
X-WR-TIMEZONE:Europe/Ljubljana
END:VEVENT
BEGIN:VEVENT
SUMMARY:Fizika sevanja in dozimetrija (JET-1\, JET-2\, MEF-1\, MEF-2)\, Va
 je (V)
DTSTART;TZID=Europe/Ljubljana:20190116T080000
DTEND;TZID=Europe/Ljubljana:20190116T090000
DTSTAMP:20260425T131103Z
UID:fmf-AFLABS-URNIK:premaknjeno-srecanje:32117
ATTENDEE:1. letnik (Jedrska tehnika, 2. stopnja)
ATTENDEE:1. letnik (Medicinska fizika, 2. stopnja)
ATTENDEE:2. letnik (Jedrska tehnika, 2. stopnja)
ATTENDEE:2. letnik (Medicinska fizika, 2. stopnja)
CATEGORIES:Entry,Standard
COLOR:darkgreen
DESCRIPTION:Predmet: Fizika sevanja in dozimetrija (JET-1\, JET-2\, MEF-1\
 , MEF-2)\, Vaje (V)\nLetniki: 1. letnik (Jedrska tehnika\, 2. stopnja)\, 2
 . letnik (Jedrska tehnika\, 2. stopnja)\, 1. letnik (Medicinska fizika\, 2
 . stopnja)\, 2. letnik (Medicinska fizika\, 2. stopnja)\nIzvajalci: Boštj
 an Maček\nProstor: F5
LOCATION:F5
ORGANIZER:Boštjan Maček
RELATED-TO:fmf-AFLABS-URNIK:srecanje:1872
X-WR-TIMEZONE:Europe/Ljubljana
END:VEVENT
END:VCALENDAR
