BEGIN:VCALENDAR
VERSION:2.0
PRODID:-//AFLabs urnik izvoz - fmf//aflabs.si//SI
DTSTAMP:20260425T144927Z
NAME:UL FMF urnik
REFRESH-INTERVAL:PT1H
SOURCE:https://urnik.fmf.uni-lj.si/en/teacher/162?day=2024-01-29&export=1
URL:https://urnik.fmf.uni-lj.si/en/teacher/162?day=2024-01-29&export=1
X-PUBLISHED-TTL:PT1H
X-WR-CALNAME:UL FMF urnik
X-WR-TIMEZONE:Europe/Ljubljana
BEGIN:VTIMEZONE
TZID:Europe/Ljubljana
BEGIN:DAYLIGHT
DTSTART:20260329T020000
RDATE:20260329T020000
RDATE:20270328T020000
TZNAME:CEST
TZOFFSETFROM:+0100
TZOFFSETTO:+0200
END:DAYLIGHT
BEGIN:STANDARD
DTSTART:20261025T030000
RDATE:20261025T030000
RDATE:20271031T030000
TZNAME:CET
TZOFFSETFROM:+0200
TZOFFSETTO:+0100
END:STANDARD
END:VTIMEZONE
BEGIN:VEVENT
SUMMARY:Fizika kondenzirane snovi (FIZ-M1)\, Predavanja (P)
DTSTART;TZID=Europe/Ljubljana:20231225T100000
DTEND;TZID=Europe/Ljubljana:20231225T130000
DTSTAMP:20260425T144927Z
UID:fmf-AFLABS-URNIK:premaknjeno-srecanje:31248
ATTENDEE:1. letnik (Fizika, 2. stopnja)
CATEGORIES:Entry,Standard
COLOR:darkgreen
DESCRIPTION:Predmet: Fizika kondenzirane snovi (FIZ-M1)\, Predavanja (P)\n
 Letniki: 1. letnik (Fizika\, 2. stopnja)\nIzvajalci: Tomaž Rejec\nProstor
 : P.01
LOCATION:P.01
ORGANIZER:Tomaž Rejec
RELATED-TO:fmf-AFLABS-URNIK:srecanje:9123
X-WR-TIMEZONE:Europe/Ljubljana
END:VEVENT
BEGIN:VEVENT
SUMMARY:Fizika kondenzirane snovi (FIZ-M1)\, Predavanja (P)
DTSTART;TZID=Europe/Ljubljana:20240101T100000
DTEND;TZID=Europe/Ljubljana:20240101T130000
DTSTAMP:20260425T144927Z
UID:fmf-AFLABS-URNIK:premaknjeno-srecanje:31249
ATTENDEE:1. letnik (Fizika, 2. stopnja)
CATEGORIES:Entry,Standard
COLOR:darkgreen
DESCRIPTION:Predmet: Fizika kondenzirane snovi (FIZ-M1)\, Predavanja (P)\n
 Letniki: 1. letnik (Fizika\, 2. stopnja)\nIzvajalci: Tomaž Rejec\nProstor
 : P.01
LOCATION:P.01
ORGANIZER:Tomaž Rejec
RELATED-TO:fmf-AFLABS-URNIK:srecanje:9123
X-WR-TIMEZONE:Europe/Ljubljana
END:VEVENT
BEGIN:VEVENT
SUMMARY:Fizika kondenzirane snovi (FIZ-M1)\, Predavanja (P)
DTSTART;TZID=Europe/Ljubljana:20240108T100000
DTEND;TZID=Europe/Ljubljana:20240108T130000
DTSTAMP:20260425T144927Z
UID:fmf-AFLABS-URNIK:premaknjeno-srecanje:31250
ATTENDEE:1. letnik (Fizika, 2. stopnja)
CATEGORIES:Entry,Standard
COLOR:darkgreen
DESCRIPTION:Predmet: Fizika kondenzirane snovi (FIZ-M1)\, Predavanja (P)\n
 Letniki: 1. letnik (Fizika\, 2. stopnja)\nIzvajalci: Tomaž Rejec\nProstor
 : P.01
LOCATION:P.01
ORGANIZER:Tomaž Rejec
RELATED-TO:fmf-AFLABS-URNIK:srecanje:9123
X-WR-TIMEZONE:Europe/Ljubljana
END:VEVENT
BEGIN:VEVENT
SUMMARY:Fizika kondenzirane snovi (FIZ-M1)\, Predavanja (P)
DTSTART;TZID=Europe/Ljubljana:20240115T100000
DTEND;TZID=Europe/Ljubljana:20240115T130000
DTSTAMP:20260425T144927Z
UID:fmf-AFLABS-URNIK:premaknjeno-srecanje:31251
ATTENDEE:1. letnik (Fizika, 2. stopnja)
CATEGORIES:Entry,Standard
COLOR:darkgreen
DESCRIPTION:Predmet: Fizika kondenzirane snovi (FIZ-M1)\, Predavanja (P)\n
 Letniki: 1. letnik (Fizika\, 2. stopnja)\nIzvajalci: Tomaž Rejec\nProstor
 : P.01
LOCATION:P.01
ORGANIZER:Tomaž Rejec
RELATED-TO:fmf-AFLABS-URNIK:srecanje:9123
X-WR-TIMEZONE:Europe/Ljubljana
END:VEVENT
BEGIN:VEVENT
SUMMARY:Fizika kondenzirane snovi (FIZ-M1)\, Predavanja (P)
DTSTART;TZID=Europe/Ljubljana:20240122T100000
DTEND;TZID=Europe/Ljubljana:20240122T130000
DTSTAMP:20260425T144927Z
UID:fmf-AFLABS-URNIK:premaknjeno-srecanje:31252
ATTENDEE:1. letnik (Fizika, 2. stopnja)
CATEGORIES:Entry,Standard
COLOR:darkgreen
DESCRIPTION:Predmet: Fizika kondenzirane snovi (FIZ-M1)\, Predavanja (P)\n
 Letniki: 1. letnik (Fizika\, 2. stopnja)\nIzvajalci: Tomaž Rejec\nProstor
 : P.01
LOCATION:P.01
ORGANIZER:Tomaž Rejec
RELATED-TO:fmf-AFLABS-URNIK:srecanje:9123
X-WR-TIMEZONE:Europe/Ljubljana
END:VEVENT
BEGIN:VEVENT
SUMMARY:Fizika kondenzirane snovi (FIZ-M1)\, Vaje (V)
DTSTART;TZID=Europe/Ljubljana:20231226T140000
DTEND;TZID=Europe/Ljubljana:20231226T160000
DTSTAMP:20260425T144927Z
UID:fmf-AFLABS-URNIK:premaknjeno-srecanje:31327
ATTENDEE:1. letnik (Fizika, 2. stopnja)
CATEGORIES:Entry,Standard
COLOR:darkgreen
DESCRIPTION:Predmet: Fizika kondenzirane snovi (FIZ-M1)\, Vaje (V)\nLetnik
 i: 1. letnik (Fizika\, 2. stopnja)\nIzvajalci: Tomaž Rejec\nProstor: F5
LOCATION:F5
ORGANIZER:Tomaž Rejec
RELATED-TO:fmf-AFLABS-URNIK:srecanje:9124
X-WR-TIMEZONE:Europe/Ljubljana
END:VEVENT
BEGIN:VEVENT
SUMMARY:Fizika kondenzirane snovi (FIZ-M1)\, Vaje (V)
DTSTART;TZID=Europe/Ljubljana:20240102T140000
DTEND;TZID=Europe/Ljubljana:20240102T160000
DTSTAMP:20260425T144927Z
UID:fmf-AFLABS-URNIK:premaknjeno-srecanje:31328
ATTENDEE:1. letnik (Fizika, 2. stopnja)
CATEGORIES:Entry,Standard
COLOR:darkgreen
DESCRIPTION:Predmet: Fizika kondenzirane snovi (FIZ-M1)\, Vaje (V)\nLetnik
 i: 1. letnik (Fizika\, 2. stopnja)\nIzvajalci: Tomaž Rejec\nProstor: F5
LOCATION:F5
ORGANIZER:Tomaž Rejec
RELATED-TO:fmf-AFLABS-URNIK:srecanje:9124
X-WR-TIMEZONE:Europe/Ljubljana
END:VEVENT
BEGIN:VEVENT
SUMMARY:Fizika kondenzirane snovi (FIZ-M1)\, Vaje (V)
DTSTART;TZID=Europe/Ljubljana:20240109T140000
DTEND;TZID=Europe/Ljubljana:20240109T160000
DTSTAMP:20260425T144927Z
UID:fmf-AFLABS-URNIK:premaknjeno-srecanje:31329
ATTENDEE:1. letnik (Fizika, 2. stopnja)
CATEGORIES:Entry,Standard
COLOR:darkgreen
DESCRIPTION:Predmet: Fizika kondenzirane snovi (FIZ-M1)\, Vaje (V)\nLetnik
 i: 1. letnik (Fizika\, 2. stopnja)\nIzvajalci: Tomaž Rejec\nProstor: F5
LOCATION:F5
ORGANIZER:Tomaž Rejec
RELATED-TO:fmf-AFLABS-URNIK:srecanje:9124
X-WR-TIMEZONE:Europe/Ljubljana
END:VEVENT
BEGIN:VEVENT
SUMMARY:Fizika kondenzirane snovi (FIZ-M1)\, Vaje (V)
DTSTART;TZID=Europe/Ljubljana:20240116T140000
DTEND;TZID=Europe/Ljubljana:20240116T160000
DTSTAMP:20260425T144927Z
UID:fmf-AFLABS-URNIK:premaknjeno-srecanje:31330
ATTENDEE:1. letnik (Fizika, 2. stopnja)
CATEGORIES:Entry,Standard
COLOR:darkgreen
DESCRIPTION:Predmet: Fizika kondenzirane snovi (FIZ-M1)\, Vaje (V)\nLetnik
 i: 1. letnik (Fizika\, 2. stopnja)\nIzvajalci: Tomaž Rejec\nProstor: F5
LOCATION:F5
ORGANIZER:Tomaž Rejec
RELATED-TO:fmf-AFLABS-URNIK:srecanje:9124
X-WR-TIMEZONE:Europe/Ljubljana
END:VEVENT
BEGIN:VEVENT
SUMMARY:Fizika kondenzirane snovi (FIZ-M1)\, Vaje (V)
DTSTART;TZID=Europe/Ljubljana:20240123T140000
DTEND;TZID=Europe/Ljubljana:20240123T160000
DTSTAMP:20260425T144927Z
UID:fmf-AFLABS-URNIK:premaknjeno-srecanje:31331
ATTENDEE:1. letnik (Fizika, 2. stopnja)
CATEGORIES:Entry,Standard
COLOR:darkgreen
DESCRIPTION:Predmet: Fizika kondenzirane snovi (FIZ-M1)\, Vaje (V)\nLetnik
 i: 1. letnik (Fizika\, 2. stopnja)\nIzvajalci: Tomaž Rejec\nProstor: F5
LOCATION:F5
ORGANIZER:Tomaž Rejec
RELATED-TO:fmf-AFLABS-URNIK:srecanje:9124
X-WR-TIMEZONE:Europe/Ljubljana
END:VEVENT
BEGIN:VEVENT
SUMMARY:Kvantna mehanika (FIZ-3)\, Vaje (V)
DTSTART;TZID=Europe/Ljubljana:20231226T080000
DTEND;TZID=Europe/Ljubljana:20231226T100000
DTSTAMP:20260425T144927Z
UID:fmf-AFLABS-URNIK:premaknjeno-srecanje:55853
ATTENDEE:3. letnik (Fizika, 1. stopnja)
CATEGORIES:Entry,Standard
COLOR:darkgreen
DESCRIPTION:Predmet: Kvantna mehanika (FIZ-3)\, Vaje (V)\nLetniki: 3. letn
 ik (Fizika\, 1. stopnja)\nIzvajalci: Tomaž Rejec\nProstor: MFP
LOCATION:MFP
ORGANIZER:Tomaž Rejec
RELATED-TO:fmf-AFLABS-URNIK:srecanje:9237
X-WR-TIMEZONE:Europe/Ljubljana
END:VEVENT
BEGIN:VEVENT
SUMMARY:Kvantna mehanika (FIZ-3)\, Vaje (V)
DTSTART;TZID=Europe/Ljubljana:20240102T080000
DTEND;TZID=Europe/Ljubljana:20240102T100000
DTSTAMP:20260425T144927Z
UID:fmf-AFLABS-URNIK:premaknjeno-srecanje:55854
ATTENDEE:3. letnik (Fizika, 1. stopnja)
CATEGORIES:Entry,Standard
COLOR:darkgreen
DESCRIPTION:Predmet: Kvantna mehanika (FIZ-3)\, Vaje (V)\nLetniki: 3. letn
 ik (Fizika\, 1. stopnja)\nIzvajalci: Tomaž Rejec\nProstor: MFP
LOCATION:MFP
ORGANIZER:Tomaž Rejec
RELATED-TO:fmf-AFLABS-URNIK:srecanje:9237
X-WR-TIMEZONE:Europe/Ljubljana
END:VEVENT
BEGIN:VEVENT
SUMMARY:Kvantna mehanika (FIZ-3)\, Vaje (V)
DTSTART;TZID=Europe/Ljubljana:20240109T080000
DTEND;TZID=Europe/Ljubljana:20240109T100000
DTSTAMP:20260425T144927Z
UID:fmf-AFLABS-URNIK:premaknjeno-srecanje:55855
ATTENDEE:3. letnik (Fizika, 1. stopnja)
CATEGORIES:Entry,Standard
COLOR:darkgreen
DESCRIPTION:Predmet: Kvantna mehanika (FIZ-3)\, Vaje (V)\nLetniki: 3. letn
 ik (Fizika\, 1. stopnja)\nIzvajalci: Tomaž Rejec\nProstor: MFP
LOCATION:MFP
ORGANIZER:Tomaž Rejec
RELATED-TO:fmf-AFLABS-URNIK:srecanje:9237
X-WR-TIMEZONE:Europe/Ljubljana
END:VEVENT
BEGIN:VEVENT
SUMMARY:Kvantna mehanika (FIZ-3)\, Vaje (V)
DTSTART;TZID=Europe/Ljubljana:20240116T080000
DTEND;TZID=Europe/Ljubljana:20240116T100000
DTSTAMP:20260425T144927Z
UID:fmf-AFLABS-URNIK:premaknjeno-srecanje:55856
ATTENDEE:3. letnik (Fizika, 1. stopnja)
CATEGORIES:Entry,Standard
COLOR:darkgreen
DESCRIPTION:Predmet: Kvantna mehanika (FIZ-3)\, Vaje (V)\nLetniki: 3. letn
 ik (Fizika\, 1. stopnja)\nIzvajalci: Tomaž Rejec\nProstor: MFP
LOCATION:MFP
ORGANIZER:Tomaž Rejec
RELATED-TO:fmf-AFLABS-URNIK:srecanje:9237
X-WR-TIMEZONE:Europe/Ljubljana
END:VEVENT
BEGIN:VEVENT
SUMMARY:Kvantna mehanika (FIZ-3)\, Vaje (V)
DTSTART;TZID=Europe/Ljubljana:20240123T080000
DTEND;TZID=Europe/Ljubljana:20240123T100000
DTSTAMP:20260425T144927Z
UID:fmf-AFLABS-URNIK:premaknjeno-srecanje:55857
ATTENDEE:3. letnik (Fizika, 1. stopnja)
CATEGORIES:Entry,Standard
COLOR:darkgreen
DESCRIPTION:Predmet: Kvantna mehanika (FIZ-3)\, Vaje (V)\nLetniki: 3. letn
 ik (Fizika\, 1. stopnja)\nIzvajalci: Tomaž Rejec\nProstor: MFP
LOCATION:MFP
ORGANIZER:Tomaž Rejec
RELATED-TO:fmf-AFLABS-URNIK:srecanje:9237
X-WR-TIMEZONE:Europe/Ljubljana
END:VEVENT
BEGIN:VEVENT
SUMMARY:Fizika 1 (MAT-1)\, Vaje (V)\, [1]
DTSTART;TZID=Europe/Ljubljana:20240219T070000
DTEND;TZID=Europe/Ljubljana:20240219T100000
DTSTAMP:20260425T144927Z
UID:fmf-AFLABS-URNIK:premaknjeno-srecanje:124214
ATTENDEE:1. letnik (M)
CATEGORIES:Entry,Standard
COLOR:darkgreen
DESCRIPTION:Predmet: Fizika 1 (MAT-1)\, Vaje (V)\, [1]\nLetniki: 1. letnik
  (M)\nIzvajalci: Tomaž Rejec\nProstor: 2.01
LOCATION:2.01
ORGANIZER:Tomaž Rejec
RELATED-TO:fmf-AFLABS-URNIK:srecanje:10416
X-WR-TIMEZONE:Europe/Ljubljana
END:VEVENT
BEGIN:VEVENT
SUMMARY:Fizika 1 (MAT-1)\, Vaje (V)\, [1]
DTSTART;TZID=Europe/Ljubljana:20240226T070000
DTEND;TZID=Europe/Ljubljana:20240226T100000
DTSTAMP:20260425T144927Z
UID:fmf-AFLABS-URNIK:premaknjeno-srecanje:124215
ATTENDEE:1. letnik (M)
CATEGORIES:Entry,Standard
COLOR:darkgreen
DESCRIPTION:Predmet: Fizika 1 (MAT-1)\, Vaje (V)\, [1]\nLetniki: 1. letnik
  (M)\nIzvajalci: Tomaž Rejec\nProstor: 2.01
LOCATION:2.01
ORGANIZER:Tomaž Rejec
RELATED-TO:fmf-AFLABS-URNIK:srecanje:10416
X-WR-TIMEZONE:Europe/Ljubljana
END:VEVENT
BEGIN:VEVENT
SUMMARY:Fizika 1 (MAT-1)\, Vaje (V)\, [1]
DTSTART;TZID=Europe/Ljubljana:20240304T070000
DTEND;TZID=Europe/Ljubljana:20240304T100000
DTSTAMP:20260425T144927Z
UID:fmf-AFLABS-URNIK:premaknjeno-srecanje:124216
ATTENDEE:1. letnik (M)
CATEGORIES:Entry,Standard
COLOR:darkgreen
DESCRIPTION:Predmet: Fizika 1 (MAT-1)\, Vaje (V)\, [1]\nLetniki: 1. letnik
  (M)\nIzvajalci: Tomaž Rejec\nProstor: 2.01
LOCATION:2.01
ORGANIZER:Tomaž Rejec
RELATED-TO:fmf-AFLABS-URNIK:srecanje:10416
X-WR-TIMEZONE:Europe/Ljubljana
END:VEVENT
BEGIN:VEVENT
SUMMARY:Fizika trdne snovi (FIZ-3)\, Vaje (V)
DTSTART;TZID=Europe/Ljubljana:20240219T100000
DTEND;TZID=Europe/Ljubljana:20240219T120000
DTSTAMP:20260425T144927Z
UID:fmf-AFLABS-URNIK:premaknjeno-srecanje:125129
ATTENDEE:3. letnik (Fizika, 1. stopnja)
CATEGORIES:Entry,Standard
COLOR:darkgreen
DESCRIPTION:Predmet: Fizika trdne snovi (FIZ-3)\, Vaje (V)\nLetniki: 3. le
 tnik (Fizika\, 1. stopnja)\nIzvajalci: Tomaž Rejec\nProstor: F1
LOCATION:F1
ORGANIZER:Tomaž Rejec
RELATED-TO:fmf-AFLABS-URNIK:srecanje:10788
X-WR-TIMEZONE:Europe/Ljubljana
END:VEVENT
BEGIN:VEVENT
SUMMARY:Fizika trdne snovi (FIZ-3)\, Vaje (V)
DTSTART;TZID=Europe/Ljubljana:20240226T100000
DTEND;TZID=Europe/Ljubljana:20240226T120000
DTSTAMP:20260425T144927Z
UID:fmf-AFLABS-URNIK:premaknjeno-srecanje:125130
ATTENDEE:3. letnik (Fizika, 1. stopnja)
CATEGORIES:Entry,Standard
COLOR:darkgreen
DESCRIPTION:Predmet: Fizika trdne snovi (FIZ-3)\, Vaje (V)\nLetniki: 3. le
 tnik (Fizika\, 1. stopnja)\nIzvajalci: Tomaž Rejec\nProstor: F1
LOCATION:F1
ORGANIZER:Tomaž Rejec
RELATED-TO:fmf-AFLABS-URNIK:srecanje:10788
X-WR-TIMEZONE:Europe/Ljubljana
END:VEVENT
BEGIN:VEVENT
SUMMARY:Fizika trdne snovi (FIZ-3)\, Vaje (V)
DTSTART;TZID=Europe/Ljubljana:20240304T100000
DTEND;TZID=Europe/Ljubljana:20240304T120000
DTSTAMP:20260425T144927Z
UID:fmf-AFLABS-URNIK:premaknjeno-srecanje:125131
ATTENDEE:3. letnik (Fizika, 1. stopnja)
CATEGORIES:Entry,Standard
COLOR:darkgreen
DESCRIPTION:Predmet: Fizika trdne snovi (FIZ-3)\, Vaje (V)\nLetniki: 3. le
 tnik (Fizika\, 1. stopnja)\nIzvajalci: Tomaž Rejec\nProstor: F1
LOCATION:F1
ORGANIZER:Tomaž Rejec
RELATED-TO:fmf-AFLABS-URNIK:srecanje:10788
X-WR-TIMEZONE:Europe/Ljubljana
END:VEVENT
BEGIN:VEVENT
SUMMARY:Rezervacija
DTSTART;TZID=Europe/Ljubljana:20240119T160000
DTEND;TZID=Europe/Ljubljana:20240119T180000
DTSTAMP:20260425T144927Z
UID:fmf-AFLABS-URNIK:rezervacija:13885
ATTENDEE:1. letnik (Fizika, 1. stopnja)
CATEGORIES:Reservation
COLOR:royalblue
DESCRIPTION:Predmeti: Kemija I (FIZ-1)\nLetniki: 1. letnik (Fizika\, 1. st
 opnja)\nIzvajalci: Tomaž Rejec\nProstori: F1\, MFP\, VFP
LOCATION:F1\, MFP\, VFP
ORGANIZER:Tomaž Rejec
X-WR-TIMEZONE:Europe/Ljubljana
END:VEVENT
BEGIN:VEVENT
SUMMARY:Rezervacija
DTSTART;TZID=Europe/Ljubljana:20240202T120000
DTEND;TZID=Europe/Ljubljana:20240202T140000
DTSTAMP:20260425T144927Z
UID:fmf-AFLABS-URNIK:rezervacija:13948
ATTENDEE:3. letnik (Fizika, 1. stopnja)
CATEGORIES:Reservation
COLOR:royalblue
DESCRIPTION:Predmeti: Kvantna mehanika (FIZ-3)\nLetniki: 3. letnik (Fizika
 \, 1. stopnja)\nIzvajalci: Tomaž Rejec\nProstori: VFP
LOCATION:VFP
ORGANIZER:Tomaž Rejec
X-WR-TIMEZONE:Europe/Ljubljana
END:VEVENT
BEGIN:VEVENT
SUMMARY:1. pisni izpit
DTSTART;TZID=Europe/Ljubljana:20240207T110000
DTEND;TZID=Europe/Ljubljana:20240207T130000
DTSTAMP:20260425T144927Z
UID:fmf-AFLABS-URNIK:rezervacija:14345
ATTENDEE:1. letnik (Fizika, 2. stopnja)
CATEGORIES:Reservation
COLOR:royalblue
DESCRIPTION:Predmeti: Fizika kondenzirane snovi (FIZ-M1)\nLetniki: 1. letn
 ik (Fizika\, 2. stopnja)\nIzvajalci: Tomaž Rejec\nProstori: F2
LOCATION:F2
ORGANIZER:Tomaž Rejec
X-WR-TIMEZONE:Europe/Ljubljana
END:VEVENT
BEGIN:VEVENT
SUMMARY:Ogled izpita
DTSTART;TZID=Europe/Ljubljana:20240207T130000
DTEND;TZID=Europe/Ljubljana:20240207T140000
DTSTAMP:20260425T144927Z
UID:fmf-AFLABS-URNIK:rezervacija:14827
ATTENDEE:3. letnik (Fizika, 1. stopnja)
CATEGORIES:Reservation
COLOR:royalblue
DESCRIPTION:Predmeti: Kvantna mehanika (FIZ-3)\nLetniki: 3. letnik (Fizika
 \, 1. stopnja)\nIzvajalci: Tomaž Rejec\nProstori: F2
LOCATION:F2
ORGANIZER:Tomaž Rejec
X-WR-TIMEZONE:Europe/Ljubljana
END:VEVENT
BEGIN:VEVENT
SUMMARY:Ustni izpit
DTSTART;TZID=Europe/Ljubljana:20240216T110000
DTEND;TZID=Europe/Ljubljana:20240216T120000
DTSTAMP:20260425T144927Z
UID:fmf-AFLABS-URNIK:rezervacija:15022
CATEGORIES:Reservation
COLOR:royalblue
DESCRIPTION:Predmeti: \nLetniki: \nIzvajalci: Tomaž Rejec\nProstori: F4
LOCATION:F4
ORGANIZER:Tomaž Rejec
X-WR-TIMEZONE:Europe/Ljubljana
END:VEVENT
BEGIN:VEVENT
SUMMARY:Ustni izpit
DTSTART;TZID=Europe/Ljubljana:20240223T110000
DTEND;TZID=Europe/Ljubljana:20240223T120000
DTSTAMP:20260425T144927Z
UID:fmf-AFLABS-URNIK:rezervacija:15087
ATTENDEE:1. letnik (Fizika, 2. stopnja)
CATEGORIES:Reservation
COLOR:royalblue
DESCRIPTION:Predmeti: Fizika kondenzirane snovi (FIZ-M1)\nLetniki: 1. letn
 ik (Fizika\, 2. stopnja)\nIzvajalci: Tomaž Rejec\nProstori: F2
LOCATION:F2
ORGANIZER:Tomaž Rejec
X-WR-TIMEZONE:Europe/Ljubljana
END:VEVENT
END:VCALENDAR
