BEGIN:VCALENDAR
VERSION:2.0
PRODID:-//AFLabs urnik izvoz - fmf//aflabs.si//SI
DTSTAMP:20260423T040523Z
NAME:UL FMF urnik
REFRESH-INTERVAL:PT1H
SOURCE:https://urnik.fmf.uni-lj.si/en/teacher/191?day=2024-07-01&export=1
URL:https://urnik.fmf.uni-lj.si/en/teacher/191?day=2024-07-01&export=1
X-PUBLISHED-TTL:PT1H
X-WR-CALNAME:UL FMF urnik
X-WR-TIMEZONE:Europe/Ljubljana
BEGIN:VTIMEZONE
TZID:Europe/Ljubljana
BEGIN:DAYLIGHT
DTSTART:20260329T020000
RDATE:20260329T020000
RDATE:20270328T020000
TZNAME:CEST
TZOFFSETFROM:+0100
TZOFFSETTO:+0200
END:DAYLIGHT
BEGIN:STANDARD
DTSTART:20261025T030000
RDATE:20261025T030000
RDATE:20271031T030000
TZNAME:CET
TZOFFSETFROM:+0200
TZOFFSETTO:+0100
END:STANDARD
END:VTIMEZONE
BEGIN:VEVENT
SUMMARY:Optika (FIZ-3)\, Predavanja (P)
DTSTART;TZID=Europe/Ljubljana:20240527T120000
DTEND;TZID=Europe/Ljubljana:20240527T140000
DTSTAMP:20260423T040523Z
UID:fmf-AFLABS-URNIK:premaknjeno-srecanje:136070
ATTENDEE:3. letnik (Fizika, 1. stopnja)
CATEGORIES:Entry,Standard
COLOR:darkgreen
DESCRIPTION:Predmet: Optika (FIZ-3)\, Predavanja (P)\nLetniki: 3. letnik (
 Fizika\, 1. stopnja)\nIzvajalci: Mojca Vilfan\nProstor: P.02
LOCATION:P.02
ORGANIZER:Mojca Vilfan
RELATED-TO:fmf-AFLABS-URNIK:srecanje:10364
X-WR-TIMEZONE:Europe/Ljubljana
END:VEVENT
BEGIN:VEVENT
SUMMARY:Sestanek programske skupine P1-0192 ()\, Seminar (S)
DTSTART;TZID=Europe/Ljubljana:20240529T100000
DTEND;TZID=Europe/Ljubljana:20240529T120000
DTSTAMP:20260423T040523Z
UID:fmf-AFLABS-URNIK:premaknjeno-srecanje:137749
CATEGORIES:Entry,Standard
COLOR:darkgreen
DESCRIPTION:Predmet: Sestanek programske skupine P1-0192 ()\, Seminar (S)\
 nLetniki: \nIzvajalci: Martin Čopič\, Irena Drevenšek Olenik\, Gašper 
 Kokot\, Boris Majaron\, Alenka Mertelj\, Natan Osterman\, Andrej Petelin\,
  Izidor Straus\, Mojca Vilfan\, Marko Zgonik\nProstor: Sejna soba J21
LOCATION:Sejna soba J21
ORGANIZER:Martin Čopič, Irena Drevenšek Olenik, Gašper Kokot, Boris Ma
 jaron, Alenka Mertelj, Natan Osterman, Andrej Petelin, Izidor Straus, Mojc
 a Vilfan, Marko Zgonik
RELATED-TO:fmf-AFLABS-URNIK:srecanje:10879
X-WR-TIMEZONE:Europe/Ljubljana
END:VEVENT
BEGIN:VEVENT
SUMMARY:Sestanek programske skupine P1-0192
DTSTART;TZID=Europe/Ljubljana:20240529T100000
DTEND;TZID=Europe/Ljubljana:20240529T120000
DTSTAMP:20260423T040523Z
UID:fmf-AFLABS-URNIK:rezervacija:15086
CATEGORIES:Reservation
COLOR:royalblue
DESCRIPTION:Predmeti: \nLetniki: \nIzvajalci: Martin Čopič\, Irena Dreve
 nšek Olenik\, Gašper Kokot\, Boris Majaron\, Alenka Mertelj\, Natan Oste
 rman\, Andrej Petelin\, Izidor Straus (Študent)\, Mojca Vilfan\, Marko Zg
 onik\nProstori: Sejna soba J21
LOCATION:Sejna soba J21
ORGANIZER:Martin Čopič, Irena Drevenšek Olenik, Gašper Kokot, Boris Ma
 jaron, Alenka Mertelj, Natan Osterman, Andrej Petelin, Izidor Straus (Štu
 dent), Mojca Vilfan, Marko Zgonik
X-WR-TIMEZONE:Europe/Ljubljana
END:VEVENT
BEGIN:VEVENT
SUMMARY:2. kolokvij Optika
DTSTART;TZID=Europe/Ljubljana:20240603T160000
DTEND;TZID=Europe/Ljubljana:20240603T180000
DTSTAMP:20260423T040523Z
UID:fmf-AFLABS-URNIK:rezervacija:15764
ATTENDEE:3. letnik (Fizika, 1. stopnja)
CATEGORIES:Reservation
COLOR:royalblue
DESCRIPTION:Predmeti: Optika (FIZ-3)\nLetniki: 3. letnik (Fizika\, 1. stop
 nja)\nIzvajalci: Igor Vaskivskyi\, Mojca Vilfan\nProstori: VFP
LOCATION:VFP
ORGANIZER:Igor Vaskivskyi, Mojca Vilfan
X-WR-TIMEZONE:Europe/Ljubljana
END:VEVENT
BEGIN:VEVENT
SUMMARY:Optika nadomeščanje vaje
DTSTART;TZID=Europe/Ljubljana:20240527T120000
DTEND;TZID=Europe/Ljubljana:20240527T140000
DTSTAMP:20260423T040523Z
UID:fmf-AFLABS-URNIK:rezervacija:16327
ATTENDEE:3. letnik (Fizika, 1. stopnja)
CATEGORIES:Reservation
COLOR:royalblue
DESCRIPTION:Predmeti: Optika (FIZ-3)\nLetniki: 3. letnik (Fizika\, 1. stop
 nja)\nIzvajalci: Igor Vaskivskyi\, Mojca Vilfan\nProstori: F4
LOCATION:F4
ORGANIZER:Igor Vaskivskyi, Mojca Vilfan
X-WR-TIMEZONE:Europe/Ljubljana
END:VEVENT
BEGIN:VEVENT
SUMMARY:Optika ustni izpit
DTSTART;TZID=Europe/Ljubljana:20240528T130000
DTEND;TZID=Europe/Ljubljana:20240528T140000
DTSTAMP:20260423T040523Z
UID:fmf-AFLABS-URNIK:rezervacija:16475
CATEGORIES:Reservation
COLOR:royalblue
DESCRIPTION:Predmeti: \nLetniki: \nIzvajalci: Mojca Vilfan\nProstori: P.02
LOCATION:P.02
ORGANIZER:Mojca Vilfan
X-WR-TIMEZONE:Europe/Ljubljana
END:VEVENT
BEGIN:VEVENT
SUMMARY:Optika izpiti
DTSTART;TZID=Europe/Ljubljana:20240605T110000
DTEND;TZID=Europe/Ljubljana:20240605T140000
DTSTAMP:20260423T040523Z
UID:fmf-AFLABS-URNIK:rezervacija:16833
ATTENDEE:3. letnik (Fizika, 1. stopnja)
CATEGORIES:Reservation
COLOR:royalblue
DESCRIPTION:Predmeti: Optika (FIZ-3)\nLetniki: 3. letnik (Fizika\, 1. stop
 nja)\nIzvajalci: Mojca Vilfan\nProstori: F4
LOCATION:F4
ORGANIZER:Mojca Vilfan
X-WR-TIMEZONE:Europe/Ljubljana
END:VEVENT
BEGIN:VEVENT
SUMMARY:Optika pisni izpit
DTSTART;TZID=Europe/Ljubljana:20240620T090000
DTEND;TZID=Europe/Ljubljana:20240620T120000
DTSTAMP:20260423T040523Z
UID:fmf-AFLABS-URNIK:rezervacija:16868
ATTENDEE:3. letnik (Fizika, 1. stopnja)
CATEGORIES:Reservation
COLOR:royalblue
DESCRIPTION:Predmeti: Optika (FIZ-3)\nLetniki: 3. letnik (Fizika\, 1. stop
 nja)\nIzvajalci: Mojca Vilfan\nProstori: F4
LOCATION:F4
ORGANIZER:Mojca Vilfan
X-WR-TIMEZONE:Europe/Ljubljana
END:VEVENT
BEGIN:VEVENT
SUMMARY:Izpiti Fotonika I/Optika
DTSTART;TZID=Europe/Ljubljana:20240704T090000
DTEND;TZID=Europe/Ljubljana:20240704T120000
DTSTAMP:20260423T040523Z
UID:fmf-AFLABS-URNIK:rezervacija:17402
ATTENDEE:1. letnik (Fizika, 2. stopnja)
ATTENDEE:3. letnik (Fizika, 1. stopnja)
CATEGORIES:Reservation
COLOR:royalblue
DESCRIPTION:Predmeti: Fotonika I (FIZ-M1)\, Optika (FIZ-3)\nLetniki: 3. le
 tnik (Fizika\, 1. stopnja)\, 1. letnik (Fizika\, 2. stopnja)\nIzvajalci: M
 ojca Vilfan\nProstori: F4
LOCATION:F4
ORGANIZER:Mojca Vilfan
X-WR-TIMEZONE:Europe/Ljubljana
END:VEVENT
BEGIN:VEVENT
SUMMARY:Izpiti Optika
DTSTART;TZID=Europe/Ljubljana:20240701T100000
DTEND;TZID=Europe/Ljubljana:20240701T120000
DTSTAMP:20260423T040523Z
UID:fmf-AFLABS-URNIK:rezervacija:17409
ATTENDEE:3. letnik (Fizika, 1. stopnja)
CATEGORIES:Reservation
COLOR:royalblue
DESCRIPTION:Predmeti: Optika (FIZ-3)\nLetniki: 3. letnik (Fizika\, 1. stop
 nja)\nIzvajalci: Mojca Vilfan\nProstori: F5
LOCATION:F5
ORGANIZER:Mojca Vilfan
X-WR-TIMEZONE:Europe/Ljubljana
END:VEVENT
BEGIN:VEVENT
SUMMARY:Izpiti Optika
DTSTART;TZID=Europe/Ljubljana:20240628T090000
DTEND;TZID=Europe/Ljubljana:20240628T110000
DTSTAMP:20260423T040523Z
UID:fmf-AFLABS-URNIK:rezervacija:17413
ATTENDEE:3. letnik (Fizika, 1. stopnja)
CATEGORIES:Reservation
COLOR:royalblue
DESCRIPTION:Predmeti: Optika (FIZ-3)\nLetniki: 3. letnik (Fizika\, 1. stop
 nja)\nIzvajalci: Mojca Vilfan\nProstori: F3
LOCATION:F3
ORGANIZER:Mojca Vilfan
X-WR-TIMEZONE:Europe/Ljubljana
END:VEVENT
BEGIN:VEVENT
SUMMARY:Izpiti Optika
DTSTART;TZID=Europe/Ljubljana:20240711T090000
DTEND;TZID=Europe/Ljubljana:20240711T110000
DTSTAMP:20260423T040523Z
UID:fmf-AFLABS-URNIK:rezervacija:17468
ATTENDEE:3. letnik (Fizika, 1. stopnja)
CATEGORIES:Reservation
COLOR:royalblue
DESCRIPTION:Predmeti: Optika (FIZ-3)\nLetniki: 3. letnik (Fizika\, 1. stop
 nja)\nIzvajalci: Mojca Vilfan\nProstori: F4
LOCATION:F4
ORGANIZER:Mojca Vilfan
X-WR-TIMEZONE:Europe/Ljubljana
END:VEVENT
END:VCALENDAR
