BEGIN:VCALENDAR
VERSION:2.0
PRODID:-//AFLabs urnik izvoz - fmf//aflabs.si//SI
DTSTAMP:20260419T165619Z
NAME:UL FMF urnik
REFRESH-INTERVAL:PT1H
SOURCE:https://urnik.fmf.uni-lj.si/en/teacher/211?day=2019-04-29&export=1
URL:https://urnik.fmf.uni-lj.si/en/teacher/211?day=2019-04-29&export=1
X-PUBLISHED-TTL:PT1H
X-WR-CALNAME:UL FMF urnik
X-WR-TIMEZONE:Europe/Ljubljana
BEGIN:VTIMEZONE
TZID:Europe/Ljubljana
BEGIN:DAYLIGHT
DTSTART:20260329T020000
RDATE:20260329T020000
RDATE:20270328T020000
TZNAME:CEST
TZOFFSETFROM:+0100
TZOFFSETTO:+0200
END:DAYLIGHT
BEGIN:STANDARD
DTSTART:20261025T030000
RDATE:20261025T030000
RDATE:20271031T030000
TZNAME:CET
TZOFFSETFROM:+0200
TZOFFSETTO:+0100
END:STANDARD
END:VTIMEZONE
BEGIN:VEVENT
SUMMARY:Elektronika v fiziki (APF-2)\, Vaje (V)
DTSTART;TZID=Europe/Ljubljana:20190219T100000
DTEND;TZID=Europe/Ljubljana:20190219T120000
DTSTAMP:20260419T165619Z
UID:fmf-AFLABS-URNIK:premaknjeno-srecanje:19124
ATTENDEE:2. letnik (Aplikativna fizika)
CATEGORIES:Entry,Standard
COLOR:darkgreen
DESCRIPTION:Predmet: Elektronika v fiziki (APF-2)\, Vaje (V)\nLetniki: 2. 
 letnik (Aplikativna fizika)\nIzvajalci: Matjaž Vencelj\nProstor: F5
LOCATION:F5
ORGANIZER:Matjaž Vencelj
RELATED-TO:fmf-AFLABS-URNIK:srecanje:2585
X-WR-TIMEZONE:Europe/Ljubljana
END:VEVENT
BEGIN:VEVENT
SUMMARY:Elektronika v fiziki (APF-2)\, Vaje (V)
DTSTART;TZID=Europe/Ljubljana:20190226T100000
DTEND;TZID=Europe/Ljubljana:20190226T120000
DTSTAMP:20260419T165619Z
UID:fmf-AFLABS-URNIK:premaknjeno-srecanje:19125
ATTENDEE:2. letnik (Aplikativna fizika)
CATEGORIES:Entry,Standard
COLOR:darkgreen
DESCRIPTION:Predmet: Elektronika v fiziki (APF-2)\, Vaje (V)\nLetniki: 2. 
 letnik (Aplikativna fizika)\nIzvajalci: Matjaž Vencelj\nProstor: F5
LOCATION:F5
ORGANIZER:Matjaž Vencelj
RELATED-TO:fmf-AFLABS-URNIK:srecanje:2585
X-WR-TIMEZONE:Europe/Ljubljana
END:VEVENT
BEGIN:VEVENT
SUMMARY:Elektronika v fiziki (APF-2)\, Vaje (V)
DTSTART;TZID=Europe/Ljubljana:20190305T100000
DTEND;TZID=Europe/Ljubljana:20190305T120000
DTSTAMP:20260419T165619Z
UID:fmf-AFLABS-URNIK:premaknjeno-srecanje:19126
ATTENDEE:2. letnik (Aplikativna fizika)
CATEGORIES:Entry,Standard
COLOR:darkgreen
DESCRIPTION:Predmet: Elektronika v fiziki (APF-2)\, Vaje (V)\nLetniki: 2. 
 letnik (Aplikativna fizika)\nIzvajalci: Matjaž Vencelj\nProstor: F5
LOCATION:F5
ORGANIZER:Matjaž Vencelj
RELATED-TO:fmf-AFLABS-URNIK:srecanje:2585
X-WR-TIMEZONE:Europe/Ljubljana
END:VEVENT
BEGIN:VEVENT
SUMMARY:Elektronika v fiziki (APF-2)\, Vaje (V)
DTSTART;TZID=Europe/Ljubljana:20190312T100000
DTEND;TZID=Europe/Ljubljana:20190312T120000
DTSTAMP:20260419T165619Z
UID:fmf-AFLABS-URNIK:premaknjeno-srecanje:19127
ATTENDEE:2. letnik (Aplikativna fizika)
CATEGORIES:Entry,Standard
COLOR:darkgreen
DESCRIPTION:Predmet: Elektronika v fiziki (APF-2)\, Vaje (V)\nLetniki: 2. 
 letnik (Aplikativna fizika)\nIzvajalci: Matjaž Vencelj\nProstor: F5
LOCATION:F5
ORGANIZER:Matjaž Vencelj
RELATED-TO:fmf-AFLABS-URNIK:srecanje:2585
X-WR-TIMEZONE:Europe/Ljubljana
END:VEVENT
BEGIN:VEVENT
SUMMARY:Elektronika v fiziki (APF-2)\, Vaje (V)
DTSTART;TZID=Europe/Ljubljana:20190319T100000
DTEND;TZID=Europe/Ljubljana:20190319T120000
DTSTAMP:20260419T165619Z
UID:fmf-AFLABS-URNIK:premaknjeno-srecanje:19128
ATTENDEE:2. letnik (Aplikativna fizika)
CATEGORIES:Entry,Standard
COLOR:darkgreen
DESCRIPTION:Predmet: Elektronika v fiziki (APF-2)\, Vaje (V)\nLetniki: 2. 
 letnik (Aplikativna fizika)\nIzvajalci: Matjaž Vencelj\nProstor: F5
LOCATION:F5
ORGANIZER:Matjaž Vencelj
RELATED-TO:fmf-AFLABS-URNIK:srecanje:2585
X-WR-TIMEZONE:Europe/Ljubljana
END:VEVENT
BEGIN:VEVENT
SUMMARY:Elektronika v fiziki (APF-2)\, Vaje (V)
DTSTART;TZID=Europe/Ljubljana:20190326T100000
DTEND;TZID=Europe/Ljubljana:20190326T120000
DTSTAMP:20260419T165619Z
UID:fmf-AFLABS-URNIK:premaknjeno-srecanje:19129
ATTENDEE:2. letnik (Aplikativna fizika)
CATEGORIES:Entry,Standard
COLOR:darkgreen
DESCRIPTION:Predmet: Elektronika v fiziki (APF-2)\, Vaje (V)\nLetniki: 2. 
 letnik (Aplikativna fizika)\nIzvajalci: Matjaž Vencelj\nProstor: F5
LOCATION:F5
ORGANIZER:Matjaž Vencelj
RELATED-TO:fmf-AFLABS-URNIK:srecanje:2585
X-WR-TIMEZONE:Europe/Ljubljana
END:VEVENT
BEGIN:VEVENT
SUMMARY:Elektronika v fiziki (APF-2)\, Vaje (V)
DTSTART;TZID=Europe/Ljubljana:20190402T100000
DTEND;TZID=Europe/Ljubljana:20190402T120000
DTSTAMP:20260419T165619Z
UID:fmf-AFLABS-URNIK:premaknjeno-srecanje:19130
ATTENDEE:2. letnik (Aplikativna fizika)
CATEGORIES:Entry,Standard
COLOR:darkgreen
DESCRIPTION:Predmet: Elektronika v fiziki (APF-2)\, Vaje (V)\nLetniki: 2. 
 letnik (Aplikativna fizika)\nIzvajalci: Matjaž Vencelj\nProstor: F5
LOCATION:F5
ORGANIZER:Matjaž Vencelj
RELATED-TO:fmf-AFLABS-URNIK:srecanje:2585
X-WR-TIMEZONE:Europe/Ljubljana
END:VEVENT
BEGIN:VEVENT
SUMMARY:Elektronika v fiziki (APF-2)\, Vaje (V)
DTSTART;TZID=Europe/Ljubljana:20190409T100000
DTEND;TZID=Europe/Ljubljana:20190409T120000
DTSTAMP:20260419T165619Z
UID:fmf-AFLABS-URNIK:premaknjeno-srecanje:19131
ATTENDEE:2. letnik (Aplikativna fizika)
CATEGORIES:Entry,Standard
COLOR:darkgreen
DESCRIPTION:Predmet: Elektronika v fiziki (APF-2)\, Vaje (V)\nLetniki: 2. 
 letnik (Aplikativna fizika)\nIzvajalci: Matjaž Vencelj\nProstor: F5
LOCATION:F5
ORGANIZER:Matjaž Vencelj
RELATED-TO:fmf-AFLABS-URNIK:srecanje:2585
X-WR-TIMEZONE:Europe/Ljubljana
END:VEVENT
BEGIN:VEVENT
SUMMARY:Elektronika v fiziki (APF-2)\, Vaje (V)
DTSTART;TZID=Europe/Ljubljana:20190416T100000
DTEND;TZID=Europe/Ljubljana:20190416T120000
DTSTAMP:20260419T165619Z
UID:fmf-AFLABS-URNIK:premaknjeno-srecanje:19132
ATTENDEE:2. letnik (Aplikativna fizika)
CATEGORIES:Entry,Standard
COLOR:darkgreen
DESCRIPTION:Predmet: Elektronika v fiziki (APF-2)\, Vaje (V)\nLetniki: 2. 
 letnik (Aplikativna fizika)\nIzvajalci: Matjaž Vencelj\nProstor: F5
LOCATION:F5
ORGANIZER:Matjaž Vencelj
RELATED-TO:fmf-AFLABS-URNIK:srecanje:2585
X-WR-TIMEZONE:Europe/Ljubljana
END:VEVENT
BEGIN:VEVENT
SUMMARY:Elektronika v fiziki (APF-2)\, Vaje (V)
DTSTART;TZID=Europe/Ljubljana:20190423T100000
DTEND;TZID=Europe/Ljubljana:20190423T120000
DTSTAMP:20260419T165619Z
UID:fmf-AFLABS-URNIK:premaknjeno-srecanje:19133
ATTENDEE:2. letnik (Aplikativna fizika)
CATEGORIES:Entry,Standard
COLOR:darkgreen
DESCRIPTION:Predmet: Elektronika v fiziki (APF-2)\, Vaje (V)\nLetniki: 2. 
 letnik (Aplikativna fizika)\nIzvajalci: Matjaž Vencelj\nProstor: F5
LOCATION:F5
ORGANIZER:Matjaž Vencelj
RELATED-TO:fmf-AFLABS-URNIK:srecanje:2585
X-WR-TIMEZONE:Europe/Ljubljana
END:VEVENT
BEGIN:VEVENT
SUMMARY:Elektronika v fiziki (APF-2)\, Vaje (V)
DTSTART;TZID=Europe/Ljubljana:20190430T100000
DTEND;TZID=Europe/Ljubljana:20190430T120000
DTSTAMP:20260419T165619Z
UID:fmf-AFLABS-URNIK:premaknjeno-srecanje:19134
ATTENDEE:2. letnik (Aplikativna fizika)
CATEGORIES:Entry,Standard
COLOR:darkgreen
DESCRIPTION:Predmet: Elektronika v fiziki (APF-2)\, Vaje (V)\nLetniki: 2. 
 letnik (Aplikativna fizika)\nIzvajalci: Matjaž Vencelj\nProstor: F5
LOCATION:F5
ORGANIZER:Matjaž Vencelj
RELATED-TO:fmf-AFLABS-URNIK:srecanje:2585
X-WR-TIMEZONE:Europe/Ljubljana
END:VEVENT
BEGIN:VEVENT
SUMMARY:Elektronika v fiziki (APF-2)\, Vaje (V)
DTSTART;TZID=Europe/Ljubljana:20190507T100000
DTEND;TZID=Europe/Ljubljana:20190507T120000
DTSTAMP:20260419T165619Z
UID:fmf-AFLABS-URNIK:premaknjeno-srecanje:19135
ATTENDEE:2. letnik (Aplikativna fizika)
CATEGORIES:Entry,Standard
COLOR:darkgreen
DESCRIPTION:Predmet: Elektronika v fiziki (APF-2)\, Vaje (V)\nLetniki: 2. 
 letnik (Aplikativna fizika)\nIzvajalci: Matjaž Vencelj\nProstor: F5
LOCATION:F5
ORGANIZER:Matjaž Vencelj
RELATED-TO:fmf-AFLABS-URNIK:srecanje:2585
X-WR-TIMEZONE:Europe/Ljubljana
END:VEVENT
BEGIN:VEVENT
SUMMARY:Elektronika v fiziki (APF-2)\, Vaje (V)
DTSTART;TZID=Europe/Ljubljana:20190514T100000
DTEND;TZID=Europe/Ljubljana:20190514T120000
DTSTAMP:20260419T165619Z
UID:fmf-AFLABS-URNIK:premaknjeno-srecanje:19136
ATTENDEE:2. letnik (Aplikativna fizika)
CATEGORIES:Entry,Standard
COLOR:darkgreen
DESCRIPTION:Predmet: Elektronika v fiziki (APF-2)\, Vaje (V)\nLetniki: 2. 
 letnik (Aplikativna fizika)\nIzvajalci: Matjaž Vencelj\nProstor: F5
LOCATION:F5
ORGANIZER:Matjaž Vencelj
RELATED-TO:fmf-AFLABS-URNIK:srecanje:2585
X-WR-TIMEZONE:Europe/Ljubljana
END:VEVENT
BEGIN:VEVENT
SUMMARY:Elektronika v fiziki (APF-2)\, Vaje (V)
DTSTART;TZID=Europe/Ljubljana:20190521T100000
DTEND;TZID=Europe/Ljubljana:20190521T120000
DTSTAMP:20260419T165619Z
UID:fmf-AFLABS-URNIK:premaknjeno-srecanje:19137
ATTENDEE:2. letnik (Aplikativna fizika)
CATEGORIES:Entry,Standard
COLOR:darkgreen
DESCRIPTION:Predmet: Elektronika v fiziki (APF-2)\, Vaje (V)\nLetniki: 2. 
 letnik (Aplikativna fizika)\nIzvajalci: Matjaž Vencelj\nProstor: F5
LOCATION:F5
ORGANIZER:Matjaž Vencelj
RELATED-TO:fmf-AFLABS-URNIK:srecanje:2585
X-WR-TIMEZONE:Europe/Ljubljana
END:VEVENT
BEGIN:VEVENT
SUMMARY:Elektronika v fiziki (APF-2)\, Vaje (V)
DTSTART;TZID=Europe/Ljubljana:20190528T100000
DTEND;TZID=Europe/Ljubljana:20190528T120000
DTSTAMP:20260419T165619Z
UID:fmf-AFLABS-URNIK:premaknjeno-srecanje:19138
ATTENDEE:2. letnik (Aplikativna fizika)
CATEGORIES:Entry,Standard
COLOR:darkgreen
DESCRIPTION:Predmet: Elektronika v fiziki (APF-2)\, Vaje (V)\nLetniki: 2. 
 letnik (Aplikativna fizika)\nIzvajalci: Matjaž Vencelj\nProstor: F5
LOCATION:F5
ORGANIZER:Matjaž Vencelj
RELATED-TO:fmf-AFLABS-URNIK:srecanje:2585
X-WR-TIMEZONE:Europe/Ljubljana
END:VEVENT
END:VCALENDAR
