BEGIN:VCALENDAR
VERSION:2.0
PRODID:-//AFLabs urnik izvoz - fmf//aflabs.si//SI
DTSTAMP:20260426T030123Z
NAME:UL FMF urnik
REFRESH-INTERVAL:PT1H
SOURCE:https://urnik.fmf.uni-lj.si/en/teacher/263?day=2019-06-17&export=1
URL:https://urnik.fmf.uni-lj.si/en/teacher/263?day=2019-06-17&export=1
X-PUBLISHED-TTL:PT1H
X-WR-CALNAME:UL FMF urnik
X-WR-TIMEZONE:Europe/Ljubljana
BEGIN:VTIMEZONE
TZID:Europe/Ljubljana
BEGIN:DAYLIGHT
DTSTART:20260329T020000
RDATE:20260329T020000
RDATE:20270328T020000
TZNAME:CEST
TZOFFSETFROM:+0100
TZOFFSETTO:+0200
END:DAYLIGHT
BEGIN:STANDARD
DTSTART:20261025T030000
RDATE:20261025T030000
RDATE:20271031T030000
TZNAME:CET
TZOFFSETFROM:+0200
TZOFFSETTO:+0100
END:STANDARD
END:VTIMEZONE
BEGIN:VEVENT
SUMMARY:Matematika (FKKT) ()\, Vaje (V)
DTSTART;TZID=Europe/Ljubljana:20190513T090000
DTEND;TZID=Europe/Ljubljana:20190513T110000
DTSTAMP:20260426T030123Z
UID:fmf-AFLABS-URNIK:premaknjeno-srecanje:61569
CATEGORIES:Entry,Standard
COLOR:darkgreen
DESCRIPTION:Predmet: Matematika (FKKT) ()\, Vaje (V)\nLetniki: \nIzvajalci
 : Leon Lampret\nProstor: FKKT
LOCATION:FKKT
ORGANIZER:Leon Lampret
RELATED-TO:fmf-AFLABS-URNIK:srecanje:3151
X-WR-TIMEZONE:Europe/Ljubljana
END:VEVENT
BEGIN:VEVENT
SUMMARY:Matematika (FKKT) ()\, Vaje (V)
DTSTART;TZID=Europe/Ljubljana:20190520T090000
DTEND;TZID=Europe/Ljubljana:20190520T110000
DTSTAMP:20260426T030123Z
UID:fmf-AFLABS-URNIK:premaknjeno-srecanje:61570
CATEGORIES:Entry,Standard
COLOR:darkgreen
DESCRIPTION:Predmet: Matematika (FKKT) ()\, Vaje (V)\nLetniki: \nIzvajalci
 : Leon Lampret\nProstor: FKKT
LOCATION:FKKT
ORGANIZER:Leon Lampret
RELATED-TO:fmf-AFLABS-URNIK:srecanje:3151
X-WR-TIMEZONE:Europe/Ljubljana
END:VEVENT
BEGIN:VEVENT
SUMMARY:Matematika (FKKT) ()\, Vaje (V)
DTSTART;TZID=Europe/Ljubljana:20190527T090000
DTEND;TZID=Europe/Ljubljana:20190527T110000
DTSTAMP:20260426T030123Z
UID:fmf-AFLABS-URNIK:premaknjeno-srecanje:61571
CATEGORIES:Entry,Standard
COLOR:darkgreen
DESCRIPTION:Predmet: Matematika (FKKT) ()\, Vaje (V)\nLetniki: \nIzvajalci
 : Leon Lampret\nProstor: FKKT
LOCATION:FKKT
ORGANIZER:Leon Lampret
RELATED-TO:fmf-AFLABS-URNIK:srecanje:3151
X-WR-TIMEZONE:Europe/Ljubljana
END:VEVENT
BEGIN:VEVENT
SUMMARY:Matematika (FKKT) ()\, Vaje (V)
DTSTART;TZID=Europe/Ljubljana:20190603T090000
DTEND;TZID=Europe/Ljubljana:20190603T110000
DTSTAMP:20260426T030123Z
UID:fmf-AFLABS-URNIK:premaknjeno-srecanje:61572
CATEGORIES:Entry,Standard
COLOR:darkgreen
DESCRIPTION:Predmet: Matematika (FKKT) ()\, Vaje (V)\nLetniki: \nIzvajalci
 : Leon Lampret\nProstor: FKKT
LOCATION:FKKT
ORGANIZER:Leon Lampret
RELATED-TO:fmf-AFLABS-URNIK:srecanje:3151
X-WR-TIMEZONE:Europe/Ljubljana
END:VEVENT
BEGIN:VEVENT
SUMMARY:Matematika (FKKT) ()\, Vaje (V)
DTSTART;TZID=Europe/Ljubljana:20190515T120000
DTEND;TZID=Europe/Ljubljana:20190515T140000
DTSTAMP:20260426T030123Z
UID:fmf-AFLABS-URNIK:premaknjeno-srecanje:61631
CATEGORIES:Entry,Standard
COLOR:darkgreen
DESCRIPTION:Predmet: Matematika (FKKT) ()\, Vaje (V)\nLetniki: \nIzvajalci
 : Leon Lampret\nProstor: FKKT
LOCATION:FKKT
ORGANIZER:Leon Lampret
RELATED-TO:fmf-AFLABS-URNIK:srecanje:3152
X-WR-TIMEZONE:Europe/Ljubljana
END:VEVENT
BEGIN:VEVENT
SUMMARY:Matematika (FKKT) ()\, Vaje (V)
DTSTART;TZID=Europe/Ljubljana:20190522T120000
DTEND;TZID=Europe/Ljubljana:20190522T140000
DTSTAMP:20260426T030123Z
UID:fmf-AFLABS-URNIK:premaknjeno-srecanje:61632
CATEGORIES:Entry,Standard
COLOR:darkgreen
DESCRIPTION:Predmet: Matematika (FKKT) ()\, Vaje (V)\nLetniki: \nIzvajalci
 : Leon Lampret\nProstor: FKKT
LOCATION:FKKT
ORGANIZER:Leon Lampret
RELATED-TO:fmf-AFLABS-URNIK:srecanje:3152
X-WR-TIMEZONE:Europe/Ljubljana
END:VEVENT
BEGIN:VEVENT
SUMMARY:Matematika (FKKT) ()\, Vaje (V)
DTSTART;TZID=Europe/Ljubljana:20190529T120000
DTEND;TZID=Europe/Ljubljana:20190529T140000
DTSTAMP:20260426T030123Z
UID:fmf-AFLABS-URNIK:premaknjeno-srecanje:61633
CATEGORIES:Entry,Standard
COLOR:darkgreen
DESCRIPTION:Predmet: Matematika (FKKT) ()\, Vaje (V)\nLetniki: \nIzvajalci
 : Leon Lampret\nProstor: FKKT
LOCATION:FKKT
ORGANIZER:Leon Lampret
RELATED-TO:fmf-AFLABS-URNIK:srecanje:3152
X-WR-TIMEZONE:Europe/Ljubljana
END:VEVENT
BEGIN:VEVENT
SUMMARY:Matematika 2 (APM-2)\, Vaje (V)
DTSTART;TZID=Europe/Ljubljana:20190515T080000
DTEND;TZID=Europe/Ljubljana:20190515T100000
DTSTAMP:20260426T030123Z
UID:fmf-AFLABS-URNIK:premaknjeno-srecanje:63314
ATTENDEE:2. letnik (APM)
CATEGORIES:Entry,Standard
COLOR:darkgreen
DESCRIPTION:Predmet: Matematika 2 (APM-2)\, Vaje (V)\nLetniki: 2. letnik (
 APM)\nIzvajalci: Leon Lampret\nProstor: F3
LOCATION:F3
ORGANIZER:Leon Lampret
RELATED-TO:fmf-AFLABS-URNIK:srecanje:2784
X-WR-TIMEZONE:Europe/Ljubljana
END:VEVENT
BEGIN:VEVENT
SUMMARY:Matematika 2 (APM-2)\, Vaje (V)
DTSTART;TZID=Europe/Ljubljana:20190522T080000
DTEND;TZID=Europe/Ljubljana:20190522T100000
DTSTAMP:20260426T030123Z
UID:fmf-AFLABS-URNIK:premaknjeno-srecanje:63315
ATTENDEE:2. letnik (APM)
CATEGORIES:Entry,Standard
COLOR:darkgreen
DESCRIPTION:Predmet: Matematika 2 (APM-2)\, Vaje (V)\nLetniki: 2. letnik (
 APM)\nIzvajalci: Leon Lampret\nProstor: F3
LOCATION:F3
ORGANIZER:Leon Lampret
RELATED-TO:fmf-AFLABS-URNIK:srecanje:2784
X-WR-TIMEZONE:Europe/Ljubljana
END:VEVENT
BEGIN:VEVENT
SUMMARY:Matematika 2 (APM-2)\, Vaje (V)
DTSTART;TZID=Europe/Ljubljana:20190529T080000
DTEND;TZID=Europe/Ljubljana:20190529T100000
DTSTAMP:20260426T030123Z
UID:fmf-AFLABS-URNIK:premaknjeno-srecanje:63316
ATTENDEE:2. letnik (APM)
CATEGORIES:Entry,Standard
COLOR:darkgreen
DESCRIPTION:Predmet: Matematika 2 (APM-2)\, Vaje (V)\nLetniki: 2. letnik (
 APM)\nIzvajalci: Leon Lampret\nProstor: F3
LOCATION:F3
ORGANIZER:Leon Lampret
RELATED-TO:fmf-AFLABS-URNIK:srecanje:2784
X-WR-TIMEZONE:Europe/Ljubljana
END:VEVENT
END:VCALENDAR
