BEGIN:VCALENDAR
VERSION:2.0
PRODID:-//AFLabs urnik izvoz - fmf//aflabs.si//SI
DTSTAMP:20260419T194436Z
NAME:UL FMF urnik
REFRESH-INTERVAL:PT1H
SOURCE:https://urnik.fmf.uni-lj.si/en/teacher/274?day=2018-06-04&export=1
URL:https://urnik.fmf.uni-lj.si/en/teacher/274?day=2018-06-04&export=1
X-PUBLISHED-TTL:PT1H
X-WR-CALNAME:UL FMF urnik
X-WR-TIMEZONE:Europe/Ljubljana
BEGIN:VTIMEZONE
TZID:Europe/Ljubljana
BEGIN:DAYLIGHT
DTSTART:20260329T020000
RDATE:20260329T020000
RDATE:20270328T020000
TZNAME:CEST
TZOFFSETFROM:+0100
TZOFFSETTO:+0200
END:DAYLIGHT
BEGIN:STANDARD
DTSTART:20261025T030000
RDATE:20261025T030000
RDATE:20271031T030000
TZNAME:CET
TZOFFSETFROM:+0200
TZOFFSETTO:+0100
END:STANDARD
END:VTIMEZONE
BEGIN:VEVENT
SUMMARY:Osnove podatkovnih baz (FM-3\, MAT-3)\, Predavanja (P)
DTSTART;TZID=Europe/Ljubljana:20180219T120000
DTEND;TZID=Europe/Ljubljana:20180219T140000
DTSTAMP:20260419T194436Z
UID:fmf-AFLABS-URNIK:premaknjeno-srecanje:81352
ATTENDEE:3. letnik (FM)
ATTENDEE:3. letnik (M)
CATEGORIES:Entry,Standard
COLOR:darkgreen
DESCRIPTION:Predmet: Osnove podatkovnih baz (FM-3\, MAT-3)\, Predavanja (P
 )\nLetniki: 3. letnik (FM)\, 3. letnik (M)\nIzvajalci: Alen Orbanić\nPros
 tor: 3.11
LOCATION:3.11
ORGANIZER:Alen Orbanić
RELATED-TO:fmf-AFLABS-URNIK:srecanje:1032
X-WR-TIMEZONE:Europe/Ljubljana
END:VEVENT
BEGIN:VEVENT
SUMMARY:Osnove podatkovnih baz (FM-3\, MAT-3)\, Predavanja (P)
DTSTART;TZID=Europe/Ljubljana:20180226T120000
DTEND;TZID=Europe/Ljubljana:20180226T140000
DTSTAMP:20260419T194436Z
UID:fmf-AFLABS-URNIK:premaknjeno-srecanje:81353
ATTENDEE:3. letnik (FM)
ATTENDEE:3. letnik (M)
CATEGORIES:Entry,Standard
COLOR:darkgreen
DESCRIPTION:Predmet: Osnove podatkovnih baz (FM-3\, MAT-3)\, Predavanja (P
 )\nLetniki: 3. letnik (FM)\, 3. letnik (M)\nIzvajalci: Alen Orbanić\nPros
 tor: 3.11
LOCATION:3.11
ORGANIZER:Alen Orbanić
RELATED-TO:fmf-AFLABS-URNIK:srecanje:1032
X-WR-TIMEZONE:Europe/Ljubljana
END:VEVENT
BEGIN:VEVENT
SUMMARY:Osnove podatkovnih baz (FM-3\, MAT-3)\, Predavanja (P)
DTSTART;TZID=Europe/Ljubljana:20180305T120000
DTEND;TZID=Europe/Ljubljana:20180305T140000
DTSTAMP:20260419T194436Z
UID:fmf-AFLABS-URNIK:premaknjeno-srecanje:81354
ATTENDEE:3. letnik (FM)
ATTENDEE:3. letnik (M)
CATEGORIES:Entry,Standard
COLOR:darkgreen
DESCRIPTION:Predmet: Osnove podatkovnih baz (FM-3\, MAT-3)\, Predavanja (P
 )\nLetniki: 3. letnik (FM)\, 3. letnik (M)\nIzvajalci: Alen Orbanić\nPros
 tor: 3.11
LOCATION:3.11
ORGANIZER:Alen Orbanić
RELATED-TO:fmf-AFLABS-URNIK:srecanje:1032
X-WR-TIMEZONE:Europe/Ljubljana
END:VEVENT
BEGIN:VEVENT
SUMMARY:Osnove podatkovnih baz (FM-3\, MAT-3)\, Predavanja (P)
DTSTART;TZID=Europe/Ljubljana:20180312T120000
DTEND;TZID=Europe/Ljubljana:20180312T140000
DTSTAMP:20260419T194436Z
UID:fmf-AFLABS-URNIK:premaknjeno-srecanje:81355
ATTENDEE:3. letnik (FM)
ATTENDEE:3. letnik (M)
CATEGORIES:Entry,Standard
COLOR:darkgreen
DESCRIPTION:Predmet: Osnove podatkovnih baz (FM-3\, MAT-3)\, Predavanja (P
 )\nLetniki: 3. letnik (FM)\, 3. letnik (M)\nIzvajalci: Alen Orbanić\nPros
 tor: 3.11
LOCATION:3.11
ORGANIZER:Alen Orbanić
RELATED-TO:fmf-AFLABS-URNIK:srecanje:1032
X-WR-TIMEZONE:Europe/Ljubljana
END:VEVENT
BEGIN:VEVENT
SUMMARY:Osnove podatkovnih baz (FM-3\, MAT-3)\, Predavanja (P)
DTSTART;TZID=Europe/Ljubljana:20180319T120000
DTEND;TZID=Europe/Ljubljana:20180319T140000
DTSTAMP:20260419T194436Z
UID:fmf-AFLABS-URNIK:premaknjeno-srecanje:81356
ATTENDEE:3. letnik (FM)
ATTENDEE:3. letnik (M)
CATEGORIES:Entry,Standard
COLOR:darkgreen
DESCRIPTION:Predmet: Osnove podatkovnih baz (FM-3\, MAT-3)\, Predavanja (P
 )\nLetniki: 3. letnik (FM)\, 3. letnik (M)\nIzvajalci: Alen Orbanić\nPros
 tor: 3.11
LOCATION:3.11
ORGANIZER:Alen Orbanić
RELATED-TO:fmf-AFLABS-URNIK:srecanje:1032
X-WR-TIMEZONE:Europe/Ljubljana
END:VEVENT
BEGIN:VEVENT
SUMMARY:Osnove podatkovnih baz (FM-3\, MAT-3)\, Predavanja (P)
DTSTART;TZID=Europe/Ljubljana:20180326T120000
DTEND;TZID=Europe/Ljubljana:20180326T140000
DTSTAMP:20260419T194436Z
UID:fmf-AFLABS-URNIK:premaknjeno-srecanje:81357
ATTENDEE:3. letnik (FM)
ATTENDEE:3. letnik (M)
CATEGORIES:Entry,Standard
COLOR:darkgreen
DESCRIPTION:Predmet: Osnove podatkovnih baz (FM-3\, MAT-3)\, Predavanja (P
 )\nLetniki: 3. letnik (FM)\, 3. letnik (M)\nIzvajalci: Alen Orbanić\nPros
 tor: 3.11
LOCATION:3.11
ORGANIZER:Alen Orbanić
RELATED-TO:fmf-AFLABS-URNIK:srecanje:1032
X-WR-TIMEZONE:Europe/Ljubljana
END:VEVENT
BEGIN:VEVENT
SUMMARY:Osnove podatkovnih baz (FM-3\, MAT-3)\, Predavanja (P)
DTSTART;TZID=Europe/Ljubljana:20180402T120000
DTEND;TZID=Europe/Ljubljana:20180402T140000
DTSTAMP:20260419T194436Z
UID:fmf-AFLABS-URNIK:premaknjeno-srecanje:81358
ATTENDEE:3. letnik (FM)
ATTENDEE:3. letnik (M)
CATEGORIES:Entry,Standard
COLOR:darkgreen
DESCRIPTION:Predmet: Osnove podatkovnih baz (FM-3\, MAT-3)\, Predavanja (P
 )\nLetniki: 3. letnik (FM)\, 3. letnik (M)\nIzvajalci: Alen Orbanić\nPros
 tor: 3.11
LOCATION:3.11
ORGANIZER:Alen Orbanić
RELATED-TO:fmf-AFLABS-URNIK:srecanje:1032
X-WR-TIMEZONE:Europe/Ljubljana
END:VEVENT
BEGIN:VEVENT
SUMMARY:Osnove podatkovnih baz (FM-3\, MAT-3)\, Predavanja (P)
DTSTART;TZID=Europe/Ljubljana:20180409T120000
DTEND;TZID=Europe/Ljubljana:20180409T140000
DTSTAMP:20260419T194436Z
UID:fmf-AFLABS-URNIK:premaknjeno-srecanje:81359
ATTENDEE:3. letnik (FM)
ATTENDEE:3. letnik (M)
CATEGORIES:Entry,Standard
COLOR:darkgreen
DESCRIPTION:Predmet: Osnove podatkovnih baz (FM-3\, MAT-3)\, Predavanja (P
 )\nLetniki: 3. letnik (FM)\, 3. letnik (M)\nIzvajalci: Alen Orbanić\nPros
 tor: 3.11
LOCATION:3.11
ORGANIZER:Alen Orbanić
RELATED-TO:fmf-AFLABS-URNIK:srecanje:1032
X-WR-TIMEZONE:Europe/Ljubljana
END:VEVENT
BEGIN:VEVENT
SUMMARY:Osnove podatkovnih baz (FM-3\, MAT-3)\, Predavanja (P)
DTSTART;TZID=Europe/Ljubljana:20180416T120000
DTEND;TZID=Europe/Ljubljana:20180416T140000
DTSTAMP:20260419T194436Z
UID:fmf-AFLABS-URNIK:premaknjeno-srecanje:81360
ATTENDEE:3. letnik (FM)
ATTENDEE:3. letnik (M)
CATEGORIES:Entry,Standard
COLOR:darkgreen
DESCRIPTION:Predmet: Osnove podatkovnih baz (FM-3\, MAT-3)\, Predavanja (P
 )\nLetniki: 3. letnik (FM)\, 3. letnik (M)\nIzvajalci: Alen Orbanić\nPros
 tor: 3.11
LOCATION:3.11
ORGANIZER:Alen Orbanić
RELATED-TO:fmf-AFLABS-URNIK:srecanje:1032
X-WR-TIMEZONE:Europe/Ljubljana
END:VEVENT
BEGIN:VEVENT
SUMMARY:Osnove podatkovnih baz (FM-3\, MAT-3)\, Predavanja (P)
DTSTART;TZID=Europe/Ljubljana:20180423T120000
DTEND;TZID=Europe/Ljubljana:20180423T140000
DTSTAMP:20260419T194436Z
UID:fmf-AFLABS-URNIK:premaknjeno-srecanje:81361
ATTENDEE:3. letnik (FM)
ATTENDEE:3. letnik (M)
CATEGORIES:Entry,Standard
COLOR:darkgreen
DESCRIPTION:Predmet: Osnove podatkovnih baz (FM-3\, MAT-3)\, Predavanja (P
 )\nLetniki: 3. letnik (FM)\, 3. letnik (M)\nIzvajalci: Alen Orbanić\nPros
 tor: 3.11
LOCATION:3.11
ORGANIZER:Alen Orbanić
RELATED-TO:fmf-AFLABS-URNIK:srecanje:1032
X-WR-TIMEZONE:Europe/Ljubljana
END:VEVENT
BEGIN:VEVENT
SUMMARY:Osnove podatkovnih baz (FM-3\, MAT-3)\, Predavanja (P)
DTSTART;TZID=Europe/Ljubljana:20180430T120000
DTEND;TZID=Europe/Ljubljana:20180430T140000
DTSTAMP:20260419T194436Z
UID:fmf-AFLABS-URNIK:premaknjeno-srecanje:81362
ATTENDEE:3. letnik (FM)
ATTENDEE:3. letnik (M)
CATEGORIES:Entry,Standard
COLOR:darkgreen
DESCRIPTION:Predmet: Osnove podatkovnih baz (FM-3\, MAT-3)\, Predavanja (P
 )\nLetniki: 3. letnik (FM)\, 3. letnik (M)\nIzvajalci: Alen Orbanić\nPros
 tor: 3.11
LOCATION:3.11
ORGANIZER:Alen Orbanić
RELATED-TO:fmf-AFLABS-URNIK:srecanje:1032
X-WR-TIMEZONE:Europe/Ljubljana
END:VEVENT
BEGIN:VEVENT
SUMMARY:Osnove podatkovnih baz (FM-3\, MAT-3)\, Predavanja (P)
DTSTART;TZID=Europe/Ljubljana:20180507T120000
DTEND;TZID=Europe/Ljubljana:20180507T140000
DTSTAMP:20260419T194436Z
UID:fmf-AFLABS-URNIK:premaknjeno-srecanje:81363
ATTENDEE:3. letnik (FM)
ATTENDEE:3. letnik (M)
CATEGORIES:Entry,Standard
COLOR:darkgreen
DESCRIPTION:Predmet: Osnove podatkovnih baz (FM-3\, MAT-3)\, Predavanja (P
 )\nLetniki: 3. letnik (FM)\, 3. letnik (M)\nIzvajalci: Alen Orbanić\nPros
 tor: 3.11
LOCATION:3.11
ORGANIZER:Alen Orbanić
RELATED-TO:fmf-AFLABS-URNIK:srecanje:1032
X-WR-TIMEZONE:Europe/Ljubljana
END:VEVENT
BEGIN:VEVENT
SUMMARY:Osnove podatkovnih baz (FM-3\, MAT-3)\, Predavanja (P)
DTSTART;TZID=Europe/Ljubljana:20180514T120000
DTEND;TZID=Europe/Ljubljana:20180514T140000
DTSTAMP:20260419T194436Z
UID:fmf-AFLABS-URNIK:premaknjeno-srecanje:81364
ATTENDEE:3. letnik (FM)
ATTENDEE:3. letnik (M)
CATEGORIES:Entry,Standard
COLOR:darkgreen
DESCRIPTION:Predmet: Osnove podatkovnih baz (FM-3\, MAT-3)\, Predavanja (P
 )\nLetniki: 3. letnik (FM)\, 3. letnik (M)\nIzvajalci: Alen Orbanić\nPros
 tor: 3.11
LOCATION:3.11
ORGANIZER:Alen Orbanić
RELATED-TO:fmf-AFLABS-URNIK:srecanje:1032
X-WR-TIMEZONE:Europe/Ljubljana
END:VEVENT
BEGIN:VEVENT
SUMMARY:Osnove podatkovnih baz (FM-3\, MAT-3)\, Predavanja (P)
DTSTART;TZID=Europe/Ljubljana:20180521T120000
DTEND;TZID=Europe/Ljubljana:20180521T140000
DTSTAMP:20260419T194436Z
UID:fmf-AFLABS-URNIK:premaknjeno-srecanje:81365
ATTENDEE:3. letnik (FM)
ATTENDEE:3. letnik (M)
CATEGORIES:Entry,Standard
COLOR:darkgreen
DESCRIPTION:Predmet: Osnove podatkovnih baz (FM-3\, MAT-3)\, Predavanja (P
 )\nLetniki: 3. letnik (FM)\, 3. letnik (M)\nIzvajalci: Alen Orbanić\nPros
 tor: 3.11
LOCATION:3.11
ORGANIZER:Alen Orbanić
RELATED-TO:fmf-AFLABS-URNIK:srecanje:1032
X-WR-TIMEZONE:Europe/Ljubljana
END:VEVENT
BEGIN:VEVENT
SUMMARY:Osnove podatkovnih baz (FM-3\, MAT-3)\, Predavanja (P)
DTSTART;TZID=Europe/Ljubljana:20180528T120000
DTEND;TZID=Europe/Ljubljana:20180528T140000
DTSTAMP:20260419T194436Z
UID:fmf-AFLABS-URNIK:premaknjeno-srecanje:81366
ATTENDEE:3. letnik (FM)
ATTENDEE:3. letnik (M)
CATEGORIES:Entry,Standard
COLOR:darkgreen
DESCRIPTION:Predmet: Osnove podatkovnih baz (FM-3\, MAT-3)\, Predavanja (P
 )\nLetniki: 3. letnik (FM)\, 3. letnik (M)\nIzvajalci: Alen Orbanić\nPros
 tor: 3.11
LOCATION:3.11
ORGANIZER:Alen Orbanić
RELATED-TO:fmf-AFLABS-URNIK:srecanje:1032
X-WR-TIMEZONE:Europe/Ljubljana
END:VEVENT
BEGIN:VEVENT
SUMMARY:Osnove podatkovnih baz (FM-3\, MAT-3)\, Predavanja (P)
DTSTART;TZID=Europe/Ljubljana:20180604T120000
DTEND;TZID=Europe/Ljubljana:20180604T140000
DTSTAMP:20260419T194436Z
UID:fmf-AFLABS-URNIK:premaknjeno-srecanje:81367
ATTENDEE:3. letnik (FM)
ATTENDEE:3. letnik (M)
CATEGORIES:Entry,Standard
COLOR:darkgreen
DESCRIPTION:Predmet: Osnove podatkovnih baz (FM-3\, MAT-3)\, Predavanja (P
 )\nLetniki: 3. letnik (FM)\, 3. letnik (M)\nIzvajalci: Alen Orbanić\nPros
 tor: 3.11
LOCATION:3.11
ORGANIZER:Alen Orbanić
RELATED-TO:fmf-AFLABS-URNIK:srecanje:1032
X-WR-TIMEZONE:Europe/Ljubljana
END:VEVENT
BEGIN:VEVENT
SUMMARY:Programiranje 2 (APM-2)\, Predavanja (P)
DTSTART;TZID=Europe/Ljubljana:20180220T080000
DTEND;TZID=Europe/Ljubljana:20180220T100000
DTSTAMP:20260419T194436Z
UID:fmf-AFLABS-URNIK:premaknjeno-srecanje:86760
ATTENDEE:2. letnik (APM)
CATEGORIES:Entry,Standard
COLOR:darkgreen
DESCRIPTION:Predmet: Programiranje 2 (APM-2)\, Predavanja (P)\nLetniki: 2.
  letnik (APM)\nIzvajalci: Alen Orbanić\nProstor: 3.11
LOCATION:3.11
ORGANIZER:Alen Orbanić
RELATED-TO:fmf-AFLABS-URNIK:srecanje:1159
X-WR-TIMEZONE:Europe/Ljubljana
END:VEVENT
BEGIN:VEVENT
SUMMARY:Programiranje 2 (APM-2)\, Predavanja (P)
DTSTART;TZID=Europe/Ljubljana:20180227T080000
DTEND;TZID=Europe/Ljubljana:20180227T100000
DTSTAMP:20260419T194436Z
UID:fmf-AFLABS-URNIK:premaknjeno-srecanje:86761
ATTENDEE:2. letnik (APM)
CATEGORIES:Entry,Standard
COLOR:darkgreen
DESCRIPTION:Predmet: Programiranje 2 (APM-2)\, Predavanja (P)\nLetniki: 2.
  letnik (APM)\nIzvajalci: Alen Orbanić\nProstor: 3.11
LOCATION:3.11
ORGANIZER:Alen Orbanić
RELATED-TO:fmf-AFLABS-URNIK:srecanje:1159
X-WR-TIMEZONE:Europe/Ljubljana
END:VEVENT
BEGIN:VEVENT
SUMMARY:Programiranje 2 (APM-2)\, Predavanja (P)
DTSTART;TZID=Europe/Ljubljana:20180306T080000
DTEND;TZID=Europe/Ljubljana:20180306T100000
DTSTAMP:20260419T194436Z
UID:fmf-AFLABS-URNIK:premaknjeno-srecanje:86762
ATTENDEE:2. letnik (APM)
CATEGORIES:Entry,Standard
COLOR:darkgreen
DESCRIPTION:Predmet: Programiranje 2 (APM-2)\, Predavanja (P)\nLetniki: 2.
  letnik (APM)\nIzvajalci: Alen Orbanić\nProstor: 3.11
LOCATION:3.11
ORGANIZER:Alen Orbanić
RELATED-TO:fmf-AFLABS-URNIK:srecanje:1159
X-WR-TIMEZONE:Europe/Ljubljana
END:VEVENT
BEGIN:VEVENT
SUMMARY:Programiranje 2 (APM-2)\, Predavanja (P)
DTSTART;TZID=Europe/Ljubljana:20180313T080000
DTEND;TZID=Europe/Ljubljana:20180313T100000
DTSTAMP:20260419T194436Z
UID:fmf-AFLABS-URNIK:premaknjeno-srecanje:86763
ATTENDEE:2. letnik (APM)
CATEGORIES:Entry,Standard
COLOR:darkgreen
DESCRIPTION:Predmet: Programiranje 2 (APM-2)\, Predavanja (P)\nLetniki: 2.
  letnik (APM)\nIzvajalci: Alen Orbanić\nProstor: 3.11
LOCATION:3.11
ORGANIZER:Alen Orbanić
RELATED-TO:fmf-AFLABS-URNIK:srecanje:1159
X-WR-TIMEZONE:Europe/Ljubljana
END:VEVENT
BEGIN:VEVENT
SUMMARY:Programiranje 2 (APM-2)\, Predavanja (P)
DTSTART;TZID=Europe/Ljubljana:20180320T080000
DTEND;TZID=Europe/Ljubljana:20180320T100000
DTSTAMP:20260419T194436Z
UID:fmf-AFLABS-URNIK:premaknjeno-srecanje:86764
ATTENDEE:2. letnik (APM)
CATEGORIES:Entry,Standard
COLOR:darkgreen
DESCRIPTION:Predmet: Programiranje 2 (APM-2)\, Predavanja (P)\nLetniki: 2.
  letnik (APM)\nIzvajalci: Alen Orbanić\nProstor: 3.11
LOCATION:3.11
ORGANIZER:Alen Orbanić
RELATED-TO:fmf-AFLABS-URNIK:srecanje:1159
X-WR-TIMEZONE:Europe/Ljubljana
END:VEVENT
BEGIN:VEVENT
SUMMARY:Programiranje 2 (APM-2)\, Predavanja (P)
DTSTART;TZID=Europe/Ljubljana:20180327T080000
DTEND;TZID=Europe/Ljubljana:20180327T100000
DTSTAMP:20260419T194436Z
UID:fmf-AFLABS-URNIK:premaknjeno-srecanje:86765
ATTENDEE:2. letnik (APM)
CATEGORIES:Entry,Standard
COLOR:darkgreen
DESCRIPTION:Predmet: Programiranje 2 (APM-2)\, Predavanja (P)\nLetniki: 2.
  letnik (APM)\nIzvajalci: Alen Orbanić\nProstor: 3.11
LOCATION:3.11
ORGANIZER:Alen Orbanić
RELATED-TO:fmf-AFLABS-URNIK:srecanje:1159
X-WR-TIMEZONE:Europe/Ljubljana
END:VEVENT
BEGIN:VEVENT
SUMMARY:Programiranje 2 (APM-2)\, Predavanja (P)
DTSTART;TZID=Europe/Ljubljana:20180403T080000
DTEND;TZID=Europe/Ljubljana:20180403T100000
DTSTAMP:20260419T194436Z
UID:fmf-AFLABS-URNIK:premaknjeno-srecanje:86766
ATTENDEE:2. letnik (APM)
CATEGORIES:Entry,Standard
COLOR:darkgreen
DESCRIPTION:Predmet: Programiranje 2 (APM-2)\, Predavanja (P)\nLetniki: 2.
  letnik (APM)\nIzvajalci: Alen Orbanić\nProstor: 3.11
LOCATION:3.11
ORGANIZER:Alen Orbanić
RELATED-TO:fmf-AFLABS-URNIK:srecanje:1159
X-WR-TIMEZONE:Europe/Ljubljana
END:VEVENT
BEGIN:VEVENT
SUMMARY:Programiranje 2 (APM-2)\, Predavanja (P)
DTSTART;TZID=Europe/Ljubljana:20180410T080000
DTEND;TZID=Europe/Ljubljana:20180410T100000
DTSTAMP:20260419T194436Z
UID:fmf-AFLABS-URNIK:premaknjeno-srecanje:86767
ATTENDEE:2. letnik (APM)
CATEGORIES:Entry,Standard
COLOR:darkgreen
DESCRIPTION:Predmet: Programiranje 2 (APM-2)\, Predavanja (P)\nLetniki: 2.
  letnik (APM)\nIzvajalci: Alen Orbanić\nProstor: 3.11
LOCATION:3.11
ORGANIZER:Alen Orbanić
RELATED-TO:fmf-AFLABS-URNIK:srecanje:1159
X-WR-TIMEZONE:Europe/Ljubljana
END:VEVENT
BEGIN:VEVENT
SUMMARY:Programiranje 2 (APM-2)\, Predavanja (P)
DTSTART;TZID=Europe/Ljubljana:20180417T080000
DTEND;TZID=Europe/Ljubljana:20180417T100000
DTSTAMP:20260419T194436Z
UID:fmf-AFLABS-URNIK:premaknjeno-srecanje:86768
ATTENDEE:2. letnik (APM)
CATEGORIES:Entry,Standard
COLOR:darkgreen
DESCRIPTION:Predmet: Programiranje 2 (APM-2)\, Predavanja (P)\nLetniki: 2.
  letnik (APM)\nIzvajalci: Alen Orbanić\nProstor: 3.11
LOCATION:3.11
ORGANIZER:Alen Orbanić
RELATED-TO:fmf-AFLABS-URNIK:srecanje:1159
X-WR-TIMEZONE:Europe/Ljubljana
END:VEVENT
BEGIN:VEVENT
SUMMARY:Programiranje 2 (APM-2)\, Predavanja (P)
DTSTART;TZID=Europe/Ljubljana:20180424T080000
DTEND;TZID=Europe/Ljubljana:20180424T100000
DTSTAMP:20260419T194436Z
UID:fmf-AFLABS-URNIK:premaknjeno-srecanje:86769
ATTENDEE:2. letnik (APM)
CATEGORIES:Entry,Standard
COLOR:darkgreen
DESCRIPTION:Predmet: Programiranje 2 (APM-2)\, Predavanja (P)\nLetniki: 2.
  letnik (APM)\nIzvajalci: Alen Orbanić\nProstor: 3.11
LOCATION:3.11
ORGANIZER:Alen Orbanić
RELATED-TO:fmf-AFLABS-URNIK:srecanje:1159
X-WR-TIMEZONE:Europe/Ljubljana
END:VEVENT
BEGIN:VEVENT
SUMMARY:Programiranje 2 (APM-2)\, Predavanja (P)
DTSTART;TZID=Europe/Ljubljana:20180501T080000
DTEND;TZID=Europe/Ljubljana:20180501T100000
DTSTAMP:20260419T194436Z
UID:fmf-AFLABS-URNIK:premaknjeno-srecanje:86770
ATTENDEE:2. letnik (APM)
CATEGORIES:Entry,Standard
COLOR:darkgreen
DESCRIPTION:Predmet: Programiranje 2 (APM-2)\, Predavanja (P)\nLetniki: 2.
  letnik (APM)\nIzvajalci: Alen Orbanić\nProstor: 3.11
LOCATION:3.11
ORGANIZER:Alen Orbanić
RELATED-TO:fmf-AFLABS-URNIK:srecanje:1159
X-WR-TIMEZONE:Europe/Ljubljana
END:VEVENT
BEGIN:VEVENT
SUMMARY:Programiranje 2 (APM-2)\, Predavanja (P)
DTSTART;TZID=Europe/Ljubljana:20180508T080000
DTEND;TZID=Europe/Ljubljana:20180508T100000
DTSTAMP:20260419T194436Z
UID:fmf-AFLABS-URNIK:premaknjeno-srecanje:86771
ATTENDEE:2. letnik (APM)
CATEGORIES:Entry,Standard
COLOR:darkgreen
DESCRIPTION:Predmet: Programiranje 2 (APM-2)\, Predavanja (P)\nLetniki: 2.
  letnik (APM)\nIzvajalci: Alen Orbanić\nProstor: 3.11
LOCATION:3.11
ORGANIZER:Alen Orbanić
RELATED-TO:fmf-AFLABS-URNIK:srecanje:1159
X-WR-TIMEZONE:Europe/Ljubljana
END:VEVENT
BEGIN:VEVENT
SUMMARY:Programiranje 2 (APM-2)\, Predavanja (P)
DTSTART;TZID=Europe/Ljubljana:20180515T080000
DTEND;TZID=Europe/Ljubljana:20180515T100000
DTSTAMP:20260419T194436Z
UID:fmf-AFLABS-URNIK:premaknjeno-srecanje:86772
ATTENDEE:2. letnik (APM)
CATEGORIES:Entry,Standard
COLOR:darkgreen
DESCRIPTION:Predmet: Programiranje 2 (APM-2)\, Predavanja (P)\nLetniki: 2.
  letnik (APM)\nIzvajalci: Alen Orbanić\nProstor: 3.11
LOCATION:3.11
ORGANIZER:Alen Orbanić
RELATED-TO:fmf-AFLABS-URNIK:srecanje:1159
X-WR-TIMEZONE:Europe/Ljubljana
END:VEVENT
BEGIN:VEVENT
SUMMARY:Programiranje 2 (APM-2)\, Predavanja (P)
DTSTART;TZID=Europe/Ljubljana:20180522T080000
DTEND;TZID=Europe/Ljubljana:20180522T100000
DTSTAMP:20260419T194436Z
UID:fmf-AFLABS-URNIK:premaknjeno-srecanje:86773
ATTENDEE:2. letnik (APM)
CATEGORIES:Entry,Standard
COLOR:darkgreen
DESCRIPTION:Predmet: Programiranje 2 (APM-2)\, Predavanja (P)\nLetniki: 2.
  letnik (APM)\nIzvajalci: Alen Orbanić\nProstor: 3.11
LOCATION:3.11
ORGANIZER:Alen Orbanić
RELATED-TO:fmf-AFLABS-URNIK:srecanje:1159
X-WR-TIMEZONE:Europe/Ljubljana
END:VEVENT
BEGIN:VEVENT
SUMMARY:Programiranje 2 (APM-2)\, Predavanja (P)
DTSTART;TZID=Europe/Ljubljana:20180529T080000
DTEND;TZID=Europe/Ljubljana:20180529T100000
DTSTAMP:20260419T194436Z
UID:fmf-AFLABS-URNIK:premaknjeno-srecanje:86774
ATTENDEE:2. letnik (APM)
CATEGORIES:Entry,Standard
COLOR:darkgreen
DESCRIPTION:Predmet: Programiranje 2 (APM-2)\, Predavanja (P)\nLetniki: 2.
  letnik (APM)\nIzvajalci: Alen Orbanić\nProstor: 3.11
LOCATION:3.11
ORGANIZER:Alen Orbanić
RELATED-TO:fmf-AFLABS-URNIK:srecanje:1159
X-WR-TIMEZONE:Europe/Ljubljana
END:VEVENT
BEGIN:VEVENT
SUMMARY:Programiranje 2 (APM-2)\, Predavanja (P)
DTSTART;TZID=Europe/Ljubljana:20180605T080000
DTEND;TZID=Europe/Ljubljana:20180605T100000
DTSTAMP:20260419T194436Z
UID:fmf-AFLABS-URNIK:premaknjeno-srecanje:86775
ATTENDEE:2. letnik (APM)
CATEGORIES:Entry,Standard
COLOR:darkgreen
DESCRIPTION:Predmet: Programiranje 2 (APM-2)\, Predavanja (P)\nLetniki: 2.
  letnik (APM)\nIzvajalci: Alen Orbanić\nProstor: 3.11
LOCATION:3.11
ORGANIZER:Alen Orbanić
RELATED-TO:fmf-AFLABS-URNIK:srecanje:1159
X-WR-TIMEZONE:Europe/Ljubljana
END:VEVENT
END:VCALENDAR
