BEGIN:VCALENDAR
VERSION:2.0
PRODID:-//AFLabs urnik izvoz - fmf//aflabs.si//SI
DTSTAMP:20260421T150740Z
NAME:UL FMF urnik
REFRESH-INTERVAL:PT1H
SOURCE:https://urnik.fmf.uni-lj.si/en/teacher/274?day=2018-07-02&export=1
URL:https://urnik.fmf.uni-lj.si/en/teacher/274?day=2018-07-02&export=1
X-PUBLISHED-TTL:PT1H
X-WR-CALNAME:UL FMF urnik
X-WR-TIMEZONE:Europe/Ljubljana
BEGIN:VTIMEZONE
TZID:Europe/Ljubljana
BEGIN:DAYLIGHT
DTSTART:20260329T020000
RDATE:20260329T020000
RDATE:20270328T020000
TZNAME:CEST
TZOFFSETFROM:+0100
TZOFFSETTO:+0200
END:DAYLIGHT
BEGIN:STANDARD
DTSTART:20261025T030000
RDATE:20261025T030000
RDATE:20271031T030000
TZNAME:CET
TZOFFSETFROM:+0200
TZOFFSETTO:+0100
END:STANDARD
END:VTIMEZONE
BEGIN:VEVENT
SUMMARY:Osnove podatkovnih baz (FM-3\, MAT-3)\, Predavanja (P)
DTSTART;TZID=Europe/Ljubljana:20180528T120000
DTEND;TZID=Europe/Ljubljana:20180528T140000
DTSTAMP:20260421T150740Z
UID:fmf-AFLABS-URNIK:premaknjeno-srecanje:81366
ATTENDEE:3. letnik (FM)
ATTENDEE:3. letnik (M)
CATEGORIES:Entry,Standard
COLOR:darkgreen
DESCRIPTION:Predmet: Osnove podatkovnih baz (FM-3\, MAT-3)\, Predavanja (P
 )\nLetniki: 3. letnik (FM)\, 3. letnik (M)\nIzvajalci: Alen Orbanić\nPros
 tor: 3.11
LOCATION:3.11
ORGANIZER:Alen Orbanić
RELATED-TO:fmf-AFLABS-URNIK:srecanje:1032
X-WR-TIMEZONE:Europe/Ljubljana
END:VEVENT
BEGIN:VEVENT
SUMMARY:Osnove podatkovnih baz (FM-3\, MAT-3)\, Predavanja (P)
DTSTART;TZID=Europe/Ljubljana:20180604T120000
DTEND;TZID=Europe/Ljubljana:20180604T140000
DTSTAMP:20260421T150740Z
UID:fmf-AFLABS-URNIK:premaknjeno-srecanje:81367
ATTENDEE:3. letnik (FM)
ATTENDEE:3. letnik (M)
CATEGORIES:Entry,Standard
COLOR:darkgreen
DESCRIPTION:Predmet: Osnove podatkovnih baz (FM-3\, MAT-3)\, Predavanja (P
 )\nLetniki: 3. letnik (FM)\, 3. letnik (M)\nIzvajalci: Alen Orbanić\nPros
 tor: 3.11
LOCATION:3.11
ORGANIZER:Alen Orbanić
RELATED-TO:fmf-AFLABS-URNIK:srecanje:1032
X-WR-TIMEZONE:Europe/Ljubljana
END:VEVENT
BEGIN:VEVENT
SUMMARY:Programiranje 2 (APM-2)\, Predavanja (P)
DTSTART;TZID=Europe/Ljubljana:20180529T080000
DTEND;TZID=Europe/Ljubljana:20180529T100000
DTSTAMP:20260421T150740Z
UID:fmf-AFLABS-URNIK:premaknjeno-srecanje:86774
ATTENDEE:2. letnik (APM)
CATEGORIES:Entry,Standard
COLOR:darkgreen
DESCRIPTION:Predmet: Programiranje 2 (APM-2)\, Predavanja (P)\nLetniki: 2.
  letnik (APM)\nIzvajalci: Alen Orbanić\nProstor: 3.11
LOCATION:3.11
ORGANIZER:Alen Orbanić
RELATED-TO:fmf-AFLABS-URNIK:srecanje:1159
X-WR-TIMEZONE:Europe/Ljubljana
END:VEVENT
BEGIN:VEVENT
SUMMARY:Programiranje 2 (APM-2)\, Predavanja (P)
DTSTART;TZID=Europe/Ljubljana:20180605T080000
DTEND;TZID=Europe/Ljubljana:20180605T100000
DTSTAMP:20260421T150740Z
UID:fmf-AFLABS-URNIK:premaknjeno-srecanje:86775
ATTENDEE:2. letnik (APM)
CATEGORIES:Entry,Standard
COLOR:darkgreen
DESCRIPTION:Predmet: Programiranje 2 (APM-2)\, Predavanja (P)\nLetniki: 2.
  letnik (APM)\nIzvajalci: Alen Orbanić\nProstor: 3.11
LOCATION:3.11
ORGANIZER:Alen Orbanić
RELATED-TO:fmf-AFLABS-URNIK:srecanje:1159
X-WR-TIMEZONE:Europe/Ljubljana
END:VEVENT
END:VCALENDAR
