BEGIN:VCALENDAR
VERSION:2.0
PRODID:-//AFLabs urnik izvoz - fmf//aflabs.si//SI
DTSTAMP:20260424T200202Z
NAME:UL FMF urnik
REFRESH-INTERVAL:PT1H
SOURCE:https://urnik.fmf.uni-lj.si/en/teacher/281?day=2024-06-10&export=1
URL:https://urnik.fmf.uni-lj.si/en/teacher/281?day=2024-06-10&export=1
X-PUBLISHED-TTL:PT1H
X-WR-CALNAME:UL FMF urnik
X-WR-TIMEZONE:Europe/Ljubljana
BEGIN:VTIMEZONE
TZID:Europe/Ljubljana
BEGIN:DAYLIGHT
DTSTART:20260329T020000
RDATE:20260329T020000
RDATE:20270328T020000
TZNAME:CEST
TZOFFSETFROM:+0100
TZOFFSETTO:+0200
END:DAYLIGHT
BEGIN:STANDARD
DTSTART:20261025T030000
RDATE:20261025T030000
RDATE:20271031T030000
TZNAME:CET
TZOFFSETFROM:+0200
TZOFFSETTO:+0100
END:STANDARD
END:VTIMEZONE
BEGIN:VEVENT
SUMMARY:Opazovalna astrofizika (FIZ-3)\, Vaje (V)
DTSTART;TZID=Europe/Ljubljana:20240509T120000
DTEND;TZID=Europe/Ljubljana:20240509T140000
DTSTAMP:20260424T200202Z
UID:fmf-AFLABS-URNIK:premaknjeno-srecanje:128170
ATTENDEE:3. letnik (Fizika, 1. stopnja)
CATEGORIES:Entry,Standard
COLOR:darkgreen
DESCRIPTION:Predmet: Opazovalna astrofizika (FIZ-3)\, Vaje (V)\nLetniki: 3
 . letnik (Fizika\, 1. stopnja)\nIzvajalci: Janez Kos\nProstor: F7
LOCATION:F7
ORGANIZER:Janez Kos
RELATED-TO:fmf-AFLABS-URNIK:srecanje:10508
X-WR-TIMEZONE:Europe/Ljubljana
END:VEVENT
BEGIN:VEVENT
SUMMARY:Opazovalna astrofizika (FIZ-3)\, Vaje (V)
DTSTART;TZID=Europe/Ljubljana:20240516T120000
DTEND;TZID=Europe/Ljubljana:20240516T140000
DTSTAMP:20260424T200202Z
UID:fmf-AFLABS-URNIK:premaknjeno-srecanje:128171
ATTENDEE:3. letnik (Fizika, 1. stopnja)
CATEGORIES:Entry,Standard
COLOR:darkgreen
DESCRIPTION:Predmet: Opazovalna astrofizika (FIZ-3)\, Vaje (V)\nLetniki: 3
 . letnik (Fizika\, 1. stopnja)\nIzvajalci: Janez Kos\nProstor: F7
LOCATION:F7
ORGANIZER:Janez Kos
RELATED-TO:fmf-AFLABS-URNIK:srecanje:10508
X-WR-TIMEZONE:Europe/Ljubljana
END:VEVENT
BEGIN:VEVENT
SUMMARY:Opazovalna astrofizika (FIZ-3)\, Vaje (V)
DTSTART;TZID=Europe/Ljubljana:20240523T120000
DTEND;TZID=Europe/Ljubljana:20240523T140000
DTSTAMP:20260424T200202Z
UID:fmf-AFLABS-URNIK:premaknjeno-srecanje:128172
ATTENDEE:3. letnik (Fizika, 1. stopnja)
CATEGORIES:Entry,Standard
COLOR:darkgreen
DESCRIPTION:Predmet: Opazovalna astrofizika (FIZ-3)\, Vaje (V)\nLetniki: 3
 . letnik (Fizika\, 1. stopnja)\nIzvajalci: Janez Kos\nProstor: F7
LOCATION:F7
ORGANIZER:Janez Kos
RELATED-TO:fmf-AFLABS-URNIK:srecanje:10508
X-WR-TIMEZONE:Europe/Ljubljana
END:VEVENT
BEGIN:VEVENT
SUMMARY:Opazovalna astrofizika (FIZ-3)\, Vaje (V)
DTSTART;TZID=Europe/Ljubljana:20240530T120000
DTEND;TZID=Europe/Ljubljana:20240530T140000
DTSTAMP:20260424T200202Z
UID:fmf-AFLABS-URNIK:premaknjeno-srecanje:128173
ATTENDEE:3. letnik (Fizika, 1. stopnja)
CATEGORIES:Entry,Standard
COLOR:darkgreen
DESCRIPTION:Predmet: Opazovalna astrofizika (FIZ-3)\, Vaje (V)\nLetniki: 3
 . letnik (Fizika\, 1. stopnja)\nIzvajalci: Janez Kos\nProstor: F7
LOCATION:F7
ORGANIZER:Janez Kos
RELATED-TO:fmf-AFLABS-URNIK:srecanje:10508
X-WR-TIMEZONE:Europe/Ljubljana
END:VEVENT
BEGIN:VEVENT
SUMMARY:Astrofizikalni praktikum (FIZ-M2\, FIZ-M1)\, Vaje (V)
DTSTART;TZID=Europe/Ljubljana:20240509T090000
DTEND;TZID=Europe/Ljubljana:20240509T120000
DTSTAMP:20260424T200202Z
UID:fmf-AFLABS-URNIK:premaknjeno-srecanje:136157
ATTENDEE:1. letnik (Fizika, 2. stopnja)
ATTENDEE:2. letnik (Fizika, 2. stopnja)
CATEGORIES:Entry,Standard
COLOR:darkgreen
DESCRIPTION:Predmet: Astrofizikalni praktikum (FIZ-M2\, FIZ-M1)\, Vaje (V)
 \nLetniki: 2. letnik (Fizika\, 2. stopnja)\, 1. letnik (Fizika\, 2. stopnj
 a)\nIzvajalci: Dunja Fabjan\, Janez Kos\, Gregor Traven\nProstor: F3
LOCATION:F3
ORGANIZER:Dunja Fabjan, Janez Kos, Gregor Traven
RELATED-TO:fmf-AFLABS-URNIK:srecanje:10696
X-WR-TIMEZONE:Europe/Ljubljana
END:VEVENT
BEGIN:VEVENT
SUMMARY:Astrofizikalni praktikum (FIZ-M2\, FIZ-M1)\, Vaje (V)
DTSTART;TZID=Europe/Ljubljana:20240516T090000
DTEND;TZID=Europe/Ljubljana:20240516T120000
DTSTAMP:20260424T200202Z
UID:fmf-AFLABS-URNIK:premaknjeno-srecanje:136158
ATTENDEE:1. letnik (Fizika, 2. stopnja)
ATTENDEE:2. letnik (Fizika, 2. stopnja)
CATEGORIES:Entry,Standard
COLOR:darkgreen
DESCRIPTION:Predmet: Astrofizikalni praktikum (FIZ-M2\, FIZ-M1)\, Vaje (V)
 \nLetniki: 2. letnik (Fizika\, 2. stopnja)\, 1. letnik (Fizika\, 2. stopnj
 a)\nIzvajalci: Dunja Fabjan\, Janez Kos\, Gregor Traven\nProstor: F3
LOCATION:F3
ORGANIZER:Dunja Fabjan, Janez Kos, Gregor Traven
RELATED-TO:fmf-AFLABS-URNIK:srecanje:10696
X-WR-TIMEZONE:Europe/Ljubljana
END:VEVENT
BEGIN:VEVENT
SUMMARY:Astrofizikalni praktikum (FIZ-M2\, FIZ-M1)\, Vaje (V)
DTSTART;TZID=Europe/Ljubljana:20240523T090000
DTEND;TZID=Europe/Ljubljana:20240523T120000
DTSTAMP:20260424T200202Z
UID:fmf-AFLABS-URNIK:premaknjeno-srecanje:136159
ATTENDEE:1. letnik (Fizika, 2. stopnja)
ATTENDEE:2. letnik (Fizika, 2. stopnja)
CATEGORIES:Entry,Standard
COLOR:darkgreen
DESCRIPTION:Predmet: Astrofizikalni praktikum (FIZ-M2\, FIZ-M1)\, Vaje (V)
 \nLetniki: 2. letnik (Fizika\, 2. stopnja)\, 1. letnik (Fizika\, 2. stopnj
 a)\nIzvajalci: Dunja Fabjan\, Janez Kos\, Gregor Traven\nProstor: F3
LOCATION:F3
ORGANIZER:Dunja Fabjan, Janez Kos, Gregor Traven
RELATED-TO:fmf-AFLABS-URNIK:srecanje:10696
X-WR-TIMEZONE:Europe/Ljubljana
END:VEVENT
BEGIN:VEVENT
SUMMARY:Astrofizikalni praktikum (FIZ-M2\, FIZ-M1)\, Vaje (V)
DTSTART;TZID=Europe/Ljubljana:20240530T090000
DTEND;TZID=Europe/Ljubljana:20240530T120000
DTSTAMP:20260424T200202Z
UID:fmf-AFLABS-URNIK:premaknjeno-srecanje:136160
ATTENDEE:1. letnik (Fizika, 2. stopnja)
ATTENDEE:2. letnik (Fizika, 2. stopnja)
CATEGORIES:Entry,Standard
COLOR:darkgreen
DESCRIPTION:Predmet: Astrofizikalni praktikum (FIZ-M2\, FIZ-M1)\, Vaje (V)
 \nLetniki: 2. letnik (Fizika\, 2. stopnja)\, 1. letnik (Fizika\, 2. stopnj
 a)\nIzvajalci: Dunja Fabjan\, Janez Kos\, Gregor Traven\nProstor: F3
LOCATION:F3
ORGANIZER:Dunja Fabjan, Janez Kos, Gregor Traven
RELATED-TO:fmf-AFLABS-URNIK:srecanje:10696
X-WR-TIMEZONE:Europe/Ljubljana
END:VEVENT
BEGIN:VEVENT
SUMMARY:Opazovalna astrofizika (FIZ-3)\, Predavanja (P)
DTSTART;TZID=Europe/Ljubljana:20240510T080000
DTEND;TZID=Europe/Ljubljana:20240510T110000
DTSTAMP:20260424T200202Z
UID:fmf-AFLABS-URNIK:premaknjeno-srecanje:128155
ATTENDEE:3. letnik (Fizika, 1. stopnja)
CATEGORIES:Entry,Standard
COLOR:darkgreen
DESCRIPTION:Predmet: Opazovalna astrofizika (FIZ-3)\, Predavanja (P)\nLetn
 iki: 3. letnik (Fizika\, 1. stopnja)\nIzvajalci: Janez Kos\nProstor: F5
LOCATION:F5
ORGANIZER:Janez Kos
RELATED-TO:fmf-AFLABS-URNIK:srecanje:10509
X-WR-TIMEZONE:Europe/Ljubljana
END:VEVENT
BEGIN:VEVENT
SUMMARY:Opazovalna astrofizika (FIZ-3)\, Predavanja (P)
DTSTART;TZID=Europe/Ljubljana:20240517T080000
DTEND;TZID=Europe/Ljubljana:20240517T110000
DTSTAMP:20260424T200202Z
UID:fmf-AFLABS-URNIK:premaknjeno-srecanje:128156
ATTENDEE:3. letnik (Fizika, 1. stopnja)
CATEGORIES:Entry,Standard
COLOR:darkgreen
DESCRIPTION:Predmet: Opazovalna astrofizika (FIZ-3)\, Predavanja (P)\nLetn
 iki: 3. letnik (Fizika\, 1. stopnja)\nIzvajalci: Janez Kos\nProstor: F5
LOCATION:F5
ORGANIZER:Janez Kos
RELATED-TO:fmf-AFLABS-URNIK:srecanje:10509
X-WR-TIMEZONE:Europe/Ljubljana
END:VEVENT
BEGIN:VEVENT
SUMMARY:Opazovalna astrofizika (FIZ-3)\, Predavanja (P)
DTSTART;TZID=Europe/Ljubljana:20240524T080000
DTEND;TZID=Europe/Ljubljana:20240524T110000
DTSTAMP:20260424T200202Z
UID:fmf-AFLABS-URNIK:premaknjeno-srecanje:128157
ATTENDEE:3. letnik (Fizika, 1. stopnja)
CATEGORIES:Entry,Standard
COLOR:darkgreen
DESCRIPTION:Predmet: Opazovalna astrofizika (FIZ-3)\, Predavanja (P)\nLetn
 iki: 3. letnik (Fizika\, 1. stopnja)\nIzvajalci: Janez Kos\nProstor: F5
LOCATION:F5
ORGANIZER:Janez Kos
RELATED-TO:fmf-AFLABS-URNIK:srecanje:10509
X-WR-TIMEZONE:Europe/Ljubljana
END:VEVENT
BEGIN:VEVENT
SUMMARY:Opazovalna astrofizika (FIZ-3)\, Predavanja (P)
DTSTART;TZID=Europe/Ljubljana:20240531T080000
DTEND;TZID=Europe/Ljubljana:20240531T110000
DTSTAMP:20260424T200202Z
UID:fmf-AFLABS-URNIK:premaknjeno-srecanje:128158
ATTENDEE:3. letnik (Fizika, 1. stopnja)
CATEGORIES:Entry,Standard
COLOR:darkgreen
DESCRIPTION:Predmet: Opazovalna astrofizika (FIZ-3)\, Predavanja (P)\nLetn
 iki: 3. letnik (Fizika\, 1. stopnja)\nIzvajalci: Janez Kos\nProstor: F5
LOCATION:F5
ORGANIZER:Janez Kos
RELATED-TO:fmf-AFLABS-URNIK:srecanje:10509
X-WR-TIMEZONE:Europe/Ljubljana
END:VEVENT
BEGIN:VEVENT
SUMMARY:Vaje pri Opazovalni astrofiziki
DTSTART;TZID=Europe/Ljubljana:20240517T080000
DTEND;TZID=Europe/Ljubljana:20240517T100000
DTSTAMP:20260424T200202Z
UID:fmf-AFLABS-URNIK:rezervacija:16657
ATTENDEE:3. letnik (Fizika, 1. stopnja)
CATEGORIES:Reservation
COLOR:royalblue
DESCRIPTION:Predmeti: Opazovalna astrofizika (FIZ-3)\nLetniki: 3. letnik (
 Fizika\, 1. stopnja)\nIzvajalci: Janez Kos\nProstori: 3.12
LOCATION:3.12
ORGANIZER:Janez Kos
X-WR-TIMEZONE:Europe/Ljubljana
END:VEVENT
BEGIN:VEVENT
SUMMARY:Vaje pri opazovalni astrofiziki
DTSTART;TZID=Europe/Ljubljana:20240523T120000
DTEND;TZID=Europe/Ljubljana:20240523T140000
DTSTAMP:20260424T200202Z
UID:fmf-AFLABS-URNIK:rezervacija:16662
ATTENDEE:3. letnik (Fizika, 1. stopnja)
CATEGORIES:Reservation
COLOR:royalblue
DESCRIPTION:Predmeti: Opazovalna astrofizika (FIZ-3)\nLetniki: 3. letnik (
 Fizika\, 1. stopnja)\nIzvajalci: Janez Kos\nProstori: Triglav
LOCATION:Triglav
ORGANIZER:Janez Kos
X-WR-TIMEZONE:Europe/Ljubljana
END:VEVENT
BEGIN:VEVENT
SUMMARY:Astrodebata
DTSTART;TZID=Europe/Ljubljana:20240612T140000
DTEND;TZID=Europe/Ljubljana:20240612T160000
DTSTAMP:20260424T200202Z
UID:fmf-AFLABS-URNIK:rezervacija:17107
CATEGORIES:Reservation
COLOR:royalblue
DESCRIPTION:Predmeti: \nLetniki: \nIzvajalci: Janez Kos\nProstori: F2
LOCATION:F2
ORGANIZER:Janez Kos
X-WR-TIMEZONE:Europe/Ljubljana
END:VEVENT
END:VCALENDAR
