BEGIN:VCALENDAR
VERSION:2.0
PRODID:-//AFLabs urnik izvoz - fmf//aflabs.si//SI
DTSTAMP:20260422T182036Z
NAME:UL FMF urnik
REFRESH-INTERVAL:PT1H
SOURCE:https://urnik.fmf.uni-lj.si/en/teacher/281?day=2025-01-06&export=1
URL:https://urnik.fmf.uni-lj.si/en/teacher/281?day=2025-01-06&export=1
X-PUBLISHED-TTL:PT1H
X-WR-CALNAME:UL FMF urnik
X-WR-TIMEZONE:Europe/Ljubljana
BEGIN:VTIMEZONE
TZID:Europe/Ljubljana
BEGIN:DAYLIGHT
DTSTART:20260329T020000
RDATE:20260329T020000
RDATE:20270328T020000
TZNAME:CEST
TZOFFSETFROM:+0100
TZOFFSETTO:+0200
END:DAYLIGHT
BEGIN:STANDARD
DTSTART:20261025T030000
RDATE:20261025T030000
RDATE:20271031T030000
TZNAME:CET
TZOFFSETFROM:+0200
TZOFFSETTO:+0100
END:STANDARD
END:VTIMEZONE
BEGIN:VEVENT
SUMMARY:Opazovalne metode v astrofiziki (FIZ-M1\, FIZ-M2)\, Predavanja (P)
DTSTART;TZID=Europe/Ljubljana:20241001T140000
DTEND;TZID=Europe/Ljubljana:20241001T170000
DTSTAMP:20260422T182036Z
UID:fmf-AFLABS-URNIK:premaknjeno-srecanje:194107
ATTENDEE:1. letnik (Fizika, 2. stopnja)
ATTENDEE:2. letnik (Fizika, 2. stopnja)
CATEGORIES:Entry,Standard
COLOR:darkgreen
DESCRIPTION:Predmet: Opazovalne metode v astrofiziki (FIZ-M1\, FIZ-M2)\, P
 redavanja (P)\nLetniki: 1. letnik (Fizika\, 2. stopnja)\, 2. letnik (Fizik
 a\, 2. stopnja)\nIzvajalci: Janez Kos\nProstor: 3.04
LOCATION:3.04
ORGANIZER:Janez Kos
RELATED-TO:fmf-AFLABS-URNIK:srecanje:14664
X-WR-TIMEZONE:Europe/Ljubljana
END:VEVENT
BEGIN:VEVENT
SUMMARY:Opazovalne metode v astrofiziki (FIZ-M1\, FIZ-M2)\, Predavanja (P)
DTSTART;TZID=Europe/Ljubljana:20241008T140000
DTEND;TZID=Europe/Ljubljana:20241008T170000
DTSTAMP:20260422T182036Z
UID:fmf-AFLABS-URNIK:premaknjeno-srecanje:194108
ATTENDEE:1. letnik (Fizika, 2. stopnja)
ATTENDEE:2. letnik (Fizika, 2. stopnja)
CATEGORIES:Entry,Standard
COLOR:darkgreen
DESCRIPTION:Predmet: Opazovalne metode v astrofiziki (FIZ-M1\, FIZ-M2)\, P
 redavanja (P)\nLetniki: 1. letnik (Fizika\, 2. stopnja)\, 2. letnik (Fizik
 a\, 2. stopnja)\nIzvajalci: Janez Kos\nProstor: 3.04
LOCATION:3.04
ORGANIZER:Janez Kos
RELATED-TO:fmf-AFLABS-URNIK:srecanje:14664
X-WR-TIMEZONE:Europe/Ljubljana
END:VEVENT
BEGIN:VEVENT
SUMMARY:Opazovalne metode v astrofiziki (FIZ-M1\, FIZ-M2)\, Predavanja (P)
DTSTART;TZID=Europe/Ljubljana:20241015T140000
DTEND;TZID=Europe/Ljubljana:20241015T170000
DTSTAMP:20260422T182036Z
UID:fmf-AFLABS-URNIK:premaknjeno-srecanje:194109
ATTENDEE:1. letnik (Fizika, 2. stopnja)
ATTENDEE:2. letnik (Fizika, 2. stopnja)
CATEGORIES:Entry,Standard
COLOR:darkgreen
DESCRIPTION:Predmet: Opazovalne metode v astrofiziki (FIZ-M1\, FIZ-M2)\, P
 redavanja (P)\nLetniki: 1. letnik (Fizika\, 2. stopnja)\, 2. letnik (Fizik
 a\, 2. stopnja)\nIzvajalci: Janez Kos\nProstor: 3.04
LOCATION:3.04
ORGANIZER:Janez Kos
RELATED-TO:fmf-AFLABS-URNIK:srecanje:14664
X-WR-TIMEZONE:Europe/Ljubljana
END:VEVENT
BEGIN:VEVENT
SUMMARY:Opazovalne metode v astrofiziki (FIZ-M1\, FIZ-M2)\, Predavanja (P)
DTSTART;TZID=Europe/Ljubljana:20241022T140000
DTEND;TZID=Europe/Ljubljana:20241022T170000
DTSTAMP:20260422T182036Z
UID:fmf-AFLABS-URNIK:premaknjeno-srecanje:194110
ATTENDEE:1. letnik (Fizika, 2. stopnja)
ATTENDEE:2. letnik (Fizika, 2. stopnja)
CATEGORIES:Entry,Standard
COLOR:darkgreen
DESCRIPTION:Predmet: Opazovalne metode v astrofiziki (FIZ-M1\, FIZ-M2)\, P
 redavanja (P)\nLetniki: 1. letnik (Fizika\, 2. stopnja)\, 2. letnik (Fizik
 a\, 2. stopnja)\nIzvajalci: Janez Kos\nProstor: 3.04
LOCATION:3.04
ORGANIZER:Janez Kos
RELATED-TO:fmf-AFLABS-URNIK:srecanje:14664
X-WR-TIMEZONE:Europe/Ljubljana
END:VEVENT
BEGIN:VEVENT
SUMMARY:Opazovalne metode v astrofiziki (FIZ-M1\, FIZ-M2)\, Predavanja (P)
DTSTART;TZID=Europe/Ljubljana:20241029T140000
DTEND;TZID=Europe/Ljubljana:20241029T170000
DTSTAMP:20260422T182036Z
UID:fmf-AFLABS-URNIK:premaknjeno-srecanje:194111
ATTENDEE:1. letnik (Fizika, 2. stopnja)
ATTENDEE:2. letnik (Fizika, 2. stopnja)
CATEGORIES:Entry,Standard
COLOR:darkgreen
DESCRIPTION:Predmet: Opazovalne metode v astrofiziki (FIZ-M1\, FIZ-M2)\, P
 redavanja (P)\nLetniki: 1. letnik (Fizika\, 2. stopnja)\, 2. letnik (Fizik
 a\, 2. stopnja)\nIzvajalci: Janez Kos\nProstor: 3.04
LOCATION:3.04
ORGANIZER:Janez Kos
RELATED-TO:fmf-AFLABS-URNIK:srecanje:14664
X-WR-TIMEZONE:Europe/Ljubljana
END:VEVENT
BEGIN:VEVENT
SUMMARY:Opazovalne metode v astrofiziki (FIZ-M1\, FIZ-M2)\, Predavanja (P)
DTSTART;TZID=Europe/Ljubljana:20241105T140000
DTEND;TZID=Europe/Ljubljana:20241105T170000
DTSTAMP:20260422T182036Z
UID:fmf-AFLABS-URNIK:premaknjeno-srecanje:194112
ATTENDEE:1. letnik (Fizika, 2. stopnja)
ATTENDEE:2. letnik (Fizika, 2. stopnja)
CATEGORIES:Entry,Standard
COLOR:darkgreen
DESCRIPTION:Predmet: Opazovalne metode v astrofiziki (FIZ-M1\, FIZ-M2)\, P
 redavanja (P)\nLetniki: 1. letnik (Fizika\, 2. stopnja)\, 2. letnik (Fizik
 a\, 2. stopnja)\nIzvajalci: Janez Kos\nProstor: 3.04
LOCATION:3.04
ORGANIZER:Janez Kos
RELATED-TO:fmf-AFLABS-URNIK:srecanje:14664
X-WR-TIMEZONE:Europe/Ljubljana
END:VEVENT
BEGIN:VEVENT
SUMMARY:Opazovalne metode v astrofiziki (FIZ-M1\, FIZ-M2)\, Predavanja (P)
DTSTART;TZID=Europe/Ljubljana:20241112T140000
DTEND;TZID=Europe/Ljubljana:20241112T170000
DTSTAMP:20260422T182036Z
UID:fmf-AFLABS-URNIK:premaknjeno-srecanje:194113
ATTENDEE:1. letnik (Fizika, 2. stopnja)
ATTENDEE:2. letnik (Fizika, 2. stopnja)
CATEGORIES:Entry,Standard
COLOR:darkgreen
DESCRIPTION:Predmet: Opazovalne metode v astrofiziki (FIZ-M1\, FIZ-M2)\, P
 redavanja (P)\nLetniki: 1. letnik (Fizika\, 2. stopnja)\, 2. letnik (Fizik
 a\, 2. stopnja)\nIzvajalci: Janez Kos\nProstor: 3.04
LOCATION:3.04
ORGANIZER:Janez Kos
RELATED-TO:fmf-AFLABS-URNIK:srecanje:14664
X-WR-TIMEZONE:Europe/Ljubljana
END:VEVENT
BEGIN:VEVENT
SUMMARY:Opazovalne metode v astrofiziki (FIZ-M1\, FIZ-M2)\, Predavanja (P)
DTSTART;TZID=Europe/Ljubljana:20241126T140000
DTEND;TZID=Europe/Ljubljana:20241126T170000
DTSTAMP:20260422T182036Z
UID:fmf-AFLABS-URNIK:premaknjeno-srecanje:194115
ATTENDEE:1. letnik (Fizika, 2. stopnja)
ATTENDEE:2. letnik (Fizika, 2. stopnja)
CATEGORIES:Entry,Standard
COLOR:darkgreen
DESCRIPTION:Predmet: Opazovalne metode v astrofiziki (FIZ-M1\, FIZ-M2)\, P
 redavanja (P)\nLetniki: 1. letnik (Fizika\, 2. stopnja)\, 2. letnik (Fizik
 a\, 2. stopnja)\nIzvajalci: Janez Kos\nProstor: 3.04
LOCATION:3.04
ORGANIZER:Janez Kos
RELATED-TO:fmf-AFLABS-URNIK:srecanje:14664
X-WR-TIMEZONE:Europe/Ljubljana
END:VEVENT
BEGIN:VEVENT
SUMMARY:Opazovalne metode v astrofiziki (FIZ-M1\, FIZ-M2)\, Predavanja (P)
DTSTART;TZID=Europe/Ljubljana:20241203T140000
DTEND;TZID=Europe/Ljubljana:20241203T170000
DTSTAMP:20260422T182036Z
UID:fmf-AFLABS-URNIK:premaknjeno-srecanje:194116
ATTENDEE:1. letnik (Fizika, 2. stopnja)
ATTENDEE:2. letnik (Fizika, 2. stopnja)
CATEGORIES:Entry,Standard
COLOR:darkgreen
DESCRIPTION:Predmet: Opazovalne metode v astrofiziki (FIZ-M1\, FIZ-M2)\, P
 redavanja (P)\nLetniki: 1. letnik (Fizika\, 2. stopnja)\, 2. letnik (Fizik
 a\, 2. stopnja)\nIzvajalci: Janez Kos\nProstor: 3.04
LOCATION:3.04
ORGANIZER:Janez Kos
RELATED-TO:fmf-AFLABS-URNIK:srecanje:14664
X-WR-TIMEZONE:Europe/Ljubljana
END:VEVENT
BEGIN:VEVENT
SUMMARY:Opazovalne metode v astrofiziki (FIZ-M1\, FIZ-M2)\, Predavanja (P)
DTSTART;TZID=Europe/Ljubljana:20241210T140000
DTEND;TZID=Europe/Ljubljana:20241210T170000
DTSTAMP:20260422T182036Z
UID:fmf-AFLABS-URNIK:premaknjeno-srecanje:194117
ATTENDEE:1. letnik (Fizika, 2. stopnja)
ATTENDEE:2. letnik (Fizika, 2. stopnja)
CATEGORIES:Entry,Standard
COLOR:darkgreen
DESCRIPTION:Predmet: Opazovalne metode v astrofiziki (FIZ-M1\, FIZ-M2)\, P
 redavanja (P)\nLetniki: 1. letnik (Fizika\, 2. stopnja)\, 2. letnik (Fizik
 a\, 2. stopnja)\nIzvajalci: Janez Kos\nProstor: 3.04
LOCATION:3.04
ORGANIZER:Janez Kos
RELATED-TO:fmf-AFLABS-URNIK:srecanje:14664
X-WR-TIMEZONE:Europe/Ljubljana
END:VEVENT
BEGIN:VEVENT
SUMMARY:Opazovalne metode v astrofiziki (FIZ-M1\, FIZ-M2)\, Predavanja (P)
DTSTART;TZID=Europe/Ljubljana:20241217T140000
DTEND;TZID=Europe/Ljubljana:20241217T170000
DTSTAMP:20260422T182036Z
UID:fmf-AFLABS-URNIK:premaknjeno-srecanje:194118
ATTENDEE:1. letnik (Fizika, 2. stopnja)
ATTENDEE:2. letnik (Fizika, 2. stopnja)
CATEGORIES:Entry,Standard
COLOR:darkgreen
DESCRIPTION:Predmet: Opazovalne metode v astrofiziki (FIZ-M1\, FIZ-M2)\, P
 redavanja (P)\nLetniki: 1. letnik (Fizika\, 2. stopnja)\, 2. letnik (Fizik
 a\, 2. stopnja)\nIzvajalci: Janez Kos\nProstor: 3.04
LOCATION:3.04
ORGANIZER:Janez Kos
RELATED-TO:fmf-AFLABS-URNIK:srecanje:14664
X-WR-TIMEZONE:Europe/Ljubljana
END:VEVENT
BEGIN:VEVENT
SUMMARY:Opazovalne metode v astrofiziki (FIZ-M1\, FIZ-M2)\, Predavanja (P)
DTSTART;TZID=Europe/Ljubljana:20241224T140000
DTEND;TZID=Europe/Ljubljana:20241224T170000
DTSTAMP:20260422T182036Z
UID:fmf-AFLABS-URNIK:premaknjeno-srecanje:194119
ATTENDEE:1. letnik (Fizika, 2. stopnja)
ATTENDEE:2. letnik (Fizika, 2. stopnja)
CATEGORIES:Entry,Standard
COLOR:darkgreen
DESCRIPTION:Predmet: Opazovalne metode v astrofiziki (FIZ-M1\, FIZ-M2)\, P
 redavanja (P)\nLetniki: 1. letnik (Fizika\, 2. stopnja)\, 2. letnik (Fizik
 a\, 2. stopnja)\nIzvajalci: Janez Kos\nProstor: 3.04
LOCATION:3.04
ORGANIZER:Janez Kos
RELATED-TO:fmf-AFLABS-URNIK:srecanje:14664
X-WR-TIMEZONE:Europe/Ljubljana
END:VEVENT
BEGIN:VEVENT
SUMMARY:Opazovalne metode v astrofiziki (FIZ-M1\, FIZ-M2)\, Predavanja (P)
DTSTART;TZID=Europe/Ljubljana:20241231T140000
DTEND;TZID=Europe/Ljubljana:20241231T170000
DTSTAMP:20260422T182036Z
UID:fmf-AFLABS-URNIK:premaknjeno-srecanje:194120
ATTENDEE:1. letnik (Fizika, 2. stopnja)
ATTENDEE:2. letnik (Fizika, 2. stopnja)
CATEGORIES:Entry,Standard
COLOR:darkgreen
DESCRIPTION:Predmet: Opazovalne metode v astrofiziki (FIZ-M1\, FIZ-M2)\, P
 redavanja (P)\nLetniki: 1. letnik (Fizika\, 2. stopnja)\, 2. letnik (Fizik
 a\, 2. stopnja)\nIzvajalci: Janez Kos\nProstor: 3.04
LOCATION:3.04
ORGANIZER:Janez Kos
RELATED-TO:fmf-AFLABS-URNIK:srecanje:14664
X-WR-TIMEZONE:Europe/Ljubljana
END:VEVENT
BEGIN:VEVENT
SUMMARY:Opazovalne metode v astrofiziki (FIZ-M1\, FIZ-M2)\, Predavanja (P)
DTSTART;TZID=Europe/Ljubljana:20250107T140000
DTEND;TZID=Europe/Ljubljana:20250107T170000
DTSTAMP:20260422T182036Z
UID:fmf-AFLABS-URNIK:premaknjeno-srecanje:194121
ATTENDEE:1. letnik (Fizika, 2. stopnja)
ATTENDEE:2. letnik (Fizika, 2. stopnja)
CATEGORIES:Entry,Standard
COLOR:darkgreen
DESCRIPTION:Predmet: Opazovalne metode v astrofiziki (FIZ-M1\, FIZ-M2)\, P
 redavanja (P)\nLetniki: 1. letnik (Fizika\, 2. stopnja)\, 2. letnik (Fizik
 a\, 2. stopnja)\nIzvajalci: Janez Kos\nProstor: 3.04
LOCATION:3.04
ORGANIZER:Janez Kos
RELATED-TO:fmf-AFLABS-URNIK:srecanje:14664
X-WR-TIMEZONE:Europe/Ljubljana
END:VEVENT
BEGIN:VEVENT
SUMMARY:Opazovalne metode v astrofiziki (FIZ-M1\, FIZ-M2)\, Predavanja (P)
DTSTART;TZID=Europe/Ljubljana:20250114T140000
DTEND;TZID=Europe/Ljubljana:20250114T170000
DTSTAMP:20260422T182036Z
UID:fmf-AFLABS-URNIK:premaknjeno-srecanje:194122
ATTENDEE:1. letnik (Fizika, 2. stopnja)
ATTENDEE:2. letnik (Fizika, 2. stopnja)
CATEGORIES:Entry,Standard
COLOR:darkgreen
DESCRIPTION:Predmet: Opazovalne metode v astrofiziki (FIZ-M1\, FIZ-M2)\, P
 redavanja (P)\nLetniki: 1. letnik (Fizika\, 2. stopnja)\, 2. letnik (Fizik
 a\, 2. stopnja)\nIzvajalci: Janez Kos\nProstor: 3.04
LOCATION:3.04
ORGANIZER:Janez Kos
RELATED-TO:fmf-AFLABS-URNIK:srecanje:14664
X-WR-TIMEZONE:Europe/Ljubljana
END:VEVENT
BEGIN:VEVENT
SUMMARY:Opazovalne metode v astrofiziki (FIZ-M1\, FIZ-M2)\, Vaje (V)
DTSTART;TZID=Europe/Ljubljana:20241007T100000
DTEND;TZID=Europe/Ljubljana:20241007T120000
DTSTAMP:20260422T182036Z
UID:fmf-AFLABS-URNIK:premaknjeno-srecanje:183292
ATTENDEE:1. letnik (Fizika, 2. stopnja)
ATTENDEE:2. letnik (Fizika, 2. stopnja)
CATEGORIES:Entry,Standard
COLOR:darkgreen
DESCRIPTION:Predmet: Opazovalne metode v astrofiziki (FIZ-M1\, FIZ-M2)\, V
 aje (V)\nLetniki: 1. letnik (Fizika\, 2. stopnja)\, 2. letnik (Fizika\, 2.
  stopnja)\nIzvajalci: Janez Kos\nProstor: F3
LOCATION:F3
ORGANIZER:Janez Kos
RELATED-TO:fmf-AFLABS-URNIK:srecanje:13939
X-WR-TIMEZONE:Europe/Ljubljana
END:VEVENT
BEGIN:VEVENT
SUMMARY:Opazovalne metode v astrofiziki (FIZ-M1\, FIZ-M2)\, Vaje (V)
DTSTART;TZID=Europe/Ljubljana:20241014T100000
DTEND;TZID=Europe/Ljubljana:20241014T120000
DTSTAMP:20260422T182036Z
UID:fmf-AFLABS-URNIK:premaknjeno-srecanje:183293
ATTENDEE:1. letnik (Fizika, 2. stopnja)
ATTENDEE:2. letnik (Fizika, 2. stopnja)
CATEGORIES:Entry,Standard
COLOR:darkgreen
DESCRIPTION:Predmet: Opazovalne metode v astrofiziki (FIZ-M1\, FIZ-M2)\, V
 aje (V)\nLetniki: 1. letnik (Fizika\, 2. stopnja)\, 2. letnik (Fizika\, 2.
  stopnja)\nIzvajalci: Janez Kos\nProstor: F3
LOCATION:F3
ORGANIZER:Janez Kos
RELATED-TO:fmf-AFLABS-URNIK:srecanje:13939
X-WR-TIMEZONE:Europe/Ljubljana
END:VEVENT
BEGIN:VEVENT
SUMMARY:Opazovalne metode v astrofiziki (FIZ-M1\, FIZ-M2)\, Vaje (V)
DTSTART;TZID=Europe/Ljubljana:20241021T100000
DTEND;TZID=Europe/Ljubljana:20241021T120000
DTSTAMP:20260422T182036Z
UID:fmf-AFLABS-URNIK:premaknjeno-srecanje:183294
ATTENDEE:1. letnik (Fizika, 2. stopnja)
ATTENDEE:2. letnik (Fizika, 2. stopnja)
CATEGORIES:Entry,Standard
COLOR:darkgreen
DESCRIPTION:Predmet: Opazovalne metode v astrofiziki (FIZ-M1\, FIZ-M2)\, V
 aje (V)\nLetniki: 1. letnik (Fizika\, 2. stopnja)\, 2. letnik (Fizika\, 2.
  stopnja)\nIzvajalci: Janez Kos\nProstor: F3
LOCATION:F3
ORGANIZER:Janez Kos
RELATED-TO:fmf-AFLABS-URNIK:srecanje:13939
X-WR-TIMEZONE:Europe/Ljubljana
END:VEVENT
BEGIN:VEVENT
SUMMARY:Opazovalne metode v astrofiziki (FIZ-M1\, FIZ-M2)\, Vaje (V)
DTSTART;TZID=Europe/Ljubljana:20241028T100000
DTEND;TZID=Europe/Ljubljana:20241028T120000
DTSTAMP:20260422T182036Z
UID:fmf-AFLABS-URNIK:premaknjeno-srecanje:183295
ATTENDEE:1. letnik (Fizika, 2. stopnja)
ATTENDEE:2. letnik (Fizika, 2. stopnja)
CATEGORIES:Entry,Standard
COLOR:darkgreen
DESCRIPTION:Predmet: Opazovalne metode v astrofiziki (FIZ-M1\, FIZ-M2)\, V
 aje (V)\nLetniki: 1. letnik (Fizika\, 2. stopnja)\, 2. letnik (Fizika\, 2.
  stopnja)\nIzvajalci: Janez Kos\nProstor: F3
LOCATION:F3
ORGANIZER:Janez Kos
RELATED-TO:fmf-AFLABS-URNIK:srecanje:13939
X-WR-TIMEZONE:Europe/Ljubljana
END:VEVENT
BEGIN:VEVENT
SUMMARY:Opazovalne metode v astrofiziki (FIZ-M1\, FIZ-M2)\, Vaje (V)
DTSTART;TZID=Europe/Ljubljana:20241104T100000
DTEND;TZID=Europe/Ljubljana:20241104T120000
DTSTAMP:20260422T182036Z
UID:fmf-AFLABS-URNIK:premaknjeno-srecanje:183296
ATTENDEE:1. letnik (Fizika, 2. stopnja)
ATTENDEE:2. letnik (Fizika, 2. stopnja)
CATEGORIES:Entry,Standard
COLOR:darkgreen
DESCRIPTION:Predmet: Opazovalne metode v astrofiziki (FIZ-M1\, FIZ-M2)\, V
 aje (V)\nLetniki: 1. letnik (Fizika\, 2. stopnja)\, 2. letnik (Fizika\, 2.
  stopnja)\nIzvajalci: Janez Kos\nProstor: F3
LOCATION:F3
ORGANIZER:Janez Kos
RELATED-TO:fmf-AFLABS-URNIK:srecanje:13939
X-WR-TIMEZONE:Europe/Ljubljana
END:VEVENT
BEGIN:VEVENT
SUMMARY:Opazovalne metode v astrofiziki (FIZ-M1\, FIZ-M2)\, Vaje (V)
DTSTART;TZID=Europe/Ljubljana:20241111T100000
DTEND;TZID=Europe/Ljubljana:20241111T120000
DTSTAMP:20260422T182036Z
UID:fmf-AFLABS-URNIK:premaknjeno-srecanje:183297
ATTENDEE:1. letnik (Fizika, 2. stopnja)
ATTENDEE:2. letnik (Fizika, 2. stopnja)
CATEGORIES:Entry,Standard
COLOR:darkgreen
DESCRIPTION:Predmet: Opazovalne metode v astrofiziki (FIZ-M1\, FIZ-M2)\, V
 aje (V)\nLetniki: 1. letnik (Fizika\, 2. stopnja)\, 2. letnik (Fizika\, 2.
  stopnja)\nIzvajalci: Janez Kos\nProstor: F3
LOCATION:F3
ORGANIZER:Janez Kos
RELATED-TO:fmf-AFLABS-URNIK:srecanje:13939
X-WR-TIMEZONE:Europe/Ljubljana
END:VEVENT
BEGIN:VEVENT
SUMMARY:Opazovalne metode v astrofiziki (FIZ-M1\, FIZ-M2)\, Vaje (V)
DTSTART;TZID=Europe/Ljubljana:20241118T100000
DTEND;TZID=Europe/Ljubljana:20241118T120000
DTSTAMP:20260422T182036Z
UID:fmf-AFLABS-URNIK:premaknjeno-srecanje:183298
ATTENDEE:1. letnik (Fizika, 2. stopnja)
ATTENDEE:2. letnik (Fizika, 2. stopnja)
CATEGORIES:Entry,Standard
COLOR:darkgreen
DESCRIPTION:Predmet: Opazovalne metode v astrofiziki (FIZ-M1\, FIZ-M2)\, V
 aje (V)\nLetniki: 1. letnik (Fizika\, 2. stopnja)\, 2. letnik (Fizika\, 2.
  stopnja)\nIzvajalci: Janez Kos\nProstor: F3
LOCATION:F3
ORGANIZER:Janez Kos
RELATED-TO:fmf-AFLABS-URNIK:srecanje:13939
X-WR-TIMEZONE:Europe/Ljubljana
END:VEVENT
BEGIN:VEVENT
SUMMARY:Opazovalne metode v astrofiziki (FIZ-M1\, FIZ-M2)\, Vaje (V)
DTSTART;TZID=Europe/Ljubljana:20241125T100000
DTEND;TZID=Europe/Ljubljana:20241125T120000
DTSTAMP:20260422T182036Z
UID:fmf-AFLABS-URNIK:premaknjeno-srecanje:183299
ATTENDEE:1. letnik (Fizika, 2. stopnja)
ATTENDEE:2. letnik (Fizika, 2. stopnja)
CATEGORIES:Entry,Standard
COLOR:darkgreen
DESCRIPTION:Predmet: Opazovalne metode v astrofiziki (FIZ-M1\, FIZ-M2)\, V
 aje (V)\nLetniki: 1. letnik (Fizika\, 2. stopnja)\, 2. letnik (Fizika\, 2.
  stopnja)\nIzvajalci: Janez Kos\nProstor: F3
LOCATION:F3
ORGANIZER:Janez Kos
RELATED-TO:fmf-AFLABS-URNIK:srecanje:13939
X-WR-TIMEZONE:Europe/Ljubljana
END:VEVENT
BEGIN:VEVENT
SUMMARY:Opazovalne metode v astrofiziki (FIZ-M1\, FIZ-M2)\, Vaje (V)
DTSTART;TZID=Europe/Ljubljana:20241202T100000
DTEND;TZID=Europe/Ljubljana:20241202T120000
DTSTAMP:20260422T182036Z
UID:fmf-AFLABS-URNIK:premaknjeno-srecanje:183300
ATTENDEE:1. letnik (Fizika, 2. stopnja)
ATTENDEE:2. letnik (Fizika, 2. stopnja)
CATEGORIES:Entry,Standard
COLOR:darkgreen
DESCRIPTION:Predmet: Opazovalne metode v astrofiziki (FIZ-M1\, FIZ-M2)\, V
 aje (V)\nLetniki: 1. letnik (Fizika\, 2. stopnja)\, 2. letnik (Fizika\, 2.
  stopnja)\nIzvajalci: Janez Kos\nProstor: F3
LOCATION:F3
ORGANIZER:Janez Kos
RELATED-TO:fmf-AFLABS-URNIK:srecanje:13939
X-WR-TIMEZONE:Europe/Ljubljana
END:VEVENT
BEGIN:VEVENT
SUMMARY:Opazovalne metode v astrofiziki (FIZ-M1\, FIZ-M2)\, Vaje (V)
DTSTART;TZID=Europe/Ljubljana:20241209T100000
DTEND;TZID=Europe/Ljubljana:20241209T120000
DTSTAMP:20260422T182036Z
UID:fmf-AFLABS-URNIK:premaknjeno-srecanje:183301
ATTENDEE:1. letnik (Fizika, 2. stopnja)
ATTENDEE:2. letnik (Fizika, 2. stopnja)
CATEGORIES:Entry,Standard
COLOR:darkgreen
DESCRIPTION:Predmet: Opazovalne metode v astrofiziki (FIZ-M1\, FIZ-M2)\, V
 aje (V)\nLetniki: 1. letnik (Fizika\, 2. stopnja)\, 2. letnik (Fizika\, 2.
  stopnja)\nIzvajalci: Janez Kos\nProstor: F3
LOCATION:F3
ORGANIZER:Janez Kos
RELATED-TO:fmf-AFLABS-URNIK:srecanje:13939
X-WR-TIMEZONE:Europe/Ljubljana
END:VEVENT
BEGIN:VEVENT
SUMMARY:Opazovalne metode v astrofiziki (FIZ-M1\, FIZ-M2)\, Vaje (V)
DTSTART;TZID=Europe/Ljubljana:20241216T100000
DTEND;TZID=Europe/Ljubljana:20241216T120000
DTSTAMP:20260422T182036Z
UID:fmf-AFLABS-URNIK:premaknjeno-srecanje:183302
ATTENDEE:1. letnik (Fizika, 2. stopnja)
ATTENDEE:2. letnik (Fizika, 2. stopnja)
CATEGORIES:Entry,Standard
COLOR:darkgreen
DESCRIPTION:Predmet: Opazovalne metode v astrofiziki (FIZ-M1\, FIZ-M2)\, V
 aje (V)\nLetniki: 1. letnik (Fizika\, 2. stopnja)\, 2. letnik (Fizika\, 2.
  stopnja)\nIzvajalci: Janez Kos\nProstor: F3
LOCATION:F3
ORGANIZER:Janez Kos
RELATED-TO:fmf-AFLABS-URNIK:srecanje:13939
X-WR-TIMEZONE:Europe/Ljubljana
END:VEVENT
BEGIN:VEVENT
SUMMARY:Opazovalne metode v astrofiziki (FIZ-M1\, FIZ-M2)\, Vaje (V)
DTSTART;TZID=Europe/Ljubljana:20241223T100000
DTEND;TZID=Europe/Ljubljana:20241223T120000
DTSTAMP:20260422T182036Z
UID:fmf-AFLABS-URNIK:premaknjeno-srecanje:183303
ATTENDEE:1. letnik (Fizika, 2. stopnja)
ATTENDEE:2. letnik (Fizika, 2. stopnja)
CATEGORIES:Entry,Standard
COLOR:darkgreen
DESCRIPTION:Predmet: Opazovalne metode v astrofiziki (FIZ-M1\, FIZ-M2)\, V
 aje (V)\nLetniki: 1. letnik (Fizika\, 2. stopnja)\, 2. letnik (Fizika\, 2.
  stopnja)\nIzvajalci: Janez Kos\nProstor: F3
LOCATION:F3
ORGANIZER:Janez Kos
RELATED-TO:fmf-AFLABS-URNIK:srecanje:13939
X-WR-TIMEZONE:Europe/Ljubljana
END:VEVENT
BEGIN:VEVENT
SUMMARY:Opazovalne metode v astrofiziki (FIZ-M1\, FIZ-M2)\, Vaje (V)
DTSTART;TZID=Europe/Ljubljana:20241230T100000
DTEND;TZID=Europe/Ljubljana:20241230T120000
DTSTAMP:20260422T182036Z
UID:fmf-AFLABS-URNIK:premaknjeno-srecanje:183304
ATTENDEE:1. letnik (Fizika, 2. stopnja)
ATTENDEE:2. letnik (Fizika, 2. stopnja)
CATEGORIES:Entry,Standard
COLOR:darkgreen
DESCRIPTION:Predmet: Opazovalne metode v astrofiziki (FIZ-M1\, FIZ-M2)\, V
 aje (V)\nLetniki: 1. letnik (Fizika\, 2. stopnja)\, 2. letnik (Fizika\, 2.
  stopnja)\nIzvajalci: Janez Kos\nProstor: F3
LOCATION:F3
ORGANIZER:Janez Kos
RELATED-TO:fmf-AFLABS-URNIK:srecanje:13939
X-WR-TIMEZONE:Europe/Ljubljana
END:VEVENT
BEGIN:VEVENT
SUMMARY:Opazovalne metode v astrofiziki (FIZ-M1\, FIZ-M2)\, Vaje (V)
DTSTART;TZID=Europe/Ljubljana:20250106T100000
DTEND;TZID=Europe/Ljubljana:20250106T120000
DTSTAMP:20260422T182036Z
UID:fmf-AFLABS-URNIK:premaknjeno-srecanje:183305
ATTENDEE:1. letnik (Fizika, 2. stopnja)
ATTENDEE:2. letnik (Fizika, 2. stopnja)
CATEGORIES:Entry,Standard
COLOR:darkgreen
DESCRIPTION:Predmet: Opazovalne metode v astrofiziki (FIZ-M1\, FIZ-M2)\, V
 aje (V)\nLetniki: 1. letnik (Fizika\, 2. stopnja)\, 2. letnik (Fizika\, 2.
  stopnja)\nIzvajalci: Janez Kos\nProstor: F3
LOCATION:F3
ORGANIZER:Janez Kos
RELATED-TO:fmf-AFLABS-URNIK:srecanje:13939
X-WR-TIMEZONE:Europe/Ljubljana
END:VEVENT
BEGIN:VEVENT
SUMMARY:Opazovalne metode v astrofiziki (FIZ-M1\, FIZ-M2)\, Vaje (V)
DTSTART;TZID=Europe/Ljubljana:20250113T100000
DTEND;TZID=Europe/Ljubljana:20250113T120000
DTSTAMP:20260422T182036Z
UID:fmf-AFLABS-URNIK:premaknjeno-srecanje:183306
ATTENDEE:1. letnik (Fizika, 2. stopnja)
ATTENDEE:2. letnik (Fizika, 2. stopnja)
CATEGORIES:Entry,Standard
COLOR:darkgreen
DESCRIPTION:Predmet: Opazovalne metode v astrofiziki (FIZ-M1\, FIZ-M2)\, V
 aje (V)\nLetniki: 1. letnik (Fizika\, 2. stopnja)\, 2. letnik (Fizika\, 2.
  stopnja)\nIzvajalci: Janez Kos\nProstor: F3
LOCATION:F3
ORGANIZER:Janez Kos
RELATED-TO:fmf-AFLABS-URNIK:srecanje:13939
X-WR-TIMEZONE:Europe/Ljubljana
END:VEVENT
BEGIN:VEVENT
SUMMARY:Opazovalne metode v astrofiziki (FIZ-M1\, FIZ-M2)\, Vaje (V)
DTSTART;TZID=Europe/Ljubljana:20250120T100000
DTEND;TZID=Europe/Ljubljana:20250120T120000
DTSTAMP:20260422T182036Z
UID:fmf-AFLABS-URNIK:premaknjeno-srecanje:187022
ATTENDEE:1. letnik (Fizika, 2. stopnja)
ATTENDEE:2. letnik (Fizika, 2. stopnja)
CATEGORIES:Entry,Standard
COLOR:darkgreen
DESCRIPTION:Predmet: Opazovalne metode v astrofiziki (FIZ-M1\, FIZ-M2)\, V
 aje (V)\nLetniki: 1. letnik (Fizika\, 2. stopnja)\, 2. letnik (Fizika\, 2.
  stopnja)\nIzvajalci: Janez Kos\nProstor: F3
LOCATION:F3
ORGANIZER:Janez Kos
RELATED-TO:fmf-AFLABS-URNIK:srecanje:13939
X-WR-TIMEZONE:Europe/Ljubljana
END:VEVENT
BEGIN:VEVENT
SUMMARY:Opazovalne metode v astrofiziki (FIZ-M1\, FIZ-M2)\, Predavanja (P)
DTSTART;TZID=Europe/Ljubljana:20241119T140000
DTEND;TZID=Europe/Ljubljana:20241119T170000
DTSTAMP:20260422T182036Z
UID:fmf-AFLABS-URNIK:premaknjeno-srecanje:194114
ATTENDEE:1. letnik (Fizika, 2. stopnja)
ATTENDEE:2. letnik (Fizika, 2. stopnja)
CATEGORIES:Entry,Standard
COLOR:darkgreen
DESCRIPTION:Predmet: Opazovalne metode v astrofiziki (FIZ-M1\, FIZ-M2)\, P
 redavanja (P)\nLetniki: 1. letnik (Fizika\, 2. stopnja)\, 2. letnik (Fizik
 a\, 2. stopnja)\nIzvajalci: Janez Kos\nProstor: 3.06
LOCATION:3.06
ORGANIZER:Janez Kos
RELATED-TO:fmf-AFLABS-URNIK:srecanje:14668
X-WR-TIMEZONE:Europe/Ljubljana
END:VEVENT
BEGIN:VEVENT
SUMMARY:Vaje iz Astronomije 1
DTSTART;TZID=Europe/Ljubljana:20241127T120000
DTEND;TZID=Europe/Ljubljana:20241127T140000
DTSTAMP:20260422T182036Z
UID:fmf-AFLABS-URNIK:rezervacija:19842
ATTENDEE:2. letnik (Fizika, 1. stopnja)
CATEGORIES:Reservation
COLOR:royalblue
DESCRIPTION:Predmeti: Astronomija I (FIZ-2)\nLetniki: 2. letnik (Fizika\, 
 1. stopnja)\nIzvajalci: Janez Kos\nProstori: Triglav
LOCATION:Triglav
ORGANIZER:Janez Kos
X-WR-TIMEZONE:Europe/Ljubljana
END:VEVENT
BEGIN:VEVENT
SUMMARY:Astrodebata
DTSTART;TZID=Europe/Ljubljana:20241219T100000
DTEND;TZID=Europe/Ljubljana:20241219T110000
DTSTAMP:20260422T182036Z
UID:fmf-AFLABS-URNIK:rezervacija:20049
CATEGORIES:Reservation
COLOR:royalblue
DESCRIPTION:Predmeti: \nLetniki: \nIzvajalci: Janez Kos\nProstori: F3
LOCATION:F3
ORGANIZER:Janez Kos
X-WR-TIMEZONE:Europe/Ljubljana
END:VEVENT
BEGIN:VEVENT
SUMMARY:Sestanek nabavne službe in raziskovalcev za pogovor o pripravi JN
  za laboratorijsko opremo
DTSTART;TZID=Europe/Ljubljana:20250110T090000
DTEND;TZID=Europe/Ljubljana:20250110T110000
DTSTAMP:20260422T182036Z
UID:fmf-AFLABS-URNIK:rezervacija:20294
ATTENDEE:doktorski študij (M)
CATEGORIES:Reservation
COLOR:royalblue
DESCRIPTION:Predmeti:  (MAT-D)\nLetniki: doktorski študij (M)\nIzvajalci:
  Urška Hribar\, Rainer Kaltenbaek\, Janez Kos\, Peter Košir\, Martina Le
 bar\, Matija Milanič\, Natan Osterman\, Urban Simončič\nProstori: 1.02
LOCATION:1.02
ORGANIZER:Urška Hribar, Rainer Kaltenbaek, Janez Kos, Peter Košir, Marti
 na Lebar, Matija Milanič, Natan Osterman, Urban Simončič
X-WR-TIMEZONE:Europe/Ljubljana
END:VEVENT
END:VCALENDAR
