BEGIN:VCALENDAR
VERSION:2.0
PRODID:-//AFLabs urnik izvoz - fmf//aflabs.si//SI
DTSTAMP:20260425T024937Z
NAME:UL FMF urnik
REFRESH-INTERVAL:PT1H
SOURCE:https://urnik.fmf.uni-lj.si/en/teacher/33?day=2025-07-07&export=1
URL:https://urnik.fmf.uni-lj.si/en/teacher/33?day=2025-07-07&export=1
X-PUBLISHED-TTL:PT1H
X-WR-CALNAME:UL FMF urnik
X-WR-TIMEZONE:Europe/Ljubljana
BEGIN:VTIMEZONE
TZID:Europe/Ljubljana
BEGIN:DAYLIGHT
DTSTART:20260329T020000
RDATE:20260329T020000
RDATE:20270328T020000
TZNAME:CEST
TZOFFSETFROM:+0100
TZOFFSETTO:+0200
END:DAYLIGHT
BEGIN:STANDARD
DTSTART:20261025T030000
RDATE:20261025T030000
RDATE:20271031T030000
TZNAME:CET
TZOFFSETFROM:+0200
TZOFFSETTO:+0100
END:STANDARD
END:VTIMEZONE
BEGIN:VEVENT
SUMMARY:Zagovor doktorske disertacije - Goričan (ob 11.00)
DTSTART;TZID=Europe/Ljubljana:20250924T100000
DTEND;TZID=Europe/Ljubljana:20250924T130000
DTSTAMP:20260425T024937Z
UID:fmf-AFLABS-URNIK:rezervacija:24227
CATEGORIES:Reservation
COLOR:royalblue
DESCRIPTION:Predmeti: \nLetniki: \nIzvajalci: Petar Pavešić\nProstori: 3
 .07
LOCATION:3.07
ORGANIZER:Petar Pavešić
X-WR-TIMEZONE:Europe/Ljubljana
END:VEVENT
BEGIN:VEVENT
SUMMARY:Predstavitev rezultatov raziskovalnega dela (Goričan)
DTSTART;TZID=Europe/Ljubljana:20250701T120000
DTEND;TZID=Europe/Ljubljana:20250701T150000
DTSTAMP:20260425T024937Z
UID:fmf-AFLABS-URNIK:rezervacija:23132
CATEGORIES:Reservation
COLOR:royalblue
DESCRIPTION:Predmeti: \nLetniki: \nIzvajalci: Petar Pavešić\nProstori: 3
 .05
LOCATION:3.05
ORGANIZER:Petar Pavešić
X-WR-TIMEZONE:Europe/Ljubljana
END:VEVENT
END:VCALENDAR
