BEGIN:VCALENDAR
VERSION:2.0
PRODID:-//AFLabs urnik izvoz - fmf//aflabs.si//SI
DTSTAMP:20260425T182027Z
NAME:UL FMF urnik
REFRESH-INTERVAL:PT1H
SOURCE:https://urnik.fmf.uni-lj.si/en/teacher/35?day=2025-08-04&export=1
URL:https://urnik.fmf.uni-lj.si/en/teacher/35?day=2025-08-04&export=1
X-PUBLISHED-TTL:PT1H
X-WR-CALNAME:UL FMF urnik
X-WR-TIMEZONE:Europe/Ljubljana
BEGIN:VTIMEZONE
TZID:Europe/Ljubljana
BEGIN:DAYLIGHT
DTSTART:20260329T020000
RDATE:20260329T020000
RDATE:20270328T020000
TZNAME:CEST
TZOFFSETFROM:+0100
TZOFFSETTO:+0200
END:DAYLIGHT
BEGIN:STANDARD
DTSTART:20261025T030000
RDATE:20261025T030000
RDATE:20271031T030000
TZNAME:CET
TZOFFSETFROM:+0200
TZOFFSETTO:+0100
END:STANDARD
END:VTIMEZONE
BEGIN:VEVENT
SUMMARY:1. ustni zagovori Ana 2b
DTSTART;TZID=Europe/Ljubljana:20250630T070000
DTEND;TZID=Europe/Ljubljana:20250630T160000
DTSTAMP:20260425T182027Z
UID:fmf-AFLABS-URNIK:rezervacija:18898
ATTENDEE:2. letnik (M)
ATTENDEE:2. letnik (PM)
CATEGORIES:Reservation
COLOR:royalblue
DESCRIPTION:Predmeti: Analiza 2b (MAT-2\, PM-2)\nLetniki: 2. letnik (M)\, 
 2. letnik (PM)\nIzvajalci: Miran Černe\nProstori: 3.05
LOCATION:3.05
ORGANIZER:Miran Černe
X-WR-TIMEZONE:Europe/Ljubljana
END:VEVENT
BEGIN:VEVENT
SUMMARY:3. izpit iz teorije Ana 2a
DTSTART;TZID=Europe/Ljubljana:20250902T080000
DTEND;TZID=Europe/Ljubljana:20250902T100000
DTSTAMP:20260425T182027Z
UID:fmf-AFLABS-URNIK:rezervacija:18922
ATTENDEE:2. letnik (M)
ATTENDEE:2. letnik (PM)
CATEGORIES:Reservation
COLOR:royalblue
DESCRIPTION:Predmeti: Analiza 2a (MAT-2\, PM-2)\nLetniki: 2. letnik (M)\, 
 2. letnik (PM)\nIzvajalci: Miran Černe\nProstori: 2.05
LOCATION:2.05
ORGANIZER:Miran Černe
X-WR-TIMEZONE:Europe/Ljubljana
END:VEVENT
BEGIN:VEVENT
SUMMARY:2. ustni zagovori Ana 2a
DTSTART;TZID=Europe/Ljubljana:20250613T070000
DTEND;TZID=Europe/Ljubljana:20250613T150000
DTSTAMP:20260425T182027Z
UID:fmf-AFLABS-URNIK:rezervacija:18894
ATTENDEE:2. letnik (M)
ATTENDEE:2. letnik (PM)
CATEGORIES:Reservation
COLOR:royalblue
DESCRIPTION:Predmeti: Analiza 2a (MAT-2\, PM-2)\nLetniki: 2. letnik (M)\, 
 2. letnik (PM)\nIzvajalci: Miran Černe\nProstori: 3.05
LOCATION:3.05
ORGANIZER:Miran Černe
X-WR-TIMEZONE:Europe/Ljubljana
END:VEVENT
BEGIN:VEVENT
SUMMARY:Izpit ANA3 FiMa
DTSTART;TZID=Europe/Ljubljana:20250617T080000
DTEND;TZID=Europe/Ljubljana:20250617T100000
DTSTAMP:20260425T182027Z
UID:fmf-AFLABS-URNIK:rezervacija:18917
ATTENDEE:2. letnik (FM)
CATEGORIES:Reservation
COLOR:royalblue
DESCRIPTION:Predmeti: Analiza 3 (FM-2)\nLetniki: 2. letnik (FM)\nIzvajalci
 : Miran Černe\, Boštjan Lemež\nProstori: 2.01
LOCATION:2.01
ORGANIZER:Miran Černe, Boštjan Lemež
X-WR-TIMEZONE:Europe/Ljubljana
END:VEVENT
BEGIN:VEVENT
SUMMARY:2. izpit iz teorije Ana2a
DTSTART;TZID=Europe/Ljubljana:20250611T080000
DTEND;TZID=Europe/Ljubljana:20250611T100000
DTSTAMP:20260425T182027Z
UID:fmf-AFLABS-URNIK:rezervacija:18893
ATTENDEE:2. letnik (M)
ATTENDEE:2. letnik (PM)
CATEGORIES:Reservation
COLOR:royalblue
DESCRIPTION:Predmeti: Analiza 2a (MAT-2\, PM-2)\nLetniki: 2. letnik (M)\, 
 2. letnik (PM)\nIzvajalci: Miran Černe\nProstori: 2.05
LOCATION:2.05
ORGANIZER:Miran Černe
X-WR-TIMEZONE:Europe/Ljubljana
END:VEVENT
BEGIN:VEVENT
SUMMARY:3. ustni zagovori Ana2b
DTSTART;TZID=Europe/Ljubljana:20250910T070000
DTEND;TZID=Europe/Ljubljana:20250910T150000
DTSTAMP:20260425T182027Z
UID:fmf-AFLABS-URNIK:rezervacija:18925
ATTENDEE:2. letnik (M)
ATTENDEE:2. letnik (PM)
CATEGORIES:Reservation
COLOR:royalblue
DESCRIPTION:Predmeti: Analiza 2b (MAT-2\, PM-2)\nLetniki: 2. letnik (M)\, 
 2. letnik (PM)\nIzvajalci: Miran Černe\nProstori: 3.05
LOCATION:3.05
ORGANIZER:Miran Černe
X-WR-TIMEZONE:Europe/Ljubljana
END:VEVENT
BEGIN:VEVENT
SUMMARY:2. ustni zagovori Ana3 (FiMa)
DTSTART;TZID=Europe/Ljubljana:20250627T070000
DTEND;TZID=Europe/Ljubljana:20250627T150000
DTSTAMP:20260425T182027Z
UID:fmf-AFLABS-URNIK:rezervacija:19381
ATTENDEE:2. letnik (FM)
CATEGORIES:Reservation
COLOR:royalblue
DESCRIPTION:Predmeti: Analiza 3 (FM-2)\nLetniki: 2. letnik (FM)\nIzvajalci
 : Miran Černe\nProstori: 3.05
LOCATION:3.05
ORGANIZER:Miran Černe
X-WR-TIMEZONE:Europe/Ljubljana
END:VEVENT
BEGIN:VEVENT
SUMMARY:3. ustni zagovori Ana 3
DTSTART;TZID=Europe/Ljubljana:20250912T080000
DTEND;TZID=Europe/Ljubljana:20250912T090000
DTSTAMP:20260425T182027Z
UID:fmf-AFLABS-URNIK:rezervacija:24088
ATTENDEE:2. letnik (IŠRM)
CATEGORIES:Reservation
COLOR:royalblue
DESCRIPTION:Predmeti: Analiza 3 (IŠRM-2)\nLetniki: 2. letnik (IŠRM)\nIzv
 ajalci: Miran Černe\nProstori: 3.05
LOCATION:3.05
ORGANIZER:Miran Černe
X-WR-TIMEZONE:Europe/Ljubljana
END:VEVENT
BEGIN:VEVENT
SUMMARY:2. ustni zagovori Ana2b
DTSTART;TZID=Europe/Ljubljana:20250828T070000
DTEND;TZID=Europe/Ljubljana:20250828T150000
DTSTAMP:20260425T182027Z
UID:fmf-AFLABS-URNIK:rezervacija:18920
ATTENDEE:2. letnik (M)
ATTENDEE:2. letnik (PM)
CATEGORIES:Reservation
COLOR:royalblue
DESCRIPTION:Predmeti: Analiza 2b (MAT-2\, PM-2)\nLetniki: 2. letnik (M)\, 
 2. letnik (PM)\nIzvajalci: Miran Černe\nProstori: 3.05
LOCATION:3.05
ORGANIZER:Miran Černe
X-WR-TIMEZONE:Europe/Ljubljana
END:VEVENT
BEGIN:VEVENT
SUMMARY:3. ustni zagovori Ana 2a
DTSTART;TZID=Europe/Ljubljana:20250904T070000
DTEND;TZID=Europe/Ljubljana:20250904T150000
DTSTAMP:20260425T182027Z
UID:fmf-AFLABS-URNIK:rezervacija:18923
ATTENDEE:2. letnik (M)
ATTENDEE:2. letnik (PM)
CATEGORIES:Reservation
COLOR:royalblue
DESCRIPTION:Predmeti: Analiza 2a (MAT-2\, PM-2)\nLetniki: 2. letnik (M)\, 
 2. letnik (PM)\nIzvajalci: Miran Černe\nProstori: 3.05
LOCATION:3.05
ORGANIZER:Miran Černe
X-WR-TIMEZONE:Europe/Ljubljana
END:VEVENT
BEGIN:VEVENT
SUMMARY:1. izpit iz teorije Ana 2b
DTSTART;TZID=Europe/Ljubljana:20250626T080000
DTEND;TZID=Europe/Ljubljana:20250626T100000
DTSTAMP:20260425T182027Z
UID:fmf-AFLABS-URNIK:rezervacija:18897
ATTENDEE:2. letnik (M)
ATTENDEE:2. letnik (PM)
CATEGORIES:Reservation
COLOR:royalblue
DESCRIPTION:Predmeti: Analiza 2b (MAT-2\, PM-2)\nLetniki: 2. letnik (M)\, 
 2. letnik (PM)\nIzvajalci: Miran Černe\nProstori: 2.05
LOCATION:2.05
ORGANIZER:Miran Černe
X-WR-TIMEZONE:Europe/Ljubljana
END:VEVENT
BEGIN:VEVENT
SUMMARY:2. izpit iz teorije Ana2b
DTSTART;TZID=Europe/Ljubljana:20250826T080000
DTEND;TZID=Europe/Ljubljana:20250826T100000
DTSTAMP:20260425T182027Z
UID:fmf-AFLABS-URNIK:rezervacija:18919
ATTENDEE:2. letnik (M)
ATTENDEE:2. letnik (PM)
CATEGORIES:Reservation
COLOR:royalblue
DESCRIPTION:Predmeti: Analiza 2b (MAT-2\, PM-2)\nLetniki: 2. letnik (M)\, 
 2. letnik (PM)\nIzvajalci: Miran Černe\nProstori: 2.05
LOCATION:2.05
ORGANIZER:Miran Černe
X-WR-TIMEZONE:Europe/Ljubljana
END:VEVENT
BEGIN:VEVENT
SUMMARY:3. ustni zagovori Ana 3 (FiMa)
DTSTART;TZID=Europe/Ljubljana:20250911T070000
DTEND;TZID=Europe/Ljubljana:20250911T150000
DTSTAMP:20260425T182027Z
UID:fmf-AFLABS-URNIK:rezervacija:18927
ATTENDEE:2. letnik (FM)
CATEGORIES:Reservation
COLOR:royalblue
DESCRIPTION:Predmeti: Analiza 3 (FM-2)\nLetniki: 2. letnik (FM)\nIzvajalci
 : Miran Černe\nProstori: 3.05
LOCATION:3.05
ORGANIZER:Miran Černe
X-WR-TIMEZONE:Europe/Ljubljana
END:VEVENT
BEGIN:VEVENT
SUMMARY:2. izpit iz teorije Ana3 (FiMa)
DTSTART;TZID=Europe/Ljubljana:20250626T100000
DTEND;TZID=Europe/Ljubljana:20250626T120000
DTSTAMP:20260425T182027Z
UID:fmf-AFLABS-URNIK:rezervacija:19379
ATTENDEE:2. letnik (FM)
CATEGORIES:Reservation
COLOR:royalblue
DESCRIPTION:Predmeti: Analiza 3 (FM-2)\nLetniki: 2. letnik (FM)\nIzvajalci
 : Miran Černe\nProstori: 2.01
LOCATION:2.01
ORGANIZER:Miran Černe
X-WR-TIMEZONE:Europe/Ljubljana
END:VEVENT
BEGIN:VEVENT
SUMMARY:Izpit ANA3 FiMa
DTSTART;TZID=Europe/Ljubljana:20250826T080000
DTEND;TZID=Europe/Ljubljana:20250826T100000
DTSTAMP:20260425T182027Z
UID:fmf-AFLABS-URNIK:rezervacija:18918
ATTENDEE:2. letnik (FM)
CATEGORIES:Reservation
COLOR:royalblue
DESCRIPTION:Predmeti: Analiza 3 (FM-2)\nLetniki: 2. letnik (FM)\nIzvajalci
 : Miran Černe\, Boštjan Lemež\nProstori: 2.01
LOCATION:2.01
ORGANIZER:Miran Černe, Boštjan Lemež
X-WR-TIMEZONE:Europe/Ljubljana
END:VEVENT
BEGIN:VEVENT
SUMMARY:3. izpit iz teorije Ana 3 (FiMa)
DTSTART;TZID=Europe/Ljubljana:20250909T080000
DTEND;TZID=Europe/Ljubljana:20250909T100000
DTSTAMP:20260425T182027Z
UID:fmf-AFLABS-URNIK:rezervacija:18926
ATTENDEE:2. letnik (FM)
CATEGORIES:Reservation
COLOR:royalblue
DESCRIPTION:Predmeti: Analiza 3 (FM-2)\nLetniki: 2. letnik (FM)\nIzvajalci
 : Miran Černe\nProstori: 2.05
LOCATION:2.05
ORGANIZER:Miran Černe
X-WR-TIMEZONE:Europe/Ljubljana
END:VEVENT
BEGIN:VEVENT
SUMMARY:3. izpit iz teorije Ana2b
DTSTART;TZID=Europe/Ljubljana:20250908T080000
DTEND;TZID=Europe/Ljubljana:20250908T100000
DTSTAMP:20260425T182027Z
UID:fmf-AFLABS-URNIK:rezervacija:18924
ATTENDEE:2. letnik (M)
ATTENDEE:2. letnik (PM)
CATEGORIES:Reservation
COLOR:royalblue
DESCRIPTION:Predmeti: Analiza 2b (MAT-2\, PM-2)\nLetniki: 2. letnik (M)\, 
 2. letnik (PM)\nIzvajalci: Miran Černe\nProstori: 2.05
LOCATION:2.05
ORGANIZER:Miran Černe
X-WR-TIMEZONE:Europe/Ljubljana
END:VEVENT
END:VCALENDAR
