BEGIN:VCALENDAR
VERSION:2.0
PRODID:-//AFLabs urnik izvoz - fmf//aflabs.si//SI
DTSTAMP:20260423T140600Z
NAME:UL FMF urnik
REFRESH-INTERVAL:PT1H
SOURCE:https://urnik.fmf.uni-lj.si/en/teacher/367?day=2025-04-14&export=1
URL:https://urnik.fmf.uni-lj.si/en/teacher/367?day=2025-04-14&export=1
X-PUBLISHED-TTL:PT1H
X-WR-CALNAME:UL FMF urnik
X-WR-TIMEZONE:Europe/Ljubljana
BEGIN:VTIMEZONE
TZID:Europe/Ljubljana
BEGIN:DAYLIGHT
DTSTART:20260329T020000
RDATE:20260329T020000
RDATE:20270328T020000
TZNAME:CEST
TZOFFSETFROM:+0100
TZOFFSETTO:+0200
END:DAYLIGHT
BEGIN:STANDARD
DTSTART:20261025T030000
RDATE:20261025T030000
RDATE:20271031T030000
TZNAME:CET
TZOFFSETFROM:+0200
TZOFFSETTO:+0100
END:STANDARD
END:VTIMEZONE
BEGIN:VEVENT
SUMMARY:Seminar SAFA (MAT-D)\, Seminar (S)
DTSTART;TZID=Europe/Ljubljana:20250220T120000
DTEND;TZID=Europe/Ljubljana:20250220T140000
DTSTAMP:20260423T140600Z
UID:fmf-AFLABS-URNIK:premaknjeno-srecanje:205768
ATTENDEE:doktorski študij (M)
CATEGORIES:Entry,Standard
COLOR:darkgreen
DESCRIPTION:Predmet: Seminar SAFA (MAT-D)\, Seminar (S)\nLetniki: doktorsk
 i študij (M)\nIzvajalci:  Drnovšek\, Moravec\nProstor: 2.04
LOCATION:2.04
ORGANIZER: Drnovšek, Moravec
RELATED-TO:fmf-AFLABS-URNIK:srecanje:15173
X-WR-TIMEZONE:Europe/Ljubljana
END:VEVENT
BEGIN:VEVENT
SUMMARY:Seminar SAFA (MAT-D)\, Seminar (S)
DTSTART;TZID=Europe/Ljubljana:20250227T120000
DTEND;TZID=Europe/Ljubljana:20250227T140000
DTSTAMP:20260423T140600Z
UID:fmf-AFLABS-URNIK:premaknjeno-srecanje:205769
ATTENDEE:doktorski študij (M)
CATEGORIES:Entry,Standard
COLOR:darkgreen
DESCRIPTION:Predmet: Seminar SAFA (MAT-D)\, Seminar (S)\nLetniki: doktorsk
 i študij (M)\nIzvajalci:  Drnovšek\, Moravec\nProstor: 2.04
LOCATION:2.04
ORGANIZER: Drnovšek, Moravec
RELATED-TO:fmf-AFLABS-URNIK:srecanje:15173
X-WR-TIMEZONE:Europe/Ljubljana
END:VEVENT
BEGIN:VEVENT
SUMMARY:Seminar SAFA (MAT-D)\, Seminar (S)
DTSTART;TZID=Europe/Ljubljana:20250306T120000
DTEND;TZID=Europe/Ljubljana:20250306T140000
DTSTAMP:20260423T140600Z
UID:fmf-AFLABS-URNIK:premaknjeno-srecanje:205770
ATTENDEE:doktorski študij (M)
CATEGORIES:Entry,Standard
COLOR:darkgreen
DESCRIPTION:Predmet: Seminar SAFA (MAT-D)\, Seminar (S)\nLetniki: doktorsk
 i študij (M)\nIzvajalci:  Drnovšek\, Moravec\nProstor: 2.04
LOCATION:2.04
ORGANIZER: Drnovšek, Moravec
RELATED-TO:fmf-AFLABS-URNIK:srecanje:15173
X-WR-TIMEZONE:Europe/Ljubljana
END:VEVENT
BEGIN:VEVENT
SUMMARY:Seminar SAFA (MAT-D)\, Seminar (S)
DTSTART;TZID=Europe/Ljubljana:20250313T120000
DTEND;TZID=Europe/Ljubljana:20250313T140000
DTSTAMP:20260423T140600Z
UID:fmf-AFLABS-URNIK:premaknjeno-srecanje:205771
ATTENDEE:doktorski študij (M)
CATEGORIES:Entry,Standard
COLOR:darkgreen
DESCRIPTION:Predmet: Seminar SAFA (MAT-D)\, Seminar (S)\nLetniki: doktorsk
 i študij (M)\nIzvajalci:  Drnovšek\, Moravec\nProstor: 2.04
LOCATION:2.04
ORGANIZER: Drnovšek, Moravec
RELATED-TO:fmf-AFLABS-URNIK:srecanje:15173
X-WR-TIMEZONE:Europe/Ljubljana
END:VEVENT
BEGIN:VEVENT
SUMMARY:Seminar SAFA (MAT-D)\, Seminar (S)
DTSTART;TZID=Europe/Ljubljana:20250320T120000
DTEND;TZID=Europe/Ljubljana:20250320T140000
DTSTAMP:20260423T140600Z
UID:fmf-AFLABS-URNIK:premaknjeno-srecanje:205772
ATTENDEE:doktorski študij (M)
CATEGORIES:Entry,Standard
COLOR:darkgreen
DESCRIPTION:Predmet: Seminar SAFA (MAT-D)\, Seminar (S)\nLetniki: doktorsk
 i študij (M)\nIzvajalci:  Drnovšek\, Moravec\nProstor: 2.04
LOCATION:2.04
ORGANIZER: Drnovšek, Moravec
RELATED-TO:fmf-AFLABS-URNIK:srecanje:15173
X-WR-TIMEZONE:Europe/Ljubljana
END:VEVENT
BEGIN:VEVENT
SUMMARY:Seminar SAFA (MAT-D)\, Seminar (S)
DTSTART;TZID=Europe/Ljubljana:20250327T120000
DTEND;TZID=Europe/Ljubljana:20250327T140000
DTSTAMP:20260423T140600Z
UID:fmf-AFLABS-URNIK:premaknjeno-srecanje:205773
ATTENDEE:doktorski študij (M)
CATEGORIES:Entry,Standard
COLOR:darkgreen
DESCRIPTION:Predmet: Seminar SAFA (MAT-D)\, Seminar (S)\nLetniki: doktorsk
 i študij (M)\nIzvajalci:  Drnovšek\, Moravec\nProstor: 2.04
LOCATION:2.04
ORGANIZER: Drnovšek, Moravec
RELATED-TO:fmf-AFLABS-URNIK:srecanje:15173
X-WR-TIMEZONE:Europe/Ljubljana
END:VEVENT
BEGIN:VEVENT
SUMMARY:Seminar SAFA (MAT-D)\, Seminar (S)
DTSTART;TZID=Europe/Ljubljana:20250403T120000
DTEND;TZID=Europe/Ljubljana:20250403T140000
DTSTAMP:20260423T140600Z
UID:fmf-AFLABS-URNIK:premaknjeno-srecanje:205774
ATTENDEE:doktorski študij (M)
CATEGORIES:Entry,Standard
COLOR:darkgreen
DESCRIPTION:Predmet: Seminar SAFA (MAT-D)\, Seminar (S)\nLetniki: doktorsk
 i študij (M)\nIzvajalci:  Drnovšek\, Moravec\nProstor: 2.04
LOCATION:2.04
ORGANIZER: Drnovšek, Moravec
RELATED-TO:fmf-AFLABS-URNIK:srecanje:15173
X-WR-TIMEZONE:Europe/Ljubljana
END:VEVENT
BEGIN:VEVENT
SUMMARY:Seminar SAFA (MAT-D)\, Seminar (S)
DTSTART;TZID=Europe/Ljubljana:20250410T120000
DTEND;TZID=Europe/Ljubljana:20250410T140000
DTSTAMP:20260423T140600Z
UID:fmf-AFLABS-URNIK:premaknjeno-srecanje:205775
ATTENDEE:doktorski študij (M)
CATEGORIES:Entry,Standard
COLOR:darkgreen
DESCRIPTION:Predmet: Seminar SAFA (MAT-D)\, Seminar (S)\nLetniki: doktorsk
 i študij (M)\nIzvajalci:  Drnovšek\, Moravec\nProstor: 2.04
LOCATION:2.04
ORGANIZER: Drnovšek, Moravec
RELATED-TO:fmf-AFLABS-URNIK:srecanje:15173
X-WR-TIMEZONE:Europe/Ljubljana
END:VEVENT
BEGIN:VEVENT
SUMMARY:Seminar SAFA (MAT-D)\, Seminar (S)
DTSTART;TZID=Europe/Ljubljana:20250417T120000
DTEND;TZID=Europe/Ljubljana:20250417T140000
DTSTAMP:20260423T140600Z
UID:fmf-AFLABS-URNIK:premaknjeno-srecanje:205776
ATTENDEE:doktorski študij (M)
CATEGORIES:Entry,Standard
COLOR:darkgreen
DESCRIPTION:Predmet: Seminar SAFA (MAT-D)\, Seminar (S)\nLetniki: doktorsk
 i študij (M)\nIzvajalci:  Drnovšek\, Moravec\nProstor: 2.04
LOCATION:2.04
ORGANIZER: Drnovšek, Moravec
RELATED-TO:fmf-AFLABS-URNIK:srecanje:15173
X-WR-TIMEZONE:Europe/Ljubljana
END:VEVENT
BEGIN:VEVENT
SUMMARY:Seminar SAFA (MAT-D)\, Seminar (S)
DTSTART;TZID=Europe/Ljubljana:20250424T120000
DTEND;TZID=Europe/Ljubljana:20250424T140000
DTSTAMP:20260423T140600Z
UID:fmf-AFLABS-URNIK:premaknjeno-srecanje:205777
ATTENDEE:doktorski študij (M)
CATEGORIES:Entry,Standard
COLOR:darkgreen
DESCRIPTION:Predmet: Seminar SAFA (MAT-D)\, Seminar (S)\nLetniki: doktorsk
 i študij (M)\nIzvajalci:  Drnovšek\, Moravec\nProstor: 2.04
LOCATION:2.04
ORGANIZER: Drnovšek, Moravec
RELATED-TO:fmf-AFLABS-URNIK:srecanje:15173
X-WR-TIMEZONE:Europe/Ljubljana
END:VEVENT
BEGIN:VEVENT
SUMMARY:Seminar SAFA (MAT-D)\, Seminar (S)
DTSTART;TZID=Europe/Ljubljana:20250501T120000
DTEND;TZID=Europe/Ljubljana:20250501T140000
DTSTAMP:20260423T140600Z
UID:fmf-AFLABS-URNIK:premaknjeno-srecanje:205778
ATTENDEE:doktorski študij (M)
CATEGORIES:Entry,Standard
COLOR:darkgreen
DESCRIPTION:Predmet: Seminar SAFA (MAT-D)\, Seminar (S)\nLetniki: doktorsk
 i študij (M)\nIzvajalci:  Drnovšek\, Moravec\nProstor: 2.04
LOCATION:2.04
ORGANIZER: Drnovšek, Moravec
RELATED-TO:fmf-AFLABS-URNIK:srecanje:15173
X-WR-TIMEZONE:Europe/Ljubljana
END:VEVENT
BEGIN:VEVENT
SUMMARY:Seminar SAFA (MAT-D)\, Seminar (S)
DTSTART;TZID=Europe/Ljubljana:20250508T120000
DTEND;TZID=Europe/Ljubljana:20250508T140000
DTSTAMP:20260423T140600Z
UID:fmf-AFLABS-URNIK:premaknjeno-srecanje:205779
ATTENDEE:doktorski študij (M)
CATEGORIES:Entry,Standard
COLOR:darkgreen
DESCRIPTION:Predmet: Seminar SAFA (MAT-D)\, Seminar (S)\nLetniki: doktorsk
 i študij (M)\nIzvajalci:  Drnovšek\, Moravec\nProstor: 2.04
LOCATION:2.04
ORGANIZER: Drnovšek, Moravec
RELATED-TO:fmf-AFLABS-URNIK:srecanje:15173
X-WR-TIMEZONE:Europe/Ljubljana
END:VEVENT
BEGIN:VEVENT
SUMMARY:Seminar SAFA (MAT-D)\, Seminar (S)
DTSTART;TZID=Europe/Ljubljana:20250515T120000
DTEND;TZID=Europe/Ljubljana:20250515T140000
DTSTAMP:20260423T140600Z
UID:fmf-AFLABS-URNIK:premaknjeno-srecanje:205780
ATTENDEE:doktorski študij (M)
CATEGORIES:Entry,Standard
COLOR:darkgreen
DESCRIPTION:Predmet: Seminar SAFA (MAT-D)\, Seminar (S)\nLetniki: doktorsk
 i študij (M)\nIzvajalci:  Drnovšek\, Moravec\nProstor: 2.04
LOCATION:2.04
ORGANIZER: Drnovšek, Moravec
RELATED-TO:fmf-AFLABS-URNIK:srecanje:15173
X-WR-TIMEZONE:Europe/Ljubljana
END:VEVENT
BEGIN:VEVENT
SUMMARY:Seminar SAFA (MAT-D)\, Seminar (S)
DTSTART;TZID=Europe/Ljubljana:20250522T120000
DTEND;TZID=Europe/Ljubljana:20250522T140000
DTSTAMP:20260423T140600Z
UID:fmf-AFLABS-URNIK:premaknjeno-srecanje:205781
ATTENDEE:doktorski študij (M)
CATEGORIES:Entry,Standard
COLOR:darkgreen
DESCRIPTION:Predmet: Seminar SAFA (MAT-D)\, Seminar (S)\nLetniki: doktorsk
 i študij (M)\nIzvajalci:  Drnovšek\, Moravec\nProstor: 2.04
LOCATION:2.04
ORGANIZER: Drnovšek, Moravec
RELATED-TO:fmf-AFLABS-URNIK:srecanje:15173
X-WR-TIMEZONE:Europe/Ljubljana
END:VEVENT
BEGIN:VEVENT
SUMMARY:Seminar SAFA (MAT-D)\, Seminar (S)
DTSTART;TZID=Europe/Ljubljana:20250529T120000
DTEND;TZID=Europe/Ljubljana:20250529T140000
DTSTAMP:20260423T140600Z
UID:fmf-AFLABS-URNIK:premaknjeno-srecanje:205782
ATTENDEE:doktorski študij (M)
CATEGORIES:Entry,Standard
COLOR:darkgreen
DESCRIPTION:Predmet: Seminar SAFA (MAT-D)\, Seminar (S)\nLetniki: doktorsk
 i študij (M)\nIzvajalci:  Drnovšek\, Moravec\nProstor: 2.04
LOCATION:2.04
ORGANIZER: Drnovšek, Moravec
RELATED-TO:fmf-AFLABS-URNIK:srecanje:15173
X-WR-TIMEZONE:Europe/Ljubljana
END:VEVENT
BEGIN:VEVENT
SUMMARY:Seminar SAFA (MAT-D)\, Seminar (S)
DTSTART;TZID=Europe/Ljubljana:20250605T120000
DTEND;TZID=Europe/Ljubljana:20250605T140000
DTSTAMP:20260423T140600Z
UID:fmf-AFLABS-URNIK:premaknjeno-srecanje:205783
ATTENDEE:doktorski študij (M)
CATEGORIES:Entry,Standard
COLOR:darkgreen
DESCRIPTION:Predmet: Seminar SAFA (MAT-D)\, Seminar (S)\nLetniki: doktorsk
 i študij (M)\nIzvajalci:  Drnovšek\, Moravec\nProstor: 2.04
LOCATION:2.04
ORGANIZER: Drnovšek, Moravec
RELATED-TO:fmf-AFLABS-URNIK:srecanje:15173
X-WR-TIMEZONE:Europe/Ljubljana
END:VEVENT
END:VCALENDAR
