BEGIN:VCALENDAR
VERSION:2.0
PRODID:-//AFLabs urnik izvoz - fmf//aflabs.si//SI
DTSTAMP:20260424T202355Z
NAME:UL FMF urnik
REFRESH-INTERVAL:PT1H
SOURCE:https://urnik.fmf.uni-lj.si/en/teacher/367?day=2025-12-08&export=1
URL:https://urnik.fmf.uni-lj.si/en/teacher/367?day=2025-12-08&export=1
X-PUBLISHED-TTL:PT1H
X-WR-CALNAME:UL FMF urnik
X-WR-TIMEZONE:Europe/Ljubljana
BEGIN:VTIMEZONE
TZID:Europe/Ljubljana
BEGIN:DAYLIGHT
DTSTART:20260329T020000
RDATE:20260329T020000
RDATE:20270328T020000
TZNAME:CEST
TZOFFSETFROM:+0100
TZOFFSETTO:+0200
END:DAYLIGHT
BEGIN:STANDARD
DTSTART:20261025T030000
RDATE:20261025T030000
RDATE:20271031T030000
TZNAME:CET
TZOFFSETFROM:+0200
TZOFFSETTO:+0100
END:STANDARD
END:VTIMEZONE
BEGIN:VEVENT
SUMMARY:SAFA SEM (MAT-D)\, Seminar (S)
DTSTART;TZID=Europe/Ljubljana:20251002T120000
DTEND;TZID=Europe/Ljubljana:20251002T140000
DTSTAMP:20260424T202355Z
UID:fmf-AFLABS-URNIK:premaknjeno-srecanje:223517
ATTENDEE:doktorski študij (M)
CATEGORIES:Entry,Standard
COLOR:darkgreen
DESCRIPTION:Predmet: SAFA SEM (MAT-D)\, Seminar (S)\nLetniki: doktorski š
 tudij (M)\nIzvajalci:  Drnovšek\, Moravec\nProstor: 3.07
LOCATION:3.07
ORGANIZER: Drnovšek, Moravec
RELATED-TO:fmf-AFLABS-URNIK:srecanje:16292
X-WR-TIMEZONE:Europe/Ljubljana
END:VEVENT
BEGIN:VEVENT
SUMMARY:SAFA SEM (MAT-D)\, Seminar (S)
DTSTART;TZID=Europe/Ljubljana:20251009T120000
DTEND;TZID=Europe/Ljubljana:20251009T140000
DTSTAMP:20260424T202355Z
UID:fmf-AFLABS-URNIK:premaknjeno-srecanje:223518
ATTENDEE:doktorski študij (M)
CATEGORIES:Entry,Standard
COLOR:darkgreen
DESCRIPTION:Predmet: SAFA SEM (MAT-D)\, Seminar (S)\nLetniki: doktorski š
 tudij (M)\nIzvajalci:  Drnovšek\, Moravec\nProstor: 3.07
LOCATION:3.07
ORGANIZER: Drnovšek, Moravec
RELATED-TO:fmf-AFLABS-URNIK:srecanje:16292
X-WR-TIMEZONE:Europe/Ljubljana
END:VEVENT
BEGIN:VEVENT
SUMMARY:SAFA SEM (MAT-D)\, Seminar (S)
DTSTART;TZID=Europe/Ljubljana:20251016T120000
DTEND;TZID=Europe/Ljubljana:20251016T140000
DTSTAMP:20260424T202355Z
UID:fmf-AFLABS-URNIK:premaknjeno-srecanje:223519
ATTENDEE:doktorski študij (M)
CATEGORIES:Entry,Standard
COLOR:darkgreen
DESCRIPTION:Predmet: SAFA SEM (MAT-D)\, Seminar (S)\nLetniki: doktorski š
 tudij (M)\nIzvajalci:  Drnovšek\, Moravec\nProstor: 3.07
LOCATION:3.07
ORGANIZER: Drnovšek, Moravec
RELATED-TO:fmf-AFLABS-URNIK:srecanje:16292
X-WR-TIMEZONE:Europe/Ljubljana
END:VEVENT
BEGIN:VEVENT
SUMMARY:SAFA SEM (MAT-D)\, Seminar (S)
DTSTART;TZID=Europe/Ljubljana:20251023T120000
DTEND;TZID=Europe/Ljubljana:20251023T140000
DTSTAMP:20260424T202355Z
UID:fmf-AFLABS-URNIK:premaknjeno-srecanje:223520
ATTENDEE:doktorski študij (M)
CATEGORIES:Entry,Standard
COLOR:darkgreen
DESCRIPTION:Predmet: SAFA SEM (MAT-D)\, Seminar (S)\nLetniki: doktorski š
 tudij (M)\nIzvajalci:  Drnovšek\, Moravec\nProstor: 3.07
LOCATION:3.07
ORGANIZER: Drnovšek, Moravec
RELATED-TO:fmf-AFLABS-URNIK:srecanje:16292
X-WR-TIMEZONE:Europe/Ljubljana
END:VEVENT
BEGIN:VEVENT
SUMMARY:SAFA SEM (MAT-D)\, Seminar (S)
DTSTART;TZID=Europe/Ljubljana:20251030T120000
DTEND;TZID=Europe/Ljubljana:20251030T140000
DTSTAMP:20260424T202355Z
UID:fmf-AFLABS-URNIK:premaknjeno-srecanje:223521
ATTENDEE:doktorski študij (M)
CATEGORIES:Entry,Standard
COLOR:darkgreen
DESCRIPTION:Predmet: SAFA SEM (MAT-D)\, Seminar (S)\nLetniki: doktorski š
 tudij (M)\nIzvajalci:  Drnovšek\, Moravec\nProstor: 3.07
LOCATION:3.07
ORGANIZER: Drnovšek, Moravec
RELATED-TO:fmf-AFLABS-URNIK:srecanje:16292
X-WR-TIMEZONE:Europe/Ljubljana
END:VEVENT
BEGIN:VEVENT
SUMMARY:SAFA SEM (MAT-D)\, Seminar (S)
DTSTART;TZID=Europe/Ljubljana:20251106T120000
DTEND;TZID=Europe/Ljubljana:20251106T140000
DTSTAMP:20260424T202355Z
UID:fmf-AFLABS-URNIK:premaknjeno-srecanje:223522
ATTENDEE:doktorski študij (M)
CATEGORIES:Entry,Standard
COLOR:darkgreen
DESCRIPTION:Predmet: SAFA SEM (MAT-D)\, Seminar (S)\nLetniki: doktorski š
 tudij (M)\nIzvajalci:  Drnovšek\, Moravec\nProstor: 3.07
LOCATION:3.07
ORGANIZER: Drnovšek, Moravec
RELATED-TO:fmf-AFLABS-URNIK:srecanje:16292
X-WR-TIMEZONE:Europe/Ljubljana
END:VEVENT
BEGIN:VEVENT
SUMMARY:SAFA SEM (MAT-D)\, Seminar (S)
DTSTART;TZID=Europe/Ljubljana:20251113T120000
DTEND;TZID=Europe/Ljubljana:20251113T140000
DTSTAMP:20260424T202355Z
UID:fmf-AFLABS-URNIK:premaknjeno-srecanje:223523
ATTENDEE:doktorski študij (M)
CATEGORIES:Entry,Standard
COLOR:darkgreen
DESCRIPTION:Predmet: SAFA SEM (MAT-D)\, Seminar (S)\nLetniki: doktorski š
 tudij (M)\nIzvajalci:  Drnovšek\, Moravec\nProstor: 3.07
LOCATION:3.07
ORGANIZER: Drnovšek, Moravec
RELATED-TO:fmf-AFLABS-URNIK:srecanje:16292
X-WR-TIMEZONE:Europe/Ljubljana
END:VEVENT
BEGIN:VEVENT
SUMMARY:SAFA SEM (MAT-D)\, Seminar (S)
DTSTART;TZID=Europe/Ljubljana:20251120T120000
DTEND;TZID=Europe/Ljubljana:20251120T140000
DTSTAMP:20260424T202355Z
UID:fmf-AFLABS-URNIK:premaknjeno-srecanje:223524
ATTENDEE:doktorski študij (M)
CATEGORIES:Entry,Standard
COLOR:darkgreen
DESCRIPTION:Predmet: SAFA SEM (MAT-D)\, Seminar (S)\nLetniki: doktorski š
 tudij (M)\nIzvajalci:  Drnovšek\, Moravec\nProstor: 3.07
LOCATION:3.07
ORGANIZER: Drnovšek, Moravec
RELATED-TO:fmf-AFLABS-URNIK:srecanje:16292
X-WR-TIMEZONE:Europe/Ljubljana
END:VEVENT
BEGIN:VEVENT
SUMMARY:SAFA SEM (MAT-D)\, Seminar (S)
DTSTART;TZID=Europe/Ljubljana:20251127T120000
DTEND;TZID=Europe/Ljubljana:20251127T140000
DTSTAMP:20260424T202355Z
UID:fmf-AFLABS-URNIK:premaknjeno-srecanje:223525
ATTENDEE:doktorski študij (M)
CATEGORIES:Entry,Standard
COLOR:darkgreen
DESCRIPTION:Predmet: SAFA SEM (MAT-D)\, Seminar (S)\nLetniki: doktorski š
 tudij (M)\nIzvajalci:  Drnovšek\, Moravec\nProstor: 3.07
LOCATION:3.07
ORGANIZER: Drnovšek, Moravec
RELATED-TO:fmf-AFLABS-URNIK:srecanje:16292
X-WR-TIMEZONE:Europe/Ljubljana
END:VEVENT
BEGIN:VEVENT
SUMMARY:SAFA SEM (MAT-D)\, Seminar (S)
DTSTART;TZID=Europe/Ljubljana:20251204T120000
DTEND;TZID=Europe/Ljubljana:20251204T140000
DTSTAMP:20260424T202355Z
UID:fmf-AFLABS-URNIK:premaknjeno-srecanje:223526
ATTENDEE:doktorski študij (M)
CATEGORIES:Entry,Standard
COLOR:darkgreen
DESCRIPTION:Predmet: SAFA SEM (MAT-D)\, Seminar (S)\nLetniki: doktorski š
 tudij (M)\nIzvajalci:  Drnovšek\, Moravec\nProstor: 3.07
LOCATION:3.07
ORGANIZER: Drnovšek, Moravec
RELATED-TO:fmf-AFLABS-URNIK:srecanje:16292
X-WR-TIMEZONE:Europe/Ljubljana
END:VEVENT
BEGIN:VEVENT
SUMMARY:SAFA SEM (MAT-D)\, Seminar (S)
DTSTART;TZID=Europe/Ljubljana:20251211T120000
DTEND;TZID=Europe/Ljubljana:20251211T140000
DTSTAMP:20260424T202355Z
UID:fmf-AFLABS-URNIK:premaknjeno-srecanje:223527
ATTENDEE:doktorski študij (M)
CATEGORIES:Entry,Standard
COLOR:darkgreen
DESCRIPTION:Predmet: SAFA SEM (MAT-D)\, Seminar (S)\nLetniki: doktorski š
 tudij (M)\nIzvajalci:  Drnovšek\, Moravec\nProstor: 3.07
LOCATION:3.07
ORGANIZER: Drnovšek, Moravec
RELATED-TO:fmf-AFLABS-URNIK:srecanje:16292
X-WR-TIMEZONE:Europe/Ljubljana
END:VEVENT
BEGIN:VEVENT
SUMMARY:SAFA SEM (MAT-D)\, Seminar (S)
DTSTART;TZID=Europe/Ljubljana:20251218T120000
DTEND;TZID=Europe/Ljubljana:20251218T140000
DTSTAMP:20260424T202355Z
UID:fmf-AFLABS-URNIK:premaknjeno-srecanje:223528
ATTENDEE:doktorski študij (M)
CATEGORIES:Entry,Standard
COLOR:darkgreen
DESCRIPTION:Predmet: SAFA SEM (MAT-D)\, Seminar (S)\nLetniki: doktorski š
 tudij (M)\nIzvajalci:  Drnovšek\, Moravec\nProstor: 3.07
LOCATION:3.07
ORGANIZER: Drnovšek, Moravec
RELATED-TO:fmf-AFLABS-URNIK:srecanje:16292
X-WR-TIMEZONE:Europe/Ljubljana
END:VEVENT
BEGIN:VEVENT
SUMMARY:SAFA SEM (MAT-D)\, Seminar (S)
DTSTART;TZID=Europe/Ljubljana:20251225T120000
DTEND;TZID=Europe/Ljubljana:20251225T140000
DTSTAMP:20260424T202355Z
UID:fmf-AFLABS-URNIK:premaknjeno-srecanje:223529
ATTENDEE:doktorski študij (M)
CATEGORIES:Entry,Standard
COLOR:darkgreen
DESCRIPTION:Predmet: SAFA SEM (MAT-D)\, Seminar (S)\nLetniki: doktorski š
 tudij (M)\nIzvajalci:  Drnovšek\, Moravec\nProstor: 3.07
LOCATION:3.07
ORGANIZER: Drnovšek, Moravec
RELATED-TO:fmf-AFLABS-URNIK:srecanje:16292
X-WR-TIMEZONE:Europe/Ljubljana
END:VEVENT
BEGIN:VEVENT
SUMMARY:SAFA SEM (MAT-D)\, Seminar (S)
DTSTART;TZID=Europe/Ljubljana:20260101T120000
DTEND;TZID=Europe/Ljubljana:20260101T140000
DTSTAMP:20260424T202355Z
UID:fmf-AFLABS-URNIK:premaknjeno-srecanje:223530
ATTENDEE:doktorski študij (M)
CATEGORIES:Entry,Standard
COLOR:darkgreen
DESCRIPTION:Predmet: SAFA SEM (MAT-D)\, Seminar (S)\nLetniki: doktorski š
 tudij (M)\nIzvajalci:  Drnovšek\, Moravec\nProstor: 3.07
LOCATION:3.07
ORGANIZER: Drnovšek, Moravec
RELATED-TO:fmf-AFLABS-URNIK:srecanje:16292
X-WR-TIMEZONE:Europe/Ljubljana
END:VEVENT
BEGIN:VEVENT
SUMMARY:SAFA SEM (MAT-D)\, Seminar (S)
DTSTART;TZID=Europe/Ljubljana:20260108T120000
DTEND;TZID=Europe/Ljubljana:20260108T140000
DTSTAMP:20260424T202355Z
UID:fmf-AFLABS-URNIK:premaknjeno-srecanje:223531
ATTENDEE:doktorski študij (M)
CATEGORIES:Entry,Standard
COLOR:darkgreen
DESCRIPTION:Predmet: SAFA SEM (MAT-D)\, Seminar (S)\nLetniki: doktorski š
 tudij (M)\nIzvajalci:  Drnovšek\, Moravec\nProstor: 3.07
LOCATION:3.07
ORGANIZER: Drnovšek, Moravec
RELATED-TO:fmf-AFLABS-URNIK:srecanje:16292
X-WR-TIMEZONE:Europe/Ljubljana
END:VEVENT
BEGIN:VEVENT
SUMMARY:SAFA SEM (MAT-D)\, Seminar (S)
DTSTART;TZID=Europe/Ljubljana:20260115T120000
DTEND;TZID=Europe/Ljubljana:20260115T140000
DTSTAMP:20260424T202355Z
UID:fmf-AFLABS-URNIK:premaknjeno-srecanje:223532
ATTENDEE:doktorski študij (M)
CATEGORIES:Entry,Standard
COLOR:darkgreen
DESCRIPTION:Predmet: SAFA SEM (MAT-D)\, Seminar (S)\nLetniki: doktorski š
 tudij (M)\nIzvajalci:  Drnovšek\, Moravec\nProstor: 3.07
LOCATION:3.07
ORGANIZER: Drnovšek, Moravec
RELATED-TO:fmf-AFLABS-URNIK:srecanje:16292
X-WR-TIMEZONE:Europe/Ljubljana
END:VEVENT
END:VCALENDAR
