BEGIN:VCALENDAR
VERSION:2.0
PRODID:-//AFLabs urnik izvoz - fmf//aflabs.si//SI
DTSTAMP:20260426T040926Z
NAME:UL FMF urnik
REFRESH-INTERVAL:PT1H
SOURCE:https://urnik.fmf.uni-lj.si/en/teacher/37?day=2025-07-07&export=1
URL:https://urnik.fmf.uni-lj.si/en/teacher/37?day=2025-07-07&export=1
X-PUBLISHED-TTL:PT1H
X-WR-CALNAME:UL FMF urnik
X-WR-TIMEZONE:Europe/Ljubljana
BEGIN:VTIMEZONE
TZID:Europe/Ljubljana
BEGIN:DAYLIGHT
DTSTART:20260329T020000
RDATE:20260329T020000
RDATE:20270328T020000
TZNAME:CEST
TZOFFSETFROM:+0100
TZOFFSETTO:+0200
END:DAYLIGHT
BEGIN:STANDARD
DTSTART:20261025T030000
RDATE:20261025T030000
RDATE:20271031T030000
TZNAME:CET
TZOFFSETFROM:+0200
TZOFFSETTO:+0100
END:STANDARD
END:VTIMEZONE
BEGIN:VEVENT
SUMMARY:Uvod v numerične metode (MAT-3\, PM-3)\, Predavanja (P)
DTSTART;TZID=Europe/Ljubljana:20250929T120000
DTEND;TZID=Europe/Ljubljana:20250929T130000
DTSTAMP:20260426T040926Z
UID:fmf-AFLABS-URNIK:premaknjeno-srecanje:224962
ATTENDEE:3. letnik (M)
ATTENDEE:3. letnik (PM)
CATEGORIES:Entry,Standard
COLOR:darkgreen
DESCRIPTION:Predmet: Uvod v numerične metode (MAT-3\, PM-3)\, Predavanja 
 (P)\nLetniki: 3. letnik (M)\, 3. letnik (PM)\nIzvajalci: Bor Plestenjak\nP
 rostor: 1.01
LOCATION:1.01
ORGANIZER:Bor Plestenjak
RELATED-TO:fmf-AFLABS-URNIK:srecanje:16385
X-WR-TIMEZONE:Europe/Ljubljana
END:VEVENT
BEGIN:VEVENT
SUMMARY:NM1-FIN 2.izpit
DTSTART;TZID=Europe/Ljubljana:20250613T100000
DTEND;TZID=Europe/Ljubljana:20250613T130000
DTSTAMP:20260426T040926Z
UID:fmf-AFLABS-URNIK:rezervacija:19792
CATEGORIES:Reservation
COLOR:royalblue
DESCRIPTION:Predmeti: \nLetniki: \nIzvajalci: Bor Plestenjak\, Ada Sadl\nP
 rostori: 2.04
LOCATION:2.04
ORGANIZER:Bor Plestenjak, Ada Sadl
X-WR-TIMEZONE:Europe/Ljubljana
END:VEVENT
BEGIN:VEVENT
SUMMARY:NM1-FIN 3.izpit
DTSTART;TZID=Europe/Ljubljana:20250829T100000
DTEND;TZID=Europe/Ljubljana:20250829T130000
DTSTAMP:20260426T040926Z
UID:fmf-AFLABS-URNIK:rezervacija:19793
CATEGORIES:Reservation
COLOR:royalblue
DESCRIPTION:Predmeti: \nLetniki: \nIzvajalci: Bor Plestenjak\, Ada Sadl\nP
 rostori: 3.06
LOCATION:3.06
ORGANIZER:Bor Plestenjak, Ada Sadl
X-WR-TIMEZONE:Europe/Ljubljana
END:VEVENT
END:VCALENDAR
