BEGIN:VCALENDAR
VERSION:2.0
PRODID:-//AFLabs urnik izvoz - fmf//aflabs.si//SI
DTSTAMP:20260426T014150Z
NAME:UL FMF urnik
REFRESH-INTERVAL:PT1H
SOURCE:https://urnik.fmf.uni-lj.si/en/teacher/44?day=2024-06-24&export=1
URL:https://urnik.fmf.uni-lj.si/en/teacher/44?day=2024-06-24&export=1
X-PUBLISHED-TTL:PT1H
X-WR-CALNAME:UL FMF urnik
X-WR-TIMEZONE:Europe/Ljubljana
BEGIN:VTIMEZONE
TZID:Europe/Ljubljana
BEGIN:DAYLIGHT
DTSTART:20260329T020000
RDATE:20260329T020000
RDATE:20270328T020000
TZNAME:CEST
TZOFFSETFROM:+0100
TZOFFSETTO:+0200
END:DAYLIGHT
BEGIN:STANDARD
DTSTART:20261025T030000
RDATE:20261025T030000
RDATE:20271031T030000
TZNAME:CET
TZOFFSETFROM:+0200
TZOFFSETTO:+0100
END:STANDARD
END:VTIMEZONE
BEGIN:VEVENT
SUMMARY:Optimizacijske metode (IŠRM-2)\, Predavanja (P)
DTSTART;TZID=Europe/Ljubljana:20240521T120000
DTEND;TZID=Europe/Ljubljana:20240521T150000
DTSTAMP:20260426T014150Z
UID:fmf-AFLABS-URNIK:premaknjeno-srecanje:128322
ATTENDEE:2. letnik (IŠRM)
CATEGORIES:Entry,Standard
COLOR:darkgreen
DESCRIPTION:Predmet: Optimizacijske metode (IŠRM-2)\, Predavanja (P)\nLet
 niki: 2. letnik (IŠRM)\nIzvajalci: Sergio Cabello\nProstor: 3.04
LOCATION:3.04
ORGANIZER:Sergio Cabello
RELATED-TO:fmf-AFLABS-URNIK:srecanje:10121
X-WR-TIMEZONE:Europe/Ljubljana
END:VEVENT
BEGIN:VEVENT
SUMMARY:Optimizacijske metode (IŠRM-2)\, Predavanja (P)
DTSTART;TZID=Europe/Ljubljana:20240528T120000
DTEND;TZID=Europe/Ljubljana:20240528T150000
DTSTAMP:20260426T014150Z
UID:fmf-AFLABS-URNIK:premaknjeno-srecanje:128323
ATTENDEE:2. letnik (IŠRM)
CATEGORIES:Entry,Standard
COLOR:darkgreen
DESCRIPTION:Predmet: Optimizacijske metode (IŠRM-2)\, Predavanja (P)\nLet
 niki: 2. letnik (IŠRM)\nIzvajalci: Sergio Cabello\nProstor: 3.04
LOCATION:3.04
ORGANIZER:Sergio Cabello
RELATED-TO:fmf-AFLABS-URNIK:srecanje:10121
X-WR-TIMEZONE:Europe/Ljubljana
END:VEVENT
BEGIN:VEVENT
SUMMARY:Matematika z računalnikom (FM-M\, IŠRM-M\, MAT-M\, PM-5)\, Preda
 vanja (P)
DTSTART;TZID=Europe/Ljubljana:20240524T080000
DTEND;TZID=Europe/Ljubljana:20240524T110000
DTSTAMP:20260426T014150Z
UID:fmf-AFLABS-URNIK:premaknjeno-srecanje:135484
ATTENDEE:5. letnik (PM)
ATTENDEE:magistrski študij (FM)
ATTENDEE:magistrski študij (IŠRM)
ATTENDEE:magistrski študij (M)
CATEGORIES:Entry,Standard
COLOR:darkgreen
DESCRIPTION:Predmet: Matematika z računalnikom (FM-M\, IŠRM-M\, MAT-M\, 
 PM-5)\, Predavanja (P)\nLetniki: magistrski študij (FM)\, magistrski štu
 dij (IŠRM)\, magistrski študij (M)\, 5. letnik (PM)\nIzvajalci: Sergio C
 abello\nProstor: 3.10
LOCATION:3.10
ORGANIZER:Sergio Cabello
RELATED-TO:fmf-AFLABS-URNIK:srecanje:10053
X-WR-TIMEZONE:Europe/Ljubljana
END:VEVENT
BEGIN:VEVENT
SUMMARY:Matematika z računalnikom (FM-M\, IŠRM-M\, MAT-M\, PM-5)\, Preda
 vanja (P)
DTSTART;TZID=Europe/Ljubljana:20240531T080000
DTEND;TZID=Europe/Ljubljana:20240531T110000
DTSTAMP:20260426T014150Z
UID:fmf-AFLABS-URNIK:premaknjeno-srecanje:135485
ATTENDEE:5. letnik (PM)
ATTENDEE:magistrski študij (FM)
ATTENDEE:magistrski študij (IŠRM)
ATTENDEE:magistrski študij (M)
CATEGORIES:Entry,Standard
COLOR:darkgreen
DESCRIPTION:Predmet: Matematika z računalnikom (FM-M\, IŠRM-M\, MAT-M\, 
 PM-5)\, Predavanja (P)\nLetniki: magistrski študij (FM)\, magistrski štu
 dij (IŠRM)\, magistrski študij (M)\, 5. letnik (PM)\nIzvajalci: Sergio C
 abello\nProstor: 3.10
LOCATION:3.10
ORGANIZER:Sergio Cabello
RELATED-TO:fmf-AFLABS-URNIK:srecanje:10053
X-WR-TIMEZONE:Europe/Ljubljana
END:VEVENT
BEGIN:VEVENT
SUMMARY:Optimizacijske metode (IŠRM) - 2. kolokvij
DTSTART;TZID=Europe/Ljubljana:20240530T170000
DTEND;TZID=Europe/Ljubljana:20240530T200000
DTSTAMP:20260426T014150Z
UID:fmf-AFLABS-URNIK:rezervacija:15203
ATTENDEE:2. letnik (IŠRM)
CATEGORIES:Reservation
COLOR:royalblue
DESCRIPTION:Predmeti: Optimizacijske metode (IŠRM-2)\nLetniki: 2. letnik 
 (IŠRM)\nIzvajalci: Sergio Cabello\, Arjana Žitnik\nProstori: 2.05
LOCATION:2.05
ORGANIZER:Sergio Cabello, Arjana Žitnik
X-WR-TIMEZONE:Europe/Ljubljana
END:VEVENT
BEGIN:VEVENT
SUMMARY:KARST meeting
DTSTART;TZID=Europe/Ljubljana:20240607T100000
DTEND;TZID=Europe/Ljubljana:20240607T120000
DTSTAMP:20260426T014150Z
UID:fmf-AFLABS-URNIK:rezervacija:16668
CATEGORIES:Reservation
COLOR:royalblue
DESCRIPTION:Predmeti: \nLetniki: \nIzvajalci: Sergio Cabello\, Vesna Irši
 č\nProstori: 3.06
LOCATION:3.06
ORGANIZER:Sergio Cabello, Vesna Iršič
X-WR-TIMEZONE:Europe/Ljubljana
END:VEVENT
BEGIN:VEVENT
SUMMARY:KARST meeting
DTSTART;TZID=Europe/Ljubljana:20240614T100000
DTEND;TZID=Europe/Ljubljana:20240614T120000
DTSTAMP:20260426T014150Z
UID:fmf-AFLABS-URNIK:rezervacija:16669
CATEGORIES:Reservation
COLOR:royalblue
DESCRIPTION:Predmeti: \nLetniki: \nIzvajalci: Sergio Cabello\, Vesna Irši
 č\nProstori: 3.06
LOCATION:3.06
ORGANIZER:Sergio Cabello, Vesna Iršič
X-WR-TIMEZONE:Europe/Ljubljana
END:VEVENT
BEGIN:VEVENT
SUMMARY:KARST meeting
DTSTART;TZID=Europe/Ljubljana:20240621T100000
DTEND;TZID=Europe/Ljubljana:20240621T120000
DTSTAMP:20260426T014150Z
UID:fmf-AFLABS-URNIK:rezervacija:16670
CATEGORIES:Reservation
COLOR:royalblue
DESCRIPTION:Predmeti: \nLetniki: \nIzvajalci: Sergio Cabello\, Vesna Irši
 č\nProstori: 3.06
LOCATION:3.06
ORGANIZER:Sergio Cabello, Vesna Iršič
X-WR-TIMEZONE:Europe/Ljubljana
END:VEVENT
BEGIN:VEVENT
SUMMARY:KARST meeting
DTSTART;TZID=Europe/Ljubljana:20240628T100000
DTEND;TZID=Europe/Ljubljana:20240628T120000
DTSTAMP:20260426T014150Z
UID:fmf-AFLABS-URNIK:rezervacija:16671
CATEGORIES:Reservation
COLOR:royalblue
DESCRIPTION:Predmeti: \nLetniki: \nIzvajalci: Sergio Cabello\, Vesna Irši
 č\nProstori: 3.06
LOCATION:3.06
ORGANIZER:Sergio Cabello, Vesna Iršič
X-WR-TIMEZONE:Europe/Ljubljana
END:VEVENT
BEGIN:VEVENT
SUMMARY:KARST meeting
DTSTART;TZID=Europe/Ljubljana:20240705T100000
DTEND;TZID=Europe/Ljubljana:20240705T120000
DTSTAMP:20260426T014150Z
UID:fmf-AFLABS-URNIK:rezervacija:16672
CATEGORIES:Reservation
COLOR:royalblue
DESCRIPTION:Predmeti: \nLetniki: \nIzvajalci: Sergio Cabello\, Vesna Irši
 č\nProstori: 3.06
LOCATION:3.06
ORGANIZER:Sergio Cabello, Vesna Iršič
X-WR-TIMEZONE:Europe/Ljubljana
END:VEVENT
BEGIN:VEVENT
SUMMARY:KARST meeting
DTSTART;TZID=Europe/Ljubljana:20240712T100000
DTEND;TZID=Europe/Ljubljana:20240712T120000
DTSTAMP:20260426T014150Z
UID:fmf-AFLABS-URNIK:rezervacija:16673
CATEGORIES:Reservation
COLOR:royalblue
DESCRIPTION:Predmeti: \nLetniki: \nIzvajalci: Sergio Cabello\, Vesna Irši
 č\nProstori: 3.06
LOCATION:3.06
ORGANIZER:Sergio Cabello, Vesna Iršič
X-WR-TIMEZONE:Europe/Ljubljana
END:VEVENT
BEGIN:VEVENT
SUMMARY:Zagovori MZR
DTSTART;TZID=Europe/Ljubljana:20240529T150000
DTEND;TZID=Europe/Ljubljana:20240529T180000
DTSTAMP:20260426T014150Z
UID:fmf-AFLABS-URNIK:rezervacija:16674
ATTENDEE:5. letnik (PM)
ATTENDEE:magistrski študij (FM)
ATTENDEE:magistrski študij (IŠRM)
ATTENDEE:magistrski študij (M)
CATEGORIES:Reservation
COLOR:royalblue
DESCRIPTION:Predmeti: Matematika z računalnikom (FM-M\, IŠRM-M\, MAT-M\,
  PM-5)\nLetniki: magistrski študij (FM)\, magistrski študij (IŠRM)\, ma
 gistrski študij (M)\, 5. letnik (PM)\nIzvajalci: Sergio Cabello\nProstori
 : 3.07
LOCATION:3.07
ORGANIZER:Sergio Cabello
X-WR-TIMEZONE:Europe/Ljubljana
END:VEVENT
BEGIN:VEVENT
SUMMARY:Zagovori MZR
DTSTART;TZID=Europe/Ljubljana:20240530T150000
DTEND;TZID=Europe/Ljubljana:20240530T180000
DTSTAMP:20260426T014150Z
UID:fmf-AFLABS-URNIK:rezervacija:16675
ATTENDEE:5. letnik (PM)
ATTENDEE:magistrski študij (FM)
ATTENDEE:magistrski študij (IŠRM)
ATTENDEE:magistrski študij (M)
CATEGORIES:Reservation
COLOR:royalblue
DESCRIPTION:Predmeti: Matematika z računalnikom (FM-M\, IŠRM-M\, MAT-M\,
  PM-5)\nLetniki: magistrski študij (FM)\, magistrski študij (IŠRM)\, ma
 gistrski študij (M)\, 5. letnik (PM)\nIzvajalci: Sergio Cabello\nProstori
 : 3.07
LOCATION:3.07
ORGANIZER:Sergio Cabello
X-WR-TIMEZONE:Europe/Ljubljana
END:VEVENT
BEGIN:VEVENT
SUMMARY:Zagovori MZR
DTSTART;TZID=Europe/Ljubljana:20240531T120000
DTEND;TZID=Europe/Ljubljana:20240531T150000
DTSTAMP:20260426T014150Z
UID:fmf-AFLABS-URNIK:rezervacija:16677
ATTENDEE:5. letnik (PM)
ATTENDEE:magistrski študij (FM)
ATTENDEE:magistrski študij (IŠRM)
ATTENDEE:magistrski študij (M)
CATEGORIES:Reservation
COLOR:royalblue
DESCRIPTION:Predmeti: Matematika z računalnikom (FM-M\, IŠRM-M\, MAT-M\,
  PM-5)\nLetniki: magistrski študij (FM)\, magistrski študij (IŠRM)\, ma
 gistrski študij (M)\, 5. letnik (PM)\nIzvajalci: Sergio Cabello\nProstori
 : 3.07
LOCATION:3.07
ORGANIZER:Sergio Cabello
X-WR-TIMEZONE:Europe/Ljubljana
END:VEVENT
BEGIN:VEVENT
SUMMARY:Zagovori MZR
DTSTART;TZID=Europe/Ljubljana:20240603T100000
DTEND;TZID=Europe/Ljubljana:20240603T130000
DTSTAMP:20260426T014150Z
UID:fmf-AFLABS-URNIK:rezervacija:16678
ATTENDEE:5. letnik (PM)
ATTENDEE:magistrski študij (FM)
ATTENDEE:magistrski študij (IŠRM)
ATTENDEE:magistrski študij (M)
CATEGORIES:Reservation
COLOR:royalblue
DESCRIPTION:Predmeti: Matematika z računalnikom (FM-M\, IŠRM-M\, MAT-M\,
  PM-5)\nLetniki: magistrski študij (FM)\, magistrski študij (IŠRM)\, ma
 gistrski študij (M)\, 5. letnik (PM)\nIzvajalci: Sergio Cabello\nProstori
 : 3.07
LOCATION:3.07
ORGANIZER:Sergio Cabello
X-WR-TIMEZONE:Europe/Ljubljana
END:VEVENT
BEGIN:VEVENT
SUMMARY:Zagovori MZR
DTSTART;TZID=Europe/Ljubljana:20240604T100000
DTEND;TZID=Europe/Ljubljana:20240604T130000
DTSTAMP:20260426T014150Z
UID:fmf-AFLABS-URNIK:rezervacija:16679
ATTENDEE:5. letnik (PM)
ATTENDEE:magistrski študij (FM)
ATTENDEE:magistrski študij (IŠRM)
ATTENDEE:magistrski študij (M)
CATEGORIES:Reservation
COLOR:royalblue
DESCRIPTION:Predmeti: Matematika z računalnikom (FM-M\, IŠRM-M\, MAT-M\,
  PM-5)\nLetniki: magistrski študij (FM)\, magistrski študij (IŠRM)\, ma
 gistrski študij (M)\, 5. letnik (PM)\nIzvajalci: Sergio Cabello\nProstori
 : 3.07
LOCATION:3.07
ORGANIZER:Sergio Cabello
X-WR-TIMEZONE:Europe/Ljubljana
END:VEVENT
BEGIN:VEVENT
SUMMARY:Zagovori MZR
DTSTART;TZID=Europe/Ljubljana:20240606T120000
DTEND;TZID=Europe/Ljubljana:20240606T150000
DTSTAMP:20260426T014150Z
UID:fmf-AFLABS-URNIK:rezervacija:16680
ATTENDEE:5. letnik (PM)
ATTENDEE:magistrski študij (FM)
ATTENDEE:magistrski študij (IŠRM)
ATTENDEE:magistrski študij (M)
CATEGORIES:Reservation
COLOR:royalblue
DESCRIPTION:Predmeti: Matematika z računalnikom (FM-M\, IŠRM-M\, MAT-M\,
  PM-5)\nLetniki: magistrski študij (FM)\, magistrski študij (IŠRM)\, ma
 gistrski študij (M)\, 5. letnik (PM)\nIzvajalci: Sergio Cabello\nProstori
 : 3.07
LOCATION:3.07
ORGANIZER:Sergio Cabello
X-WR-TIMEZONE:Europe/Ljubljana
END:VEVENT
BEGIN:VEVENT
SUMMARY:Zagovori MZR
DTSTART;TZID=Europe/Ljubljana:20240607T120000
DTEND;TZID=Europe/Ljubljana:20240607T170000
DTSTAMP:20260426T014150Z
UID:fmf-AFLABS-URNIK:rezervacija:16682
ATTENDEE:5. letnik (PM)
ATTENDEE:magistrski študij (FM)
ATTENDEE:magistrski študij (IŠRM)
ATTENDEE:magistrski študij (M)
CATEGORIES:Reservation
COLOR:royalblue
DESCRIPTION:Predmeti: Matematika z računalnikom (FM-M\, IŠRM-M\, MAT-M\,
  PM-5)\nLetniki: magistrski študij (FM)\, magistrski študij (IŠRM)\, ma
 gistrski študij (M)\, 5. letnik (PM)\nIzvajalci: Sergio Cabello\nProstori
 : 3.07
LOCATION:3.07
ORGANIZER:Sergio Cabello
X-WR-TIMEZONE:Europe/Ljubljana
END:VEVENT
END:VCALENDAR
