BEGIN:VCALENDAR
VERSION:2.0
PRODID:-//AFLabs urnik izvoz - fmf//aflabs.si//SI
DTSTAMP:20260425T203006Z
NAME:UL FMF urnik
REFRESH-INTERVAL:PT1H
SOURCE:https://urnik.fmf.uni-lj.si/en/teacher/46?day=2025-07-07&export=1
URL:https://urnik.fmf.uni-lj.si/en/teacher/46?day=2025-07-07&export=1
X-PUBLISHED-TTL:PT1H
X-WR-CALNAME:UL FMF urnik
X-WR-TIMEZONE:Europe/Ljubljana
BEGIN:VTIMEZONE
TZID:Europe/Ljubljana
BEGIN:DAYLIGHT
DTSTART:20260329T020000
RDATE:20260329T020000
RDATE:20270328T020000
TZNAME:CEST
TZOFFSETFROM:+0100
TZOFFSETTO:+0200
END:DAYLIGHT
BEGIN:STANDARD
DTSTART:20261025T030000
RDATE:20261025T030000
RDATE:20271031T030000
TZNAME:CET
TZOFFSETFROM:+0200
TZOFFSETTO:+0100
END:STANDARD
END:VTIMEZONE
BEGIN:VEVENT
SUMMARY:Seminar za temelje
DTSTART;TZID=Europe/Ljubljana:20250925T100000
DTEND;TZID=Europe/Ljubljana:20250925T120000
DTSTAMP:20260425T203006Z
UID:fmf-AFLABS-URNIK:rezervacija:24203
ATTENDEE:doktorski študij (M)
CATEGORIES:Reservation
COLOR:royalblue
DESCRIPTION:Predmeti: Seminar za temelje (MAT-D)\nLetniki: doktorski štud
 ij (M)\nIzvajalci: Andrej Bauer\nProstori: 3.04
LOCATION:3.04
ORGANIZER:Andrej Bauer
X-WR-TIMEZONE:Europe/Ljubljana
END:VEVENT
BEGIN:VEVENT
SUMMARY:Seminar za temelje
DTSTART;TZID=Europe/Ljubljana:20250918T100000
DTEND;TZID=Europe/Ljubljana:20250918T120000
DTSTAMP:20260425T203006Z
UID:fmf-AFLABS-URNIK:rezervacija:24106
ATTENDEE:doktorski študij (M)
CATEGORIES:Reservation
COLOR:royalblue
DESCRIPTION:Predmeti: Seminar za temelje (MAT-D)\nLetniki: doktorski štud
 ij (M)\nIzvajalci: Andrej Bauer\nProstori: 3.05
LOCATION:3.05
ORGANIZER:Andrej Bauer
X-WR-TIMEZONE:Europe/Ljubljana
END:VEVENT
BEGIN:VEVENT
SUMMARY:Seja pokomisije HK UL
DTSTART;TZID=Europe/Ljubljana:20250618T120000
DTEND;TZID=Europe/Ljubljana:20250618T140000
DTSTAMP:20260425T203006Z
UID:fmf-AFLABS-URNIK:rezervacija:22455
CATEGORIES:Reservation
COLOR:royalblue
DESCRIPTION:Predmeti: \nLetniki: \nIzvajalci: Andrej Bauer\nProstori: 3.05
 \, 3.06\, 3.07
LOCATION:3.05\, 3.06\, 3.07
ORGANIZER:Andrej Bauer
X-WR-TIMEZONE:Europe/Ljubljana
END:VEVENT
BEGIN:VEVENT
SUMMARY:Seminar za temelje
DTSTART;TZID=Europe/Ljubljana:20250626T100000
DTEND;TZID=Europe/Ljubljana:20250626T120000
DTSTAMP:20260425T203006Z
UID:fmf-AFLABS-URNIK:rezervacija:22972
ATTENDEE:doktorski študij (M)
CATEGORIES:Reservation
COLOR:royalblue
DESCRIPTION:Predmeti: Seminar za temelje (MAT-D)\nLetniki: doktorski štud
 ij (M)\nIzvajalci: Andrej Bauer\nProstori: 3.05
LOCATION:3.05
ORGANIZER:Andrej Bauer
X-WR-TIMEZONE:Europe/Ljubljana
END:VEVENT
BEGIN:VEVENT
SUMMARY:Seja HK UL
DTSTART;TZID=Europe/Ljubljana:20250618T130000
DTEND;TZID=Europe/Ljubljana:20250618T200000
DTSTAMP:20260425T203006Z
UID:fmf-AFLABS-URNIK:rezervacija:22451
CATEGORIES:Reservation
COLOR:royalblue
DESCRIPTION:Predmeti: \nLetniki: \nIzvajalci: Andrej Bauer\nProstori: 3.04
LOCATION:3.04
ORGANIZER:Andrej Bauer
X-WR-TIMEZONE:Europe/Ljubljana
END:VEVENT
BEGIN:VEVENT
SUMMARY:Seminar za temelje
DTSTART;TZID=Europe/Ljubljana:20250703T100000
DTEND;TZID=Europe/Ljubljana:20250703T120000
DTSTAMP:20260425T203006Z
UID:fmf-AFLABS-URNIK:rezervacija:23263
ATTENDEE:doktorski študij (M)
CATEGORIES:Reservation
COLOR:royalblue
DESCRIPTION:Predmeti: Seminar za temelje (MAT-D)\nLetniki: doktorski štud
 ij (M)\nIzvajalci: Andrej Bauer\, Katja Berčič\nProstori: 1.01
LOCATION:1.01
ORGANIZER:Andrej Bauer, Katja Berčič
X-WR-TIMEZONE:Europe/Ljubljana
END:VEVENT
BEGIN:VEVENT
SUMMARY:Seminar za temelje
DTSTART;TZID=Europe/Ljubljana:20250619T100000
DTEND;TZID=Europe/Ljubljana:20250619T120000
DTSTAMP:20260425T203006Z
UID:fmf-AFLABS-URNIK:rezervacija:22971
ATTENDEE:doktorski študij (M)
CATEGORIES:Reservation
COLOR:royalblue
DESCRIPTION:Predmeti: Seminar za temelje (MAT-D)\nLetniki: doktorski štud
 ij (M)\nIzvajalci: Andrej Bauer\nProstori: 3.05
LOCATION:3.05
ORGANIZER:Andrej Bauer
X-WR-TIMEZONE:Europe/Ljubljana
END:VEVENT
BEGIN:VEVENT
SUMMARY:Seminar za temelje
DTSTART;TZID=Europe/Ljubljana:20250904T100000
DTEND;TZID=Europe/Ljubljana:20250904T120000
DTSTAMP:20260425T203006Z
UID:fmf-AFLABS-URNIK:rezervacija:23649
ATTENDEE:doktorski študij (M)
CATEGORIES:Reservation
COLOR:royalblue
DESCRIPTION:Predmeti: Seminar za temelje (MAT-D)\nLetniki: doktorski štud
 ij (M)\nIzvajalci: Andrej Bauer\nProstori: 2.03
LOCATION:2.03
ORGANIZER:Andrej Bauer
X-WR-TIMEZONE:Europe/Ljubljana
END:VEVENT
END:VCALENDAR
