BEGIN:VCALENDAR
VERSION:2.0
PRODID:-//AFLabs urnik izvoz - fmf//aflabs.si//SI
DTSTAMP:20260425T195907Z
NAME:UL FMF urnik
REFRESH-INTERVAL:PT1H
SOURCE:https://urnik.fmf.uni-lj.si/en/teacher/47?day=2024-07-08&export=1
URL:https://urnik.fmf.uni-lj.si/en/teacher/47?day=2024-07-08&export=1
X-PUBLISHED-TTL:PT1H
X-WR-CALNAME:UL FMF urnik
X-WR-TIMEZONE:Europe/Ljubljana
BEGIN:VTIMEZONE
TZID:Europe/Ljubljana
BEGIN:DAYLIGHT
DTSTART:20260329T020000
RDATE:20260329T020000
RDATE:20270328T020000
TZNAME:CEST
TZOFFSETFROM:+0100
TZOFFSETTO:+0200
END:DAYLIGHT
BEGIN:STANDARD
DTSTART:20261025T030000
RDATE:20261025T030000
RDATE:20271031T030000
TZNAME:CET
TZOFFSETFROM:+0200
TZOFFSETTO:+0100
END:STANDARD
END:VTIMEZONE
BEGIN:VEVENT
SUMMARY:Programerski klub
DTSTART;TZID=Europe/Ljubljana:20240708T160000
DTEND;TZID=Europe/Ljubljana:20240708T200000
DTSTAMP:20260425T195907Z
UID:fmf-AFLABS-URNIK:rezervacija:17262
CATEGORIES:Reservation
COLOR:royalblue
DESCRIPTION:Predmeti: Programerski klub ()\nLetniki: \nIzvajalci: Matija P
 retnar\nProstori: P.01
LOCATION:P.01
ORGANIZER:Matija Pretnar
X-WR-TIMEZONE:Europe/Ljubljana
END:VEVENT
BEGIN:VEVENT
SUMMARY:Programerski klub
DTSTART;TZID=Europe/Ljubljana:20240715T160000
DTEND;TZID=Europe/Ljubljana:20240715T200000
DTSTAMP:20260425T195907Z
UID:fmf-AFLABS-URNIK:rezervacija:17263
CATEGORIES:Reservation
COLOR:royalblue
DESCRIPTION:Predmeti: Programerski klub ()\nLetniki: \nIzvajalci: Matija P
 retnar\nProstori: P.01
LOCATION:P.01
ORGANIZER:Matija Pretnar
X-WR-TIMEZONE:Europe/Ljubljana
END:VEVENT
BEGIN:VEVENT
SUMMARY:Programerski klub
DTSTART;TZID=Europe/Ljubljana:20240722T160000
DTEND;TZID=Europe/Ljubljana:20240722T200000
DTSTAMP:20260425T195907Z
UID:fmf-AFLABS-URNIK:rezervacija:17264
CATEGORIES:Reservation
COLOR:royalblue
DESCRIPTION:Predmeti: Programerski klub ()\nLetniki: \nIzvajalci: Matija P
 retnar\nProstori: P.01
LOCATION:P.01
ORGANIZER:Matija Pretnar
X-WR-TIMEZONE:Europe/Ljubljana
END:VEVENT
BEGIN:VEVENT
SUMMARY:Programerski klub
DTSTART;TZID=Europe/Ljubljana:20240729T160000
DTEND;TZID=Europe/Ljubljana:20240729T200000
DTSTAMP:20260425T195907Z
UID:fmf-AFLABS-URNIK:rezervacija:17265
CATEGORIES:Reservation
COLOR:royalblue
DESCRIPTION:Predmeti: Programerski klub ()\nLetniki: \nIzvajalci: Matija P
 retnar\nProstori: P.01
LOCATION:P.01
ORGANIZER:Matija Pretnar
X-WR-TIMEZONE:Europe/Ljubljana
END:VEVENT
BEGIN:VEVENT
SUMMARY:Programerski klub
DTSTART;TZID=Europe/Ljubljana:20240805T160000
DTEND;TZID=Europe/Ljubljana:20240805T200000
DTSTAMP:20260425T195907Z
UID:fmf-AFLABS-URNIK:rezervacija:17266
CATEGORIES:Reservation
COLOR:royalblue
DESCRIPTION:Predmeti: Programerski klub ()\nLetniki: \nIzvajalci: Matija P
 retnar\nProstori: P.01
LOCATION:P.01
ORGANIZER:Matija Pretnar
X-WR-TIMEZONE:Europe/Ljubljana
END:VEVENT
BEGIN:VEVENT
SUMMARY:Programerski klub
DTSTART;TZID=Europe/Ljubljana:20240812T160000
DTEND;TZID=Europe/Ljubljana:20240812T200000
DTSTAMP:20260425T195907Z
UID:fmf-AFLABS-URNIK:rezervacija:17267
CATEGORIES:Reservation
COLOR:royalblue
DESCRIPTION:Predmeti: Programerski klub ()\nLetniki: \nIzvajalci: Matija P
 retnar\nProstori: P.01
LOCATION:P.01
ORGANIZER:Matija Pretnar
X-WR-TIMEZONE:Europe/Ljubljana
END:VEVENT
BEGIN:VEVENT
SUMMARY:Programerski klub
DTSTART;TZID=Europe/Ljubljana:20240701T160000
DTEND;TZID=Europe/Ljubljana:20240701T200000
DTSTAMP:20260425T195907Z
UID:fmf-AFLABS-URNIK:rezervacija:17458
CATEGORIES:Reservation
COLOR:royalblue
DESCRIPTION:Predmeti: Programerski klub ()\nLetniki: \nIzvajalci: Matija P
 retnar\nProstori: 2.03
LOCATION:2.03
ORGANIZER:Matija Pretnar
X-WR-TIMEZONE:Europe/Ljubljana
END:VEVENT
END:VCALENDAR
