BEGIN:VCALENDAR
VERSION:2.0
PRODID:-//AFLabs urnik izvoz - fmf//aflabs.si//SI
DTSTAMP:20260425T103946Z
NAME:UL FMF urnik
REFRESH-INTERVAL:PT1H
SOURCE:https://urnik.fmf.uni-lj.si/en/teacher/55?day=2019-06-17&export=1
URL:https://urnik.fmf.uni-lj.si/en/teacher/55?day=2019-06-17&export=1
X-PUBLISHED-TTL:PT1H
X-WR-CALNAME:UL FMF urnik
X-WR-TIMEZONE:Europe/Ljubljana
BEGIN:VTIMEZONE
TZID:Europe/Ljubljana
BEGIN:DAYLIGHT
DTSTART:20260329T020000
RDATE:20260329T020000
RDATE:20270328T020000
TZNAME:CEST
TZOFFSETFROM:+0100
TZOFFSETTO:+0200
END:DAYLIGHT
BEGIN:STANDARD
DTSTART:20261025T030000
RDATE:20261025T030000
RDATE:20271031T030000
TZNAME:CET
TZOFFSETFROM:+0200
TZOFFSETTO:+0100
END:STANDARD
END:VTIMEZONE
BEGIN:VEVENT
SUMMARY:Analiza 1 (MAT-1\, PM-1)\, Vaje (V)\, [2]
DTSTART;TZID=Europe/Ljubljana:20190513T080000
DTEND;TZID=Europe/Ljubljana:20190513T100000
DTSTAMP:20260425T103946Z
UID:fmf-AFLABS-URNIK:premaknjeno-srecanje:5682
ATTENDEE:1. letnik (M)
ATTENDEE:1. letnik (PM)
CATEGORIES:Entry,Standard
COLOR:darkgreen
DESCRIPTION:Predmet: Analiza 1 (MAT-1\, PM-1)\, Vaje (V)\, [2]\nLetniki: 1
 . letnik (M)\, 1. letnik (PM)\nIzvajalci: Uroš Kuzman\nProstor: 2.02
LOCATION:2.02
ORGANIZER:Uroš Kuzman
RELATED-TO:fmf-AFLABS-URNIK:srecanje:2523
X-WR-TIMEZONE:Europe/Ljubljana
END:VEVENT
BEGIN:VEVENT
SUMMARY:Analiza 1 (MAT-1\, PM-1)\, Vaje (V)\, [2]
DTSTART;TZID=Europe/Ljubljana:20190520T080000
DTEND;TZID=Europe/Ljubljana:20190520T100000
DTSTAMP:20260425T103946Z
UID:fmf-AFLABS-URNIK:premaknjeno-srecanje:5683
ATTENDEE:1. letnik (M)
ATTENDEE:1. letnik (PM)
CATEGORIES:Entry,Standard
COLOR:darkgreen
DESCRIPTION:Predmet: Analiza 1 (MAT-1\, PM-1)\, Vaje (V)\, [2]\nLetniki: 1
 . letnik (M)\, 1. letnik (PM)\nIzvajalci: Uroš Kuzman\nProstor: 2.02
LOCATION:2.02
ORGANIZER:Uroš Kuzman
RELATED-TO:fmf-AFLABS-URNIK:srecanje:2523
X-WR-TIMEZONE:Europe/Ljubljana
END:VEVENT
BEGIN:VEVENT
SUMMARY:Analiza 1 (MAT-1\, PM-1)\, Vaje (V)\, [2]
DTSTART;TZID=Europe/Ljubljana:20190527T080000
DTEND;TZID=Europe/Ljubljana:20190527T100000
DTSTAMP:20260425T103946Z
UID:fmf-AFLABS-URNIK:premaknjeno-srecanje:5684
ATTENDEE:1. letnik (M)
ATTENDEE:1. letnik (PM)
CATEGORIES:Entry,Standard
COLOR:darkgreen
DESCRIPTION:Predmet: Analiza 1 (MAT-1\, PM-1)\, Vaje (V)\, [2]\nLetniki: 1
 . letnik (M)\, 1. letnik (PM)\nIzvajalci: Uroš Kuzman\nProstor: 2.02
LOCATION:2.02
ORGANIZER:Uroš Kuzman
RELATED-TO:fmf-AFLABS-URNIK:srecanje:2523
X-WR-TIMEZONE:Europe/Ljubljana
END:VEVENT
BEGIN:VEVENT
SUMMARY:Analiza 1 (MAT-1\, PM-1)\, Vaje (V)\, [2]
DTSTART;TZID=Europe/Ljubljana:20190603T080000
DTEND;TZID=Europe/Ljubljana:20190603T100000
DTSTAMP:20260425T103946Z
UID:fmf-AFLABS-URNIK:premaknjeno-srecanje:5685
ATTENDEE:1. letnik (M)
ATTENDEE:1. letnik (PM)
CATEGORIES:Entry,Standard
COLOR:darkgreen
DESCRIPTION:Predmet: Analiza 1 (MAT-1\, PM-1)\, Vaje (V)\, [2]\nLetniki: 1
 . letnik (M)\, 1. letnik (PM)\nIzvajalci: Uroš Kuzman\nProstor: 2.02
LOCATION:2.02
ORGANIZER:Uroš Kuzman
RELATED-TO:fmf-AFLABS-URNIK:srecanje:2523
X-WR-TIMEZONE:Europe/Ljubljana
END:VEVENT
BEGIN:VEVENT
SUMMARY:Diferencialne enačbe (APF-2\, APM-2)\, Predavanja (P)
DTSTART;TZID=Europe/Ljubljana:20190513T100000
DTEND;TZID=Europe/Ljubljana:20190513T120000
DTSTAMP:20260425T103946Z
UID:fmf-AFLABS-URNIK:premaknjeno-srecanje:14617
ATTENDEE:2. letnik (APM)
ATTENDEE:2. letnik (Aplikativna fizika)
CATEGORIES:Entry,Standard
COLOR:darkgreen
DESCRIPTION:Predmet: Diferencialne enačbe (APF-2\, APM-2)\, Predavanja (P
 )\nLetniki: 2. letnik (Aplikativna fizika)\, 2. letnik (APM)\nIzvajalci: U
 roš Kuzman\nProstor: 3.04
LOCATION:3.04
ORGANIZER:Uroš Kuzman
RELATED-TO:fmf-AFLABS-URNIK:srecanje:2564
X-WR-TIMEZONE:Europe/Ljubljana
END:VEVENT
BEGIN:VEVENT
SUMMARY:Diferencialne enačbe (APF-2\, APM-2)\, Predavanja (P)
DTSTART;TZID=Europe/Ljubljana:20190520T100000
DTEND;TZID=Europe/Ljubljana:20190520T120000
DTSTAMP:20260425T103946Z
UID:fmf-AFLABS-URNIK:premaknjeno-srecanje:14618
ATTENDEE:2. letnik (APM)
ATTENDEE:2. letnik (Aplikativna fizika)
CATEGORIES:Entry,Standard
COLOR:darkgreen
DESCRIPTION:Predmet: Diferencialne enačbe (APF-2\, APM-2)\, Predavanja (P
 )\nLetniki: 2. letnik (Aplikativna fizika)\, 2. letnik (APM)\nIzvajalci: U
 roš Kuzman\nProstor: 3.04
LOCATION:3.04
ORGANIZER:Uroš Kuzman
RELATED-TO:fmf-AFLABS-URNIK:srecanje:2564
X-WR-TIMEZONE:Europe/Ljubljana
END:VEVENT
BEGIN:VEVENT
SUMMARY:Diferencialne enačbe (APF-2\, APM-2)\, Predavanja (P)
DTSTART;TZID=Europe/Ljubljana:20190527T100000
DTEND;TZID=Europe/Ljubljana:20190527T120000
DTSTAMP:20260425T103946Z
UID:fmf-AFLABS-URNIK:premaknjeno-srecanje:14619
ATTENDEE:2. letnik (APM)
ATTENDEE:2. letnik (Aplikativna fizika)
CATEGORIES:Entry,Standard
COLOR:darkgreen
DESCRIPTION:Predmet: Diferencialne enačbe (APF-2\, APM-2)\, Predavanja (P
 )\nLetniki: 2. letnik (Aplikativna fizika)\, 2. letnik (APM)\nIzvajalci: U
 roš Kuzman\nProstor: 3.04
LOCATION:3.04
ORGANIZER:Uroš Kuzman
RELATED-TO:fmf-AFLABS-URNIK:srecanje:2564
X-WR-TIMEZONE:Europe/Ljubljana
END:VEVENT
BEGIN:VEVENT
SUMMARY:Diferencialne enačbe (APF-2\, APM-2)\, Predavanja (P)
DTSTART;TZID=Europe/Ljubljana:20190603T100000
DTEND;TZID=Europe/Ljubljana:20190603T120000
DTSTAMP:20260425T103946Z
UID:fmf-AFLABS-URNIK:premaknjeno-srecanje:14620
ATTENDEE:2. letnik (APM)
ATTENDEE:2. letnik (Aplikativna fizika)
CATEGORIES:Entry,Standard
COLOR:darkgreen
DESCRIPTION:Predmet: Diferencialne enačbe (APF-2\, APM-2)\, Predavanja (P
 )\nLetniki: 2. letnik (Aplikativna fizika)\, 2. letnik (APM)\nIzvajalci: U
 roš Kuzman\nProstor: 3.04
LOCATION:3.04
ORGANIZER:Uroš Kuzman
RELATED-TO:fmf-AFLABS-URNIK:srecanje:2564
X-WR-TIMEZONE:Europe/Ljubljana
END:VEVENT
BEGIN:VEVENT
SUMMARY:Analiza 1 (MAT-1\, PM-1)\, Vaje (V)\, [2]
DTSTART;TZID=Europe/Ljubljana:20190516T120000
DTEND;TZID=Europe/Ljubljana:20190516T140000
DTSTAMP:20260425T103946Z
UID:fmf-AFLABS-URNIK:premaknjeno-srecanje:6075
ATTENDEE:1. letnik (M)
ATTENDEE:1. letnik (PM)
CATEGORIES:Entry,Standard
COLOR:darkgreen
DESCRIPTION:Predmet: Analiza 1 (MAT-1\, PM-1)\, Vaje (V)\, [2]\nLetniki: 1
 . letnik (M)\, 1. letnik (PM)\nIzvajalci: Uroš Kuzman\nProstor: ne obstaj
 a več - P.05
LOCATION:ne obstaja več - P.05
ORGANIZER:Uroš Kuzman
RELATED-TO:fmf-AFLABS-URNIK:srecanje:2524
X-WR-TIMEZONE:Europe/Ljubljana
END:VEVENT
BEGIN:VEVENT
SUMMARY:Analiza 1 (MAT-1\, PM-1)\, Vaje (V)\, [2]
DTSTART;TZID=Europe/Ljubljana:20190523T120000
DTEND;TZID=Europe/Ljubljana:20190523T140000
DTSTAMP:20260425T103946Z
UID:fmf-AFLABS-URNIK:premaknjeno-srecanje:6076
ATTENDEE:1. letnik (M)
ATTENDEE:1. letnik (PM)
CATEGORIES:Entry,Standard
COLOR:darkgreen
DESCRIPTION:Predmet: Analiza 1 (MAT-1\, PM-1)\, Vaje (V)\, [2]\nLetniki: 1
 . letnik (M)\, 1. letnik (PM)\nIzvajalci: Uroš Kuzman\nProstor: ne obstaj
 a več - P.05
LOCATION:ne obstaja več - P.05
ORGANIZER:Uroš Kuzman
RELATED-TO:fmf-AFLABS-URNIK:srecanje:2524
X-WR-TIMEZONE:Europe/Ljubljana
END:VEVENT
BEGIN:VEVENT
SUMMARY:Analiza 1 (MAT-1\, PM-1)\, Vaje (V)\, [2]
DTSTART;TZID=Europe/Ljubljana:20190530T120000
DTEND;TZID=Europe/Ljubljana:20190530T140000
DTSTAMP:20260425T103946Z
UID:fmf-AFLABS-URNIK:premaknjeno-srecanje:6077
ATTENDEE:1. letnik (M)
ATTENDEE:1. letnik (PM)
CATEGORIES:Entry,Standard
COLOR:darkgreen
DESCRIPTION:Predmet: Analiza 1 (MAT-1\, PM-1)\, Vaje (V)\, [2]\nLetniki: 1
 . letnik (M)\, 1. letnik (PM)\nIzvajalci: Uroš Kuzman\nProstor: ne obstaj
 a več - P.05
LOCATION:ne obstaja več - P.05
ORGANIZER:Uroš Kuzman
RELATED-TO:fmf-AFLABS-URNIK:srecanje:2524
X-WR-TIMEZONE:Europe/Ljubljana
END:VEVENT
BEGIN:VEVENT
SUMMARY:Matematika 2 (APM-2)\, Predavanja (P)
DTSTART;TZID=Europe/Ljubljana:20190516T080000
DTEND;TZID=Europe/Ljubljana:20190516T110000
DTSTAMP:20260425T103946Z
UID:fmf-AFLABS-URNIK:premaknjeno-srecanje:63222
ATTENDEE:2. letnik (APM)
CATEGORIES:Entry,Standard
COLOR:darkgreen
DESCRIPTION:Predmet: Matematika 2 (APM-2)\, Predavanja (P)\nLetniki: 2. le
 tnik (APM)\nIzvajalci: Uroš Kuzman\nProstor: ne obstaja več - P.05
LOCATION:ne obstaja več - P.05
ORGANIZER:Uroš Kuzman
RELATED-TO:fmf-AFLABS-URNIK:srecanje:2783
X-WR-TIMEZONE:Europe/Ljubljana
END:VEVENT
BEGIN:VEVENT
SUMMARY:Matematika 2 (APM-2)\, Predavanja (P)
DTSTART;TZID=Europe/Ljubljana:20190523T080000
DTEND;TZID=Europe/Ljubljana:20190523T110000
DTSTAMP:20260425T103946Z
UID:fmf-AFLABS-URNIK:premaknjeno-srecanje:63223
ATTENDEE:2. letnik (APM)
CATEGORIES:Entry,Standard
COLOR:darkgreen
DESCRIPTION:Predmet: Matematika 2 (APM-2)\, Predavanja (P)\nLetniki: 2. le
 tnik (APM)\nIzvajalci: Uroš Kuzman\nProstor: ne obstaja več - P.05
LOCATION:ne obstaja več - P.05
ORGANIZER:Uroš Kuzman
RELATED-TO:fmf-AFLABS-URNIK:srecanje:2783
X-WR-TIMEZONE:Europe/Ljubljana
END:VEVENT
BEGIN:VEVENT
SUMMARY:Matematika 2 (APM-2)\, Predavanja (P)
DTSTART;TZID=Europe/Ljubljana:20190530T080000
DTEND;TZID=Europe/Ljubljana:20190530T110000
DTSTAMP:20260425T103946Z
UID:fmf-AFLABS-URNIK:premaknjeno-srecanje:63224
ATTENDEE:2. letnik (APM)
CATEGORIES:Entry,Standard
COLOR:darkgreen
DESCRIPTION:Predmet: Matematika 2 (APM-2)\, Predavanja (P)\nLetniki: 2. le
 tnik (APM)\nIzvajalci: Uroš Kuzman\nProstor: ne obstaja več - P.05
LOCATION:ne obstaja več - P.05
ORGANIZER:Uroš Kuzman
RELATED-TO:fmf-AFLABS-URNIK:srecanje:2783
X-WR-TIMEZONE:Europe/Ljubljana
END:VEVENT
BEGIN:VEVENT
SUMMARY:Rezervacija
DTSTART;TZID=Europe/Ljubljana:20190513T140000
DTEND;TZID=Europe/Ljubljana:20190513T160000
DTSTAMP:20260425T103946Z
UID:fmf-AFLABS-URNIK:rezervacija:3136
CATEGORIES:Reservation
COLOR:royalblue
DESCRIPTION:Predmeti: \nLetniki: \nIzvajalci: Uroš Kuzman\nProstori: 3.06
LOCATION:3.06
ORGANIZER:Uroš Kuzman
X-WR-TIMEZONE:Europe/Ljubljana
END:VEVENT
BEGIN:VEVENT
SUMMARY:Rezervacija
DTSTART;TZID=Europe/Ljubljana:20190514T080000
DTEND;TZID=Europe/Ljubljana:20190514T100000
DTSTAMP:20260425T103946Z
UID:fmf-AFLABS-URNIK:rezervacija:3144
CATEGORIES:Reservation
COLOR:royalblue
DESCRIPTION:Predmeti: \nLetniki: \nIzvajalci: Uroš Kuzman\nProstori: 2.02
LOCATION:2.02
ORGANIZER:Uroš Kuzman
X-WR-TIMEZONE:Europe/Ljubljana
END:VEVENT
BEGIN:VEVENT
SUMMARY:Rezervacija
DTSTART;TZID=Europe/Ljubljana:20190614T090000
DTEND;TZID=Europe/Ljubljana:20190614T100000
DTSTAMP:20260425T103946Z
UID:fmf-AFLABS-URNIK:rezervacija:3509
CATEGORIES:Reservation
COLOR:royalblue
DESCRIPTION:Predmeti: \nLetniki: \nIzvajalci: Uroš Kuzman\nProstori: 3.05
LOCATION:3.05
ORGANIZER:Uroš Kuzman
X-WR-TIMEZONE:Europe/Ljubljana
END:VEVENT
BEGIN:VEVENT
SUMMARY:Rezervacija
DTSTART;TZID=Europe/Ljubljana:20190620T090000
DTEND;TZID=Europe/Ljubljana:20190620T100000
DTSTAMP:20260425T103946Z
UID:fmf-AFLABS-URNIK:rezervacija:3581
CATEGORIES:Reservation
COLOR:royalblue
DESCRIPTION:Predmeti: \nLetniki: \nIzvajalci: Uroš Kuzman\nProstori: 3.05
LOCATION:3.05
ORGANIZER:Uroš Kuzman
X-WR-TIMEZONE:Europe/Ljubljana
END:VEVENT
BEGIN:VEVENT
SUMMARY:Rezervacija
DTSTART;TZID=Europe/Ljubljana:20190627T100000
DTEND;TZID=Europe/Ljubljana:20190627T120000
DTSTAMP:20260425T103946Z
UID:fmf-AFLABS-URNIK:rezervacija:3747
CATEGORIES:Reservation
COLOR:royalblue
DESCRIPTION:Predmeti: \nLetniki: \nIzvajalci: Jure Kališnik\, Uroš Kuzma
 n\nProstori: 2.05
LOCATION:2.05
ORGANIZER:Jure Kališnik, Uroš Kuzman
X-WR-TIMEZONE:Europe/Ljubljana
END:VEVENT
END:VCALENDAR
