BEGIN:VCALENDAR
VERSION:2.0
PRODID:-//AFLabs urnik izvoz - fmf//aflabs.si//SI
DTSTAMP:20260424T012036Z
NAME:UL FMF urnik
REFRESH-INTERVAL:PT1H
SOURCE:https://urnik.fmf.uni-lj.si/en/teacher/562?day=2024-06-10&export=1
URL:https://urnik.fmf.uni-lj.si/en/teacher/562?day=2024-06-10&export=1
X-PUBLISHED-TTL:PT1H
X-WR-CALNAME:UL FMF urnik
X-WR-TIMEZONE:Europe/Ljubljana
BEGIN:VTIMEZONE
TZID:Europe/Ljubljana
BEGIN:DAYLIGHT
DTSTART:20260329T020000
RDATE:20260329T020000
RDATE:20270328T020000
TZNAME:CEST
TZOFFSETFROM:+0100
TZOFFSETTO:+0200
END:DAYLIGHT
BEGIN:STANDARD
DTSTART:20261025T030000
RDATE:20261025T030000
RDATE:20271031T030000
TZNAME:CET
TZOFFSETFROM:+0200
TZOFFSETTO:+0100
END:STANDARD
END:VTIMEZONE
BEGIN:VEVENT
SUMMARY:Seminar I (FIZ-M1\, JET-2\, JET-1\, MEF-1\, PEF-1)\, Predavanja (P
 )
DTSTART;TZID=Europe/Ljubljana:20240508T110000
DTEND;TZID=Europe/Ljubljana:20240508T140000
DTSTAMP:20260424T012036Z
UID:fmf-AFLABS-URNIK:premaknjeno-srecanje:133945
ATTENDEE:1. letnik (Fizika, 2. stopnja)
ATTENDEE:1. letnik (Jedrska tehnika, 2. stopnja)
ATTENDEE:1. letnik (Medicinska fizika, 2. stopnja)
ATTENDEE:1. letnik (Pedagoška fizika, 2. stopnja)
ATTENDEE:2. letnik (Jedrska tehnika, 2. stopnja)
CATEGORIES:Entry,Standard
COLOR:darkgreen
DESCRIPTION:Predmet: Seminar I (FIZ-M1\, JET-2\, JET-1\, MEF-1\, PEF-1)\, 
 Predavanja (P)\nLetniki: 1. letnik (Fizika\, 2. stopnja)\, 2. letnik (Jedr
 ska tehnika\, 2. stopnja)\, 1. letnik (Jedrska tehnika\, 2. stopnja)\, 1. 
 letnik (Medicinska fizika\, 2. stopnja)\, 1. letnik (Pedagoška fizika\, 2
 . stopnja)\nIzvajalci: Denis Arčon\, Sašo Grozdanov\, Miha Muškinja\nPr
 ostor: F4
LOCATION:F4
ORGANIZER:Denis Arčon, Sašo Grozdanov, Miha Muškinja
RELATED-TO:fmf-AFLABS-URNIK:srecanje:10206
X-WR-TIMEZONE:Europe/Ljubljana
END:VEVENT
BEGIN:VEVENT
SUMMARY:Seminar I (FIZ-M1\, JET-2\, JET-1\, MEF-1\, PEF-1)\, Predavanja (P
 )
DTSTART;TZID=Europe/Ljubljana:20240515T110000
DTEND;TZID=Europe/Ljubljana:20240515T140000
DTSTAMP:20260424T012036Z
UID:fmf-AFLABS-URNIK:premaknjeno-srecanje:133946
ATTENDEE:1. letnik (Fizika, 2. stopnja)
ATTENDEE:1. letnik (Jedrska tehnika, 2. stopnja)
ATTENDEE:1. letnik (Medicinska fizika, 2. stopnja)
ATTENDEE:1. letnik (Pedagoška fizika, 2. stopnja)
ATTENDEE:2. letnik (Jedrska tehnika, 2. stopnja)
CATEGORIES:Entry,Standard
COLOR:darkgreen
DESCRIPTION:Predmet: Seminar I (FIZ-M1\, JET-2\, JET-1\, MEF-1\, PEF-1)\, 
 Predavanja (P)\nLetniki: 1. letnik (Fizika\, 2. stopnja)\, 2. letnik (Jedr
 ska tehnika\, 2. stopnja)\, 1. letnik (Jedrska tehnika\, 2. stopnja)\, 1. 
 letnik (Medicinska fizika\, 2. stopnja)\, 1. letnik (Pedagoška fizika\, 2
 . stopnja)\nIzvajalci: Denis Arčon\, Sašo Grozdanov\, Miha Muškinja\nPr
 ostor: F4
LOCATION:F4
ORGANIZER:Denis Arčon, Sašo Grozdanov, Miha Muškinja
RELATED-TO:fmf-AFLABS-URNIK:srecanje:10206
X-WR-TIMEZONE:Europe/Ljubljana
END:VEVENT
BEGIN:VEVENT
SUMMARY:Seminar I (FIZ-M1\, JET-2\, JET-1\, MEF-1\, PEF-1)\, Predavanja (P
 )
DTSTART;TZID=Europe/Ljubljana:20240522T110000
DTEND;TZID=Europe/Ljubljana:20240522T140000
DTSTAMP:20260424T012036Z
UID:fmf-AFLABS-URNIK:premaknjeno-srecanje:133947
ATTENDEE:1. letnik (Fizika, 2. stopnja)
ATTENDEE:1. letnik (Jedrska tehnika, 2. stopnja)
ATTENDEE:1. letnik (Medicinska fizika, 2. stopnja)
ATTENDEE:1. letnik (Pedagoška fizika, 2. stopnja)
ATTENDEE:2. letnik (Jedrska tehnika, 2. stopnja)
CATEGORIES:Entry,Standard
COLOR:darkgreen
DESCRIPTION:Predmet: Seminar I (FIZ-M1\, JET-2\, JET-1\, MEF-1\, PEF-1)\, 
 Predavanja (P)\nLetniki: 1. letnik (Fizika\, 2. stopnja)\, 2. letnik (Jedr
 ska tehnika\, 2. stopnja)\, 1. letnik (Jedrska tehnika\, 2. stopnja)\, 1. 
 letnik (Medicinska fizika\, 2. stopnja)\, 1. letnik (Pedagoška fizika\, 2
 . stopnja)\nIzvajalci: Denis Arčon\, Sašo Grozdanov\, Miha Muškinja\nPr
 ostor: F4
LOCATION:F4
ORGANIZER:Denis Arčon, Sašo Grozdanov, Miha Muškinja
RELATED-TO:fmf-AFLABS-URNIK:srecanje:10206
X-WR-TIMEZONE:Europe/Ljubljana
END:VEVENT
BEGIN:VEVENT
SUMMARY:Seminar I (FIZ-M1\, JET-2\, JET-1\, MEF-1\, PEF-1)\, Predavanja (P
 )
DTSTART;TZID=Europe/Ljubljana:20240529T110000
DTEND;TZID=Europe/Ljubljana:20240529T140000
DTSTAMP:20260424T012036Z
UID:fmf-AFLABS-URNIK:premaknjeno-srecanje:133948
ATTENDEE:1. letnik (Fizika, 2. stopnja)
ATTENDEE:1. letnik (Jedrska tehnika, 2. stopnja)
ATTENDEE:1. letnik (Medicinska fizika, 2. stopnja)
ATTENDEE:1. letnik (Pedagoška fizika, 2. stopnja)
ATTENDEE:2. letnik (Jedrska tehnika, 2. stopnja)
CATEGORIES:Entry,Standard
COLOR:darkgreen
DESCRIPTION:Predmet: Seminar I (FIZ-M1\, JET-2\, JET-1\, MEF-1\, PEF-1)\, 
 Predavanja (P)\nLetniki: 1. letnik (Fizika\, 2. stopnja)\, 2. letnik (Jedr
 ska tehnika\, 2. stopnja)\, 1. letnik (Jedrska tehnika\, 2. stopnja)\, 1. 
 letnik (Medicinska fizika\, 2. stopnja)\, 1. letnik (Pedagoška fizika\, 2
 . stopnja)\nIzvajalci: Denis Arčon\, Sašo Grozdanov\, Miha Muškinja\nPr
 ostor: F4
LOCATION:F4
ORGANIZER:Denis Arčon, Sašo Grozdanov, Miha Muškinja
RELATED-TO:fmf-AFLABS-URNIK:srecanje:10206
X-WR-TIMEZONE:Europe/Ljubljana
END:VEVENT
BEGIN:VEVENT
SUMMARY:Kozmologija in delci v zgodnjem vesolju (FIZ-M2\, FIZ-M1)\, Predav
 anja (P)
DTSTART;TZID=Europe/Ljubljana:20240510T100000
DTEND;TZID=Europe/Ljubljana:20240510T130000
DTSTAMP:20260424T012036Z
UID:fmf-AFLABS-URNIK:premaknjeno-srecanje:126565
ATTENDEE:1. letnik (Fizika, 2. stopnja)
ATTENDEE:2. letnik (Fizika, 2. stopnja)
CATEGORIES:Entry,Standard
COLOR:darkgreen
DESCRIPTION:Predmet: Kozmologija in delci v zgodnjem vesolju (FIZ-M2\, FIZ
 -M1)\, Predavanja (P)\nLetniki: 2. letnik (Fizika\, 2. stopnja)\, 1. letni
 k (Fizika\, 2. stopnja)\nIzvajalci: Sašo Grozdanov\, Miha Nemevšek\nPros
 tor: F3
LOCATION:F3
ORGANIZER:Sašo Grozdanov, Miha Nemevšek
RELATED-TO:fmf-AFLABS-URNIK:srecanje:10004
X-WR-TIMEZONE:Europe/Ljubljana
END:VEVENT
BEGIN:VEVENT
SUMMARY:Kozmologija in delci v zgodnjem vesolju (FIZ-M2\, FIZ-M1)\, Predav
 anja (P)
DTSTART;TZID=Europe/Ljubljana:20240517T100000
DTEND;TZID=Europe/Ljubljana:20240517T130000
DTSTAMP:20260424T012036Z
UID:fmf-AFLABS-URNIK:premaknjeno-srecanje:126566
ATTENDEE:1. letnik (Fizika, 2. stopnja)
ATTENDEE:2. letnik (Fizika, 2. stopnja)
CATEGORIES:Entry,Standard
COLOR:darkgreen
DESCRIPTION:Predmet: Kozmologija in delci v zgodnjem vesolju (FIZ-M2\, FIZ
 -M1)\, Predavanja (P)\nLetniki: 2. letnik (Fizika\, 2. stopnja)\, 1. letni
 k (Fizika\, 2. stopnja)\nIzvajalci: Sašo Grozdanov\, Miha Nemevšek\nPros
 tor: F3
LOCATION:F3
ORGANIZER:Sašo Grozdanov, Miha Nemevšek
RELATED-TO:fmf-AFLABS-URNIK:srecanje:10004
X-WR-TIMEZONE:Europe/Ljubljana
END:VEVENT
BEGIN:VEVENT
SUMMARY:Kozmologija in delci v zgodnjem vesolju (FIZ-M2\, FIZ-M1)\, Predav
 anja (P)
DTSTART;TZID=Europe/Ljubljana:20240524T100000
DTEND;TZID=Europe/Ljubljana:20240524T130000
DTSTAMP:20260424T012036Z
UID:fmf-AFLABS-URNIK:premaknjeno-srecanje:126567
ATTENDEE:1. letnik (Fizika, 2. stopnja)
ATTENDEE:2. letnik (Fizika, 2. stopnja)
CATEGORIES:Entry,Standard
COLOR:darkgreen
DESCRIPTION:Predmet: Kozmologija in delci v zgodnjem vesolju (FIZ-M2\, FIZ
 -M1)\, Predavanja (P)\nLetniki: 2. letnik (Fizika\, 2. stopnja)\, 1. letni
 k (Fizika\, 2. stopnja)\nIzvajalci: Sašo Grozdanov\, Miha Nemevšek\nPros
 tor: F3
LOCATION:F3
ORGANIZER:Sašo Grozdanov, Miha Nemevšek
RELATED-TO:fmf-AFLABS-URNIK:srecanje:10004
X-WR-TIMEZONE:Europe/Ljubljana
END:VEVENT
BEGIN:VEVENT
SUMMARY:Kozmologija in delci v zgodnjem vesolju (FIZ-M2\, FIZ-M1)\, Predav
 anja (P)
DTSTART;TZID=Europe/Ljubljana:20240531T100000
DTEND;TZID=Europe/Ljubljana:20240531T130000
DTSTAMP:20260424T012036Z
UID:fmf-AFLABS-URNIK:premaknjeno-srecanje:126568
ATTENDEE:1. letnik (Fizika, 2. stopnja)
ATTENDEE:2. letnik (Fizika, 2. stopnja)
CATEGORIES:Entry,Standard
COLOR:darkgreen
DESCRIPTION:Predmet: Kozmologija in delci v zgodnjem vesolju (FIZ-M2\, FIZ
 -M1)\, Predavanja (P)\nLetniki: 2. letnik (Fizika\, 2. stopnja)\, 1. letni
 k (Fizika\, 2. stopnja)\nIzvajalci: Sašo Grozdanov\, Miha Nemevšek\nPros
 tor: F3
LOCATION:F3
ORGANIZER:Sašo Grozdanov, Miha Nemevšek
RELATED-TO:fmf-AFLABS-URNIK:srecanje:10004
X-WR-TIMEZONE:Europe/Ljubljana
END:VEVENT
BEGIN:VEVENT
SUMMARY:Kozmologija in delci v zgodnjem vesolju (FIZ-M2\, FIZ-M1)\, Semina
 r (S)
DTSTART;TZID=Europe/Ljubljana:20240510T140000
DTEND;TZID=Europe/Ljubljana:20240510T150000
DTSTAMP:20260424T012036Z
UID:fmf-AFLABS-URNIK:premaknjeno-srecanje:126580
ATTENDEE:1. letnik (Fizika, 2. stopnja)
ATTENDEE:2. letnik (Fizika, 2. stopnja)
CATEGORIES:Entry,Standard
COLOR:darkgreen
DESCRIPTION:Predmet: Kozmologija in delci v zgodnjem vesolju (FIZ-M2\, FIZ
 -M1)\, Seminar (S)\nLetniki: 2. letnik (Fizika\, 2. stopnja)\, 1. letnik (
 Fizika\, 2. stopnja)\nIzvajalci: Sašo Grozdanov\, Miha Nemevšek\nProstor
 : F3
LOCATION:F3
ORGANIZER:Sašo Grozdanov, Miha Nemevšek
RELATED-TO:fmf-AFLABS-URNIK:srecanje:10005
X-WR-TIMEZONE:Europe/Ljubljana
END:VEVENT
BEGIN:VEVENT
SUMMARY:Kozmologija in delci v zgodnjem vesolju (FIZ-M2\, FIZ-M1)\, Semina
 r (S)
DTSTART;TZID=Europe/Ljubljana:20240517T140000
DTEND;TZID=Europe/Ljubljana:20240517T150000
DTSTAMP:20260424T012036Z
UID:fmf-AFLABS-URNIK:premaknjeno-srecanje:126581
ATTENDEE:1. letnik (Fizika, 2. stopnja)
ATTENDEE:2. letnik (Fizika, 2. stopnja)
CATEGORIES:Entry,Standard
COLOR:darkgreen
DESCRIPTION:Predmet: Kozmologija in delci v zgodnjem vesolju (FIZ-M2\, FIZ
 -M1)\, Seminar (S)\nLetniki: 2. letnik (Fizika\, 2. stopnja)\, 1. letnik (
 Fizika\, 2. stopnja)\nIzvajalci: Sašo Grozdanov\, Miha Nemevšek\nProstor
 : F3
LOCATION:F3
ORGANIZER:Sašo Grozdanov, Miha Nemevšek
RELATED-TO:fmf-AFLABS-URNIK:srecanje:10005
X-WR-TIMEZONE:Europe/Ljubljana
END:VEVENT
BEGIN:VEVENT
SUMMARY:Kozmologija in delci v zgodnjem vesolju (FIZ-M2\, FIZ-M1)\, Semina
 r (S)
DTSTART;TZID=Europe/Ljubljana:20240524T140000
DTEND;TZID=Europe/Ljubljana:20240524T150000
DTSTAMP:20260424T012036Z
UID:fmf-AFLABS-URNIK:premaknjeno-srecanje:126582
ATTENDEE:1. letnik (Fizika, 2. stopnja)
ATTENDEE:2. letnik (Fizika, 2. stopnja)
CATEGORIES:Entry,Standard
COLOR:darkgreen
DESCRIPTION:Predmet: Kozmologija in delci v zgodnjem vesolju (FIZ-M2\, FIZ
 -M1)\, Seminar (S)\nLetniki: 2. letnik (Fizika\, 2. stopnja)\, 1. letnik (
 Fizika\, 2. stopnja)\nIzvajalci: Sašo Grozdanov\, Miha Nemevšek\nProstor
 : F3
LOCATION:F3
ORGANIZER:Sašo Grozdanov, Miha Nemevšek
RELATED-TO:fmf-AFLABS-URNIK:srecanje:10005
X-WR-TIMEZONE:Europe/Ljubljana
END:VEVENT
BEGIN:VEVENT
SUMMARY:Kozmologija in delci v zgodnjem vesolju (FIZ-M2\, FIZ-M1)\, Semina
 r (S)
DTSTART;TZID=Europe/Ljubljana:20240531T140000
DTEND;TZID=Europe/Ljubljana:20240531T150000
DTSTAMP:20260424T012036Z
UID:fmf-AFLABS-URNIK:premaknjeno-srecanje:126583
ATTENDEE:1. letnik (Fizika, 2. stopnja)
ATTENDEE:2. letnik (Fizika, 2. stopnja)
CATEGORIES:Entry,Standard
COLOR:darkgreen
DESCRIPTION:Predmet: Kozmologija in delci v zgodnjem vesolju (FIZ-M2\, FIZ
 -M1)\, Seminar (S)\nLetniki: 2. letnik (Fizika\, 2. stopnja)\, 1. letnik (
 Fizika\, 2. stopnja)\nIzvajalci: Sašo Grozdanov\, Miha Nemevšek\nProstor
 : F3
LOCATION:F3
ORGANIZER:Sašo Grozdanov, Miha Nemevšek
RELATED-TO:fmf-AFLABS-URNIK:srecanje:10005
X-WR-TIMEZONE:Europe/Ljubljana
END:VEVENT
BEGIN:VEVENT
SUMMARY:Kozmologija in delci v zgodnjem vesolju (FIZ-M2\, FIZ-M1)\, Vaje (
 V)
DTSTART;TZID=Europe/Ljubljana:20240510T130000
DTEND;TZID=Europe/Ljubljana:20240510T140000
DTSTAMP:20260424T012036Z
UID:fmf-AFLABS-URNIK:premaknjeno-srecanje:126595
ATTENDEE:1. letnik (Fizika, 2. stopnja)
ATTENDEE:2. letnik (Fizika, 2. stopnja)
CATEGORIES:Entry,Standard
COLOR:darkgreen
DESCRIPTION:Predmet: Kozmologija in delci v zgodnjem vesolju (FIZ-M2\, FIZ
 -M1)\, Vaje (V)\nLetniki: 2. letnik (Fizika\, 2. stopnja)\, 1. letnik (Fiz
 ika\, 2. stopnja)\nIzvajalci: Sašo Grozdanov\, Miha Nemevšek\nProstor: F
 3
LOCATION:F3
ORGANIZER:Sašo Grozdanov, Miha Nemevšek
RELATED-TO:fmf-AFLABS-URNIK:srecanje:10006
X-WR-TIMEZONE:Europe/Ljubljana
END:VEVENT
BEGIN:VEVENT
SUMMARY:Kozmologija in delci v zgodnjem vesolju (FIZ-M2\, FIZ-M1)\, Vaje (
 V)
DTSTART;TZID=Europe/Ljubljana:20240517T130000
DTEND;TZID=Europe/Ljubljana:20240517T140000
DTSTAMP:20260424T012036Z
UID:fmf-AFLABS-URNIK:premaknjeno-srecanje:126596
ATTENDEE:1. letnik (Fizika, 2. stopnja)
ATTENDEE:2. letnik (Fizika, 2. stopnja)
CATEGORIES:Entry,Standard
COLOR:darkgreen
DESCRIPTION:Predmet: Kozmologija in delci v zgodnjem vesolju (FIZ-M2\, FIZ
 -M1)\, Vaje (V)\nLetniki: 2. letnik (Fizika\, 2. stopnja)\, 1. letnik (Fiz
 ika\, 2. stopnja)\nIzvajalci: Sašo Grozdanov\, Miha Nemevšek\nProstor: F
 3
LOCATION:F3
ORGANIZER:Sašo Grozdanov, Miha Nemevšek
RELATED-TO:fmf-AFLABS-URNIK:srecanje:10006
X-WR-TIMEZONE:Europe/Ljubljana
END:VEVENT
BEGIN:VEVENT
SUMMARY:Kozmologija in delci v zgodnjem vesolju (FIZ-M2\, FIZ-M1)\, Vaje (
 V)
DTSTART;TZID=Europe/Ljubljana:20240524T130000
DTEND;TZID=Europe/Ljubljana:20240524T140000
DTSTAMP:20260424T012036Z
UID:fmf-AFLABS-URNIK:premaknjeno-srecanje:126597
ATTENDEE:1. letnik (Fizika, 2. stopnja)
ATTENDEE:2. letnik (Fizika, 2. stopnja)
CATEGORIES:Entry,Standard
COLOR:darkgreen
DESCRIPTION:Predmet: Kozmologija in delci v zgodnjem vesolju (FIZ-M2\, FIZ
 -M1)\, Vaje (V)\nLetniki: 2. letnik (Fizika\, 2. stopnja)\, 1. letnik (Fiz
 ika\, 2. stopnja)\nIzvajalci: Sašo Grozdanov\, Miha Nemevšek\nProstor: F
 3
LOCATION:F3
ORGANIZER:Sašo Grozdanov, Miha Nemevšek
RELATED-TO:fmf-AFLABS-URNIK:srecanje:10006
X-WR-TIMEZONE:Europe/Ljubljana
END:VEVENT
BEGIN:VEVENT
SUMMARY:Kozmologija in delci v zgodnjem vesolju (FIZ-M2\, FIZ-M1)\, Vaje (
 V)
DTSTART;TZID=Europe/Ljubljana:20240531T130000
DTEND;TZID=Europe/Ljubljana:20240531T140000
DTSTAMP:20260424T012036Z
UID:fmf-AFLABS-URNIK:premaknjeno-srecanje:126598
ATTENDEE:1. letnik (Fizika, 2. stopnja)
ATTENDEE:2. letnik (Fizika, 2. stopnja)
CATEGORIES:Entry,Standard
COLOR:darkgreen
DESCRIPTION:Predmet: Kozmologija in delci v zgodnjem vesolju (FIZ-M2\, FIZ
 -M1)\, Vaje (V)\nLetniki: 2. letnik (Fizika\, 2. stopnja)\, 1. letnik (Fiz
 ika\, 2. stopnja)\nIzvajalci: Sašo Grozdanov\, Miha Nemevšek\nProstor: F
 3
LOCATION:F3
ORGANIZER:Sašo Grozdanov, Miha Nemevšek
RELATED-TO:fmf-AFLABS-URNIK:srecanje:10006
X-WR-TIMEZONE:Europe/Ljubljana
END:VEVENT
BEGIN:VEVENT
SUMMARY:Ustni izpiti Kozmologija in Delci v zgodnjem vesolju
DTSTART;TZID=Europe/Ljubljana:20240624T090000
DTEND;TZID=Europe/Ljubljana:20240624T180000
DTSTAMP:20260424T012036Z
UID:fmf-AFLABS-URNIK:rezervacija:17352
ATTENDEE:1. letnik (Fizika, 2. stopnja)
ATTENDEE:2. letnik (Fizika, 2. stopnja)
CATEGORIES:Reservation
COLOR:royalblue
DESCRIPTION:Predmeti: Kozmologija in delci v zgodnjem vesolju (FIZ-M1\, FI
 Z-M2)\nLetniki: 1. letnik (Fizika\, 2. stopnja)\, 2. letnik (Fizika\, 2. s
 topnja)\nIzvajalci: Sašo Grozdanov\, Miha Nemevšek\nProstori: F4
LOCATION:F4
ORGANIZER:Sašo Grozdanov, Miha Nemevšek
X-WR-TIMEZONE:Europe/Ljubljana
END:VEVENT
END:VCALENDAR
