BEGIN:VCALENDAR
VERSION:2.0
PRODID:-//AFLabs urnik izvoz - fmf//aflabs.si//SI
DTSTAMP:20260421T065649Z
NAME:UL FMF urnik
REFRESH-INTERVAL:PT1H
SOURCE:https://urnik.fmf.uni-lj.si/en/teacher/562?day=2026-06-01&export=1
URL:https://urnik.fmf.uni-lj.si/en/teacher/562?day=2026-06-01&export=1
X-PUBLISHED-TTL:PT1H
X-WR-CALNAME:UL FMF urnik
X-WR-TIMEZONE:Europe/Ljubljana
BEGIN:VTIMEZONE
TZID:Europe/Ljubljana
BEGIN:DAYLIGHT
DTSTART:20260329T020000
RDATE:20260329T020000
RDATE:20270328T020000
TZNAME:CEST
TZOFFSETFROM:+0100
TZOFFSETTO:+0200
END:DAYLIGHT
BEGIN:STANDARD
DTSTART:20261025T030000
RDATE:20261025T030000
RDATE:20271031T030000
TZNAME:CET
TZOFFSETFROM:+0200
TZOFFSETTO:+0100
END:STANDARD
END:VTIMEZONE
BEGIN:VEVENT
SUMMARY:Kozmologija in delci v zgodnjem vesolju (FIZ-M1\, FIZ-M2)\, Predav
 anja (P)
DTSTART;TZID=Europe/Ljubljana:20260220T100000
DTEND;TZID=Europe/Ljubljana:20260220T130000
DTSTAMP:20260421T065649Z
UID:fmf-AFLABS-URNIK:premaknjeno-srecanje:242284
ATTENDEE:1. letnik (Fizika, 2. stopnja)
ATTENDEE:2. letnik (Fizika, 2. stopnja)
CATEGORIES:Entry,Standard
COLOR:darkgreen
DESCRIPTION:Predmet: Kozmologija in delci v zgodnjem vesolju (FIZ-M1\, FIZ
 -M2)\, Predavanja (P)\nLetniki: 1. letnik (Fizika\, 2. stopnja)\, 2. letni
 k (Fizika\, 2. stopnja)\nIzvajalci: Sašo Grozdanov\nProstor: F3
LOCATION:F3
ORGANIZER:Sašo Grozdanov
RELATED-TO:fmf-AFLABS-URNIK:srecanje:17211
X-WR-TIMEZONE:Europe/Ljubljana
END:VEVENT
BEGIN:VEVENT
SUMMARY:Kozmologija in delci v zgodnjem vesolju (FIZ-M1\, FIZ-M2)\, Predav
 anja (P)
DTSTART;TZID=Europe/Ljubljana:20260227T100000
DTEND;TZID=Europe/Ljubljana:20260227T130000
DTSTAMP:20260421T065649Z
UID:fmf-AFLABS-URNIK:premaknjeno-srecanje:242285
ATTENDEE:1. letnik (Fizika, 2. stopnja)
ATTENDEE:2. letnik (Fizika, 2. stopnja)
CATEGORIES:Entry,Standard
COLOR:darkgreen
DESCRIPTION:Predmet: Kozmologija in delci v zgodnjem vesolju (FIZ-M1\, FIZ
 -M2)\, Predavanja (P)\nLetniki: 1. letnik (Fizika\, 2. stopnja)\, 2. letni
 k (Fizika\, 2. stopnja)\nIzvajalci: Sašo Grozdanov\nProstor: F3
LOCATION:F3
ORGANIZER:Sašo Grozdanov
RELATED-TO:fmf-AFLABS-URNIK:srecanje:17211
X-WR-TIMEZONE:Europe/Ljubljana
END:VEVENT
BEGIN:VEVENT
SUMMARY:Kozmologija in delci v zgodnjem vesolju (FIZ-M1\, FIZ-M2)\, Predav
 anja (P)
DTSTART;TZID=Europe/Ljubljana:20260306T100000
DTEND;TZID=Europe/Ljubljana:20260306T130000
DTSTAMP:20260421T065649Z
UID:fmf-AFLABS-URNIK:premaknjeno-srecanje:242286
ATTENDEE:1. letnik (Fizika, 2. stopnja)
ATTENDEE:2. letnik (Fizika, 2. stopnja)
CATEGORIES:Entry,Standard
COLOR:darkgreen
DESCRIPTION:Predmet: Kozmologija in delci v zgodnjem vesolju (FIZ-M1\, FIZ
 -M2)\, Predavanja (P)\nLetniki: 1. letnik (Fizika\, 2. stopnja)\, 2. letni
 k (Fizika\, 2. stopnja)\nIzvajalci: Sašo Grozdanov\nProstor: F3
LOCATION:F3
ORGANIZER:Sašo Grozdanov
RELATED-TO:fmf-AFLABS-URNIK:srecanje:17211
X-WR-TIMEZONE:Europe/Ljubljana
END:VEVENT
BEGIN:VEVENT
SUMMARY:Kozmologija in delci v zgodnjem vesolju (FIZ-M1\, FIZ-M2)\, Predav
 anja (P)
DTSTART;TZID=Europe/Ljubljana:20260313T100000
DTEND;TZID=Europe/Ljubljana:20260313T130000
DTSTAMP:20260421T065649Z
UID:fmf-AFLABS-URNIK:premaknjeno-srecanje:242287
ATTENDEE:1. letnik (Fizika, 2. stopnja)
ATTENDEE:2. letnik (Fizika, 2. stopnja)
CATEGORIES:Entry,Standard
COLOR:darkgreen
DESCRIPTION:Predmet: Kozmologija in delci v zgodnjem vesolju (FIZ-M1\, FIZ
 -M2)\, Predavanja (P)\nLetniki: 1. letnik (Fizika\, 2. stopnja)\, 2. letni
 k (Fizika\, 2. stopnja)\nIzvajalci: Sašo Grozdanov\nProstor: F3
LOCATION:F3
ORGANIZER:Sašo Grozdanov
RELATED-TO:fmf-AFLABS-URNIK:srecanje:17211
X-WR-TIMEZONE:Europe/Ljubljana
END:VEVENT
BEGIN:VEVENT
SUMMARY:Kozmologija in delci v zgodnjem vesolju (FIZ-M1\, FIZ-M2)\, Predav
 anja (P)
DTSTART;TZID=Europe/Ljubljana:20260320T100000
DTEND;TZID=Europe/Ljubljana:20260320T130000
DTSTAMP:20260421T065649Z
UID:fmf-AFLABS-URNIK:premaknjeno-srecanje:242288
ATTENDEE:1. letnik (Fizika, 2. stopnja)
ATTENDEE:2. letnik (Fizika, 2. stopnja)
CATEGORIES:Entry,Standard
COLOR:darkgreen
DESCRIPTION:Predmet: Kozmologija in delci v zgodnjem vesolju (FIZ-M1\, FIZ
 -M2)\, Predavanja (P)\nLetniki: 1. letnik (Fizika\, 2. stopnja)\, 2. letni
 k (Fizika\, 2. stopnja)\nIzvajalci: Sašo Grozdanov\nProstor: F3
LOCATION:F3
ORGANIZER:Sašo Grozdanov
RELATED-TO:fmf-AFLABS-URNIK:srecanje:17211
X-WR-TIMEZONE:Europe/Ljubljana
END:VEVENT
BEGIN:VEVENT
SUMMARY:Kozmologija in delci v zgodnjem vesolju (FIZ-M1\, FIZ-M2)\, Predav
 anja (P)
DTSTART;TZID=Europe/Ljubljana:20260327T100000
DTEND;TZID=Europe/Ljubljana:20260327T130000
DTSTAMP:20260421T065649Z
UID:fmf-AFLABS-URNIK:premaknjeno-srecanje:242289
ATTENDEE:1. letnik (Fizika, 2. stopnja)
ATTENDEE:2. letnik (Fizika, 2. stopnja)
CATEGORIES:Entry,Standard
COLOR:darkgreen
DESCRIPTION:Predmet: Kozmologija in delci v zgodnjem vesolju (FIZ-M1\, FIZ
 -M2)\, Predavanja (P)\nLetniki: 1. letnik (Fizika\, 2. stopnja)\, 2. letni
 k (Fizika\, 2. stopnja)\nIzvajalci: Sašo Grozdanov\nProstor: F3
LOCATION:F3
ORGANIZER:Sašo Grozdanov
RELATED-TO:fmf-AFLABS-URNIK:srecanje:17211
X-WR-TIMEZONE:Europe/Ljubljana
END:VEVENT
BEGIN:VEVENT
SUMMARY:Kozmologija in delci v zgodnjem vesolju (FIZ-M1\, FIZ-M2)\, Predav
 anja (P)
DTSTART;TZID=Europe/Ljubljana:20260403T100000
DTEND;TZID=Europe/Ljubljana:20260403T130000
DTSTAMP:20260421T065649Z
UID:fmf-AFLABS-URNIK:premaknjeno-srecanje:242290
ATTENDEE:1. letnik (Fizika, 2. stopnja)
ATTENDEE:2. letnik (Fizika, 2. stopnja)
CATEGORIES:Entry,Standard
COLOR:darkgreen
DESCRIPTION:Predmet: Kozmologija in delci v zgodnjem vesolju (FIZ-M1\, FIZ
 -M2)\, Predavanja (P)\nLetniki: 1. letnik (Fizika\, 2. stopnja)\, 2. letni
 k (Fizika\, 2. stopnja)\nIzvajalci: Sašo Grozdanov\nProstor: F3
LOCATION:F3
ORGANIZER:Sašo Grozdanov
RELATED-TO:fmf-AFLABS-URNIK:srecanje:17211
X-WR-TIMEZONE:Europe/Ljubljana
END:VEVENT
BEGIN:VEVENT
SUMMARY:Kozmologija in delci v zgodnjem vesolju (FIZ-M1\, FIZ-M2)\, Predav
 anja (P)
DTSTART;TZID=Europe/Ljubljana:20260410T100000
DTEND;TZID=Europe/Ljubljana:20260410T130000
DTSTAMP:20260421T065649Z
UID:fmf-AFLABS-URNIK:premaknjeno-srecanje:242291
ATTENDEE:1. letnik (Fizika, 2. stopnja)
ATTENDEE:2. letnik (Fizika, 2. stopnja)
CATEGORIES:Entry,Standard
COLOR:darkgreen
DESCRIPTION:Predmet: Kozmologija in delci v zgodnjem vesolju (FIZ-M1\, FIZ
 -M2)\, Predavanja (P)\nLetniki: 1. letnik (Fizika\, 2. stopnja)\, 2. letni
 k (Fizika\, 2. stopnja)\nIzvajalci: Sašo Grozdanov\nProstor: F3
LOCATION:F3
ORGANIZER:Sašo Grozdanov
RELATED-TO:fmf-AFLABS-URNIK:srecanje:17211
X-WR-TIMEZONE:Europe/Ljubljana
END:VEVENT
BEGIN:VEVENT
SUMMARY:Kozmologija in delci v zgodnjem vesolju (FIZ-M1\, FIZ-M2)\, Predav
 anja (P)
DTSTART;TZID=Europe/Ljubljana:20260417T100000
DTEND;TZID=Europe/Ljubljana:20260417T130000
DTSTAMP:20260421T065649Z
UID:fmf-AFLABS-URNIK:premaknjeno-srecanje:242292
ATTENDEE:1. letnik (Fizika, 2. stopnja)
ATTENDEE:2. letnik (Fizika, 2. stopnja)
CATEGORIES:Entry,Standard
COLOR:darkgreen
DESCRIPTION:Predmet: Kozmologija in delci v zgodnjem vesolju (FIZ-M1\, FIZ
 -M2)\, Predavanja (P)\nLetniki: 1. letnik (Fizika\, 2. stopnja)\, 2. letni
 k (Fizika\, 2. stopnja)\nIzvajalci: Sašo Grozdanov\nProstor: F3
LOCATION:F3
ORGANIZER:Sašo Grozdanov
RELATED-TO:fmf-AFLABS-URNIK:srecanje:17211
X-WR-TIMEZONE:Europe/Ljubljana
END:VEVENT
BEGIN:VEVENT
SUMMARY:Kozmologija in delci v zgodnjem vesolju (FIZ-M1\, FIZ-M2)\, Predav
 anja (P)
DTSTART;TZID=Europe/Ljubljana:20260424T100000
DTEND;TZID=Europe/Ljubljana:20260424T130000
DTSTAMP:20260421T065649Z
UID:fmf-AFLABS-URNIK:premaknjeno-srecanje:242293
ATTENDEE:1. letnik (Fizika, 2. stopnja)
ATTENDEE:2. letnik (Fizika, 2. stopnja)
CATEGORIES:Entry,Standard
COLOR:darkgreen
DESCRIPTION:Predmet: Kozmologija in delci v zgodnjem vesolju (FIZ-M1\, FIZ
 -M2)\, Predavanja (P)\nLetniki: 1. letnik (Fizika\, 2. stopnja)\, 2. letni
 k (Fizika\, 2. stopnja)\nIzvajalci: Sašo Grozdanov\nProstor: F3
LOCATION:F3
ORGANIZER:Sašo Grozdanov
RELATED-TO:fmf-AFLABS-URNIK:srecanje:17211
X-WR-TIMEZONE:Europe/Ljubljana
END:VEVENT
BEGIN:VEVENT
SUMMARY:Kozmologija in delci v zgodnjem vesolju (FIZ-M1\, FIZ-M2)\, Predav
 anja (P)
DTSTART;TZID=Europe/Ljubljana:20260508T100000
DTEND;TZID=Europe/Ljubljana:20260508T130000
DTSTAMP:20260421T065649Z
UID:fmf-AFLABS-URNIK:premaknjeno-srecanje:242294
ATTENDEE:1. letnik (Fizika, 2. stopnja)
ATTENDEE:2. letnik (Fizika, 2. stopnja)
CATEGORIES:Entry,Standard
COLOR:darkgreen
DESCRIPTION:Predmet: Kozmologija in delci v zgodnjem vesolju (FIZ-M1\, FIZ
 -M2)\, Predavanja (P)\nLetniki: 1. letnik (Fizika\, 2. stopnja)\, 2. letni
 k (Fizika\, 2. stopnja)\nIzvajalci: Sašo Grozdanov\nProstor: F3
LOCATION:F3
ORGANIZER:Sašo Grozdanov
RELATED-TO:fmf-AFLABS-URNIK:srecanje:17211
X-WR-TIMEZONE:Europe/Ljubljana
END:VEVENT
BEGIN:VEVENT
SUMMARY:Kozmologija in delci v zgodnjem vesolju (FIZ-M1\, FIZ-M2)\, Predav
 anja (P)
DTSTART;TZID=Europe/Ljubljana:20260515T100000
DTEND;TZID=Europe/Ljubljana:20260515T130000
DTSTAMP:20260421T065649Z
UID:fmf-AFLABS-URNIK:premaknjeno-srecanje:242295
ATTENDEE:1. letnik (Fizika, 2. stopnja)
ATTENDEE:2. letnik (Fizika, 2. stopnja)
CATEGORIES:Entry,Standard
COLOR:darkgreen
DESCRIPTION:Predmet: Kozmologija in delci v zgodnjem vesolju (FIZ-M1\, FIZ
 -M2)\, Predavanja (P)\nLetniki: 1. letnik (Fizika\, 2. stopnja)\, 2. letni
 k (Fizika\, 2. stopnja)\nIzvajalci: Sašo Grozdanov\nProstor: F3
LOCATION:F3
ORGANIZER:Sašo Grozdanov
RELATED-TO:fmf-AFLABS-URNIK:srecanje:17211
X-WR-TIMEZONE:Europe/Ljubljana
END:VEVENT
BEGIN:VEVENT
SUMMARY:Kozmologija in delci v zgodnjem vesolju (FIZ-M1\, FIZ-M2)\, Predav
 anja (P)
DTSTART;TZID=Europe/Ljubljana:20260522T100000
DTEND;TZID=Europe/Ljubljana:20260522T130000
DTSTAMP:20260421T065649Z
UID:fmf-AFLABS-URNIK:premaknjeno-srecanje:242296
ATTENDEE:1. letnik (Fizika, 2. stopnja)
ATTENDEE:2. letnik (Fizika, 2. stopnja)
CATEGORIES:Entry,Standard
COLOR:darkgreen
DESCRIPTION:Predmet: Kozmologija in delci v zgodnjem vesolju (FIZ-M1\, FIZ
 -M2)\, Predavanja (P)\nLetniki: 1. letnik (Fizika\, 2. stopnja)\, 2. letni
 k (Fizika\, 2. stopnja)\nIzvajalci: Sašo Grozdanov\nProstor: F3
LOCATION:F3
ORGANIZER:Sašo Grozdanov
RELATED-TO:fmf-AFLABS-URNIK:srecanje:17211
X-WR-TIMEZONE:Europe/Ljubljana
END:VEVENT
BEGIN:VEVENT
SUMMARY:Kozmologija in delci v zgodnjem vesolju (FIZ-M1\, FIZ-M2)\, Predav
 anja (P)
DTSTART;TZID=Europe/Ljubljana:20260529T100000
DTEND;TZID=Europe/Ljubljana:20260529T130000
DTSTAMP:20260421T065649Z
UID:fmf-AFLABS-URNIK:premaknjeno-srecanje:242297
ATTENDEE:1. letnik (Fizika, 2. stopnja)
ATTENDEE:2. letnik (Fizika, 2. stopnja)
CATEGORIES:Entry,Standard
COLOR:darkgreen
DESCRIPTION:Predmet: Kozmologija in delci v zgodnjem vesolju (FIZ-M1\, FIZ
 -M2)\, Predavanja (P)\nLetniki: 1. letnik (Fizika\, 2. stopnja)\, 2. letni
 k (Fizika\, 2. stopnja)\nIzvajalci: Sašo Grozdanov\nProstor: F3
LOCATION:F3
ORGANIZER:Sašo Grozdanov
RELATED-TO:fmf-AFLABS-URNIK:srecanje:17211
X-WR-TIMEZONE:Europe/Ljubljana
END:VEVENT
BEGIN:VEVENT
SUMMARY:Kozmologija in delci v zgodnjem vesolju (FIZ-M1\, FIZ-M2)\, Semina
 r (S)
DTSTART;TZID=Europe/Ljubljana:20260220T130000
DTEND;TZID=Europe/Ljubljana:20260220T140000
DTSTAMP:20260421T065649Z
UID:fmf-AFLABS-URNIK:premaknjeno-srecanje:242312
ATTENDEE:1. letnik (Fizika, 2. stopnja)
ATTENDEE:2. letnik (Fizika, 2. stopnja)
CATEGORIES:Entry,Standard
COLOR:darkgreen
DESCRIPTION:Predmet: Kozmologija in delci v zgodnjem vesolju (FIZ-M1\, FIZ
 -M2)\, Seminar (S)\nLetniki: 1. letnik (Fizika\, 2. stopnja)\, 2. letnik (
 Fizika\, 2. stopnja)\nIzvajalci: Sašo Grozdanov\nProstor: F3
LOCATION:F3
ORGANIZER:Sašo Grozdanov
RELATED-TO:fmf-AFLABS-URNIK:srecanje:17213
X-WR-TIMEZONE:Europe/Ljubljana
END:VEVENT
BEGIN:VEVENT
SUMMARY:Kozmologija in delci v zgodnjem vesolju (FIZ-M1\, FIZ-M2)\, Semina
 r (S)
DTSTART;TZID=Europe/Ljubljana:20260227T130000
DTEND;TZID=Europe/Ljubljana:20260227T140000
DTSTAMP:20260421T065649Z
UID:fmf-AFLABS-URNIK:premaknjeno-srecanje:242313
ATTENDEE:1. letnik (Fizika, 2. stopnja)
ATTENDEE:2. letnik (Fizika, 2. stopnja)
CATEGORIES:Entry,Standard
COLOR:darkgreen
DESCRIPTION:Predmet: Kozmologija in delci v zgodnjem vesolju (FIZ-M1\, FIZ
 -M2)\, Seminar (S)\nLetniki: 1. letnik (Fizika\, 2. stopnja)\, 2. letnik (
 Fizika\, 2. stopnja)\nIzvajalci: Sašo Grozdanov\nProstor: F3
LOCATION:F3
ORGANIZER:Sašo Grozdanov
RELATED-TO:fmf-AFLABS-URNIK:srecanje:17213
X-WR-TIMEZONE:Europe/Ljubljana
END:VEVENT
BEGIN:VEVENT
SUMMARY:Kozmologija in delci v zgodnjem vesolju (FIZ-M1\, FIZ-M2)\, Semina
 r (S)
DTSTART;TZID=Europe/Ljubljana:20260306T130000
DTEND;TZID=Europe/Ljubljana:20260306T140000
DTSTAMP:20260421T065649Z
UID:fmf-AFLABS-URNIK:premaknjeno-srecanje:242314
ATTENDEE:1. letnik (Fizika, 2. stopnja)
ATTENDEE:2. letnik (Fizika, 2. stopnja)
CATEGORIES:Entry,Standard
COLOR:darkgreen
DESCRIPTION:Predmet: Kozmologija in delci v zgodnjem vesolju (FIZ-M1\, FIZ
 -M2)\, Seminar (S)\nLetniki: 1. letnik (Fizika\, 2. stopnja)\, 2. letnik (
 Fizika\, 2. stopnja)\nIzvajalci: Sašo Grozdanov\nProstor: F3
LOCATION:F3
ORGANIZER:Sašo Grozdanov
RELATED-TO:fmf-AFLABS-URNIK:srecanje:17213
X-WR-TIMEZONE:Europe/Ljubljana
END:VEVENT
BEGIN:VEVENT
SUMMARY:Kozmologija in delci v zgodnjem vesolju (FIZ-M1\, FIZ-M2)\, Semina
 r (S)
DTSTART;TZID=Europe/Ljubljana:20260313T130000
DTEND;TZID=Europe/Ljubljana:20260313T140000
DTSTAMP:20260421T065649Z
UID:fmf-AFLABS-URNIK:premaknjeno-srecanje:242315
ATTENDEE:1. letnik (Fizika, 2. stopnja)
ATTENDEE:2. letnik (Fizika, 2. stopnja)
CATEGORIES:Entry,Standard
COLOR:darkgreen
DESCRIPTION:Predmet: Kozmologija in delci v zgodnjem vesolju (FIZ-M1\, FIZ
 -M2)\, Seminar (S)\nLetniki: 1. letnik (Fizika\, 2. stopnja)\, 2. letnik (
 Fizika\, 2. stopnja)\nIzvajalci: Sašo Grozdanov\nProstor: F3
LOCATION:F3
ORGANIZER:Sašo Grozdanov
RELATED-TO:fmf-AFLABS-URNIK:srecanje:17213
X-WR-TIMEZONE:Europe/Ljubljana
END:VEVENT
BEGIN:VEVENT
SUMMARY:Kozmologija in delci v zgodnjem vesolju (FIZ-M1\, FIZ-M2)\, Semina
 r (S)
DTSTART;TZID=Europe/Ljubljana:20260320T130000
DTEND;TZID=Europe/Ljubljana:20260320T140000
DTSTAMP:20260421T065649Z
UID:fmf-AFLABS-URNIK:premaknjeno-srecanje:242316
ATTENDEE:1. letnik (Fizika, 2. stopnja)
ATTENDEE:2. letnik (Fizika, 2. stopnja)
CATEGORIES:Entry,Standard
COLOR:darkgreen
DESCRIPTION:Predmet: Kozmologija in delci v zgodnjem vesolju (FIZ-M1\, FIZ
 -M2)\, Seminar (S)\nLetniki: 1. letnik (Fizika\, 2. stopnja)\, 2. letnik (
 Fizika\, 2. stopnja)\nIzvajalci: Sašo Grozdanov\nProstor: F3
LOCATION:F3
ORGANIZER:Sašo Grozdanov
RELATED-TO:fmf-AFLABS-URNIK:srecanje:17213
X-WR-TIMEZONE:Europe/Ljubljana
END:VEVENT
BEGIN:VEVENT
SUMMARY:Kozmologija in delci v zgodnjem vesolju (FIZ-M1\, FIZ-M2)\, Semina
 r (S)
DTSTART;TZID=Europe/Ljubljana:20260327T130000
DTEND;TZID=Europe/Ljubljana:20260327T140000
DTSTAMP:20260421T065649Z
UID:fmf-AFLABS-URNIK:premaknjeno-srecanje:242317
ATTENDEE:1. letnik (Fizika, 2. stopnja)
ATTENDEE:2. letnik (Fizika, 2. stopnja)
CATEGORIES:Entry,Standard
COLOR:darkgreen
DESCRIPTION:Predmet: Kozmologija in delci v zgodnjem vesolju (FIZ-M1\, FIZ
 -M2)\, Seminar (S)\nLetniki: 1. letnik (Fizika\, 2. stopnja)\, 2. letnik (
 Fizika\, 2. stopnja)\nIzvajalci: Sašo Grozdanov\nProstor: F3
LOCATION:F3
ORGANIZER:Sašo Grozdanov
RELATED-TO:fmf-AFLABS-URNIK:srecanje:17213
X-WR-TIMEZONE:Europe/Ljubljana
END:VEVENT
BEGIN:VEVENT
SUMMARY:Kozmologija in delci v zgodnjem vesolju (FIZ-M1\, FIZ-M2)\, Semina
 r (S)
DTSTART;TZID=Europe/Ljubljana:20260403T130000
DTEND;TZID=Europe/Ljubljana:20260403T140000
DTSTAMP:20260421T065649Z
UID:fmf-AFLABS-URNIK:premaknjeno-srecanje:242318
ATTENDEE:1. letnik (Fizika, 2. stopnja)
ATTENDEE:2. letnik (Fizika, 2. stopnja)
CATEGORIES:Entry,Standard
COLOR:darkgreen
DESCRIPTION:Predmet: Kozmologija in delci v zgodnjem vesolju (FIZ-M1\, FIZ
 -M2)\, Seminar (S)\nLetniki: 1. letnik (Fizika\, 2. stopnja)\, 2. letnik (
 Fizika\, 2. stopnja)\nIzvajalci: Sašo Grozdanov\nProstor: F3
LOCATION:F3
ORGANIZER:Sašo Grozdanov
RELATED-TO:fmf-AFLABS-URNIK:srecanje:17213
X-WR-TIMEZONE:Europe/Ljubljana
END:VEVENT
BEGIN:VEVENT
SUMMARY:Kozmologija in delci v zgodnjem vesolju (FIZ-M1\, FIZ-M2)\, Semina
 r (S)
DTSTART;TZID=Europe/Ljubljana:20260410T130000
DTEND;TZID=Europe/Ljubljana:20260410T140000
DTSTAMP:20260421T065649Z
UID:fmf-AFLABS-URNIK:premaknjeno-srecanje:242319
ATTENDEE:1. letnik (Fizika, 2. stopnja)
ATTENDEE:2. letnik (Fizika, 2. stopnja)
CATEGORIES:Entry,Standard
COLOR:darkgreen
DESCRIPTION:Predmet: Kozmologija in delci v zgodnjem vesolju (FIZ-M1\, FIZ
 -M2)\, Seminar (S)\nLetniki: 1. letnik (Fizika\, 2. stopnja)\, 2. letnik (
 Fizika\, 2. stopnja)\nIzvajalci: Sašo Grozdanov\nProstor: F3
LOCATION:F3
ORGANIZER:Sašo Grozdanov
RELATED-TO:fmf-AFLABS-URNIK:srecanje:17213
X-WR-TIMEZONE:Europe/Ljubljana
END:VEVENT
BEGIN:VEVENT
SUMMARY:Kozmologija in delci v zgodnjem vesolju (FIZ-M1\, FIZ-M2)\, Semina
 r (S)
DTSTART;TZID=Europe/Ljubljana:20260417T130000
DTEND;TZID=Europe/Ljubljana:20260417T140000
DTSTAMP:20260421T065649Z
UID:fmf-AFLABS-URNIK:premaknjeno-srecanje:242320
ATTENDEE:1. letnik (Fizika, 2. stopnja)
ATTENDEE:2. letnik (Fizika, 2. stopnja)
CATEGORIES:Entry,Standard
COLOR:darkgreen
DESCRIPTION:Predmet: Kozmologija in delci v zgodnjem vesolju (FIZ-M1\, FIZ
 -M2)\, Seminar (S)\nLetniki: 1. letnik (Fizika\, 2. stopnja)\, 2. letnik (
 Fizika\, 2. stopnja)\nIzvajalci: Sašo Grozdanov\nProstor: F3
LOCATION:F3
ORGANIZER:Sašo Grozdanov
RELATED-TO:fmf-AFLABS-URNIK:srecanje:17213
X-WR-TIMEZONE:Europe/Ljubljana
END:VEVENT
BEGIN:VEVENT
SUMMARY:Kozmologija in delci v zgodnjem vesolju (FIZ-M1\, FIZ-M2)\, Semina
 r (S)
DTSTART;TZID=Europe/Ljubljana:20260424T130000
DTEND;TZID=Europe/Ljubljana:20260424T140000
DTSTAMP:20260421T065649Z
UID:fmf-AFLABS-URNIK:premaknjeno-srecanje:242321
ATTENDEE:1. letnik (Fizika, 2. stopnja)
ATTENDEE:2. letnik (Fizika, 2. stopnja)
CATEGORIES:Entry,Standard
COLOR:darkgreen
DESCRIPTION:Predmet: Kozmologija in delci v zgodnjem vesolju (FIZ-M1\, FIZ
 -M2)\, Seminar (S)\nLetniki: 1. letnik (Fizika\, 2. stopnja)\, 2. letnik (
 Fizika\, 2. stopnja)\nIzvajalci: Sašo Grozdanov\nProstor: F3
LOCATION:F3
ORGANIZER:Sašo Grozdanov
RELATED-TO:fmf-AFLABS-URNIK:srecanje:17213
X-WR-TIMEZONE:Europe/Ljubljana
END:VEVENT
BEGIN:VEVENT
SUMMARY:Kozmologija in delci v zgodnjem vesolju (FIZ-M1\, FIZ-M2)\, Semina
 r (S)
DTSTART;TZID=Europe/Ljubljana:20260508T130000
DTEND;TZID=Europe/Ljubljana:20260508T140000
DTSTAMP:20260421T065649Z
UID:fmf-AFLABS-URNIK:premaknjeno-srecanje:242322
ATTENDEE:1. letnik (Fizika, 2. stopnja)
ATTENDEE:2. letnik (Fizika, 2. stopnja)
CATEGORIES:Entry,Standard
COLOR:darkgreen
DESCRIPTION:Predmet: Kozmologija in delci v zgodnjem vesolju (FIZ-M1\, FIZ
 -M2)\, Seminar (S)\nLetniki: 1. letnik (Fizika\, 2. stopnja)\, 2. letnik (
 Fizika\, 2. stopnja)\nIzvajalci: Sašo Grozdanov\nProstor: F3
LOCATION:F3
ORGANIZER:Sašo Grozdanov
RELATED-TO:fmf-AFLABS-URNIK:srecanje:17213
X-WR-TIMEZONE:Europe/Ljubljana
END:VEVENT
BEGIN:VEVENT
SUMMARY:Kozmologija in delci v zgodnjem vesolju (FIZ-M1\, FIZ-M2)\, Semina
 r (S)
DTSTART;TZID=Europe/Ljubljana:20260515T130000
DTEND;TZID=Europe/Ljubljana:20260515T140000
DTSTAMP:20260421T065649Z
UID:fmf-AFLABS-URNIK:premaknjeno-srecanje:242323
ATTENDEE:1. letnik (Fizika, 2. stopnja)
ATTENDEE:2. letnik (Fizika, 2. stopnja)
CATEGORIES:Entry,Standard
COLOR:darkgreen
DESCRIPTION:Predmet: Kozmologija in delci v zgodnjem vesolju (FIZ-M1\, FIZ
 -M2)\, Seminar (S)\nLetniki: 1. letnik (Fizika\, 2. stopnja)\, 2. letnik (
 Fizika\, 2. stopnja)\nIzvajalci: Sašo Grozdanov\nProstor: F3
LOCATION:F3
ORGANIZER:Sašo Grozdanov
RELATED-TO:fmf-AFLABS-URNIK:srecanje:17213
X-WR-TIMEZONE:Europe/Ljubljana
END:VEVENT
BEGIN:VEVENT
SUMMARY:Kozmologija in delci v zgodnjem vesolju (FIZ-M1\, FIZ-M2)\, Semina
 r (S)
DTSTART;TZID=Europe/Ljubljana:20260522T130000
DTEND;TZID=Europe/Ljubljana:20260522T140000
DTSTAMP:20260421T065649Z
UID:fmf-AFLABS-URNIK:premaknjeno-srecanje:242324
ATTENDEE:1. letnik (Fizika, 2. stopnja)
ATTENDEE:2. letnik (Fizika, 2. stopnja)
CATEGORIES:Entry,Standard
COLOR:darkgreen
DESCRIPTION:Predmet: Kozmologija in delci v zgodnjem vesolju (FIZ-M1\, FIZ
 -M2)\, Seminar (S)\nLetniki: 1. letnik (Fizika\, 2. stopnja)\, 2. letnik (
 Fizika\, 2. stopnja)\nIzvajalci: Sašo Grozdanov\nProstor: F3
LOCATION:F3
ORGANIZER:Sašo Grozdanov
RELATED-TO:fmf-AFLABS-URNIK:srecanje:17213
X-WR-TIMEZONE:Europe/Ljubljana
END:VEVENT
BEGIN:VEVENT
SUMMARY:Kozmologija in delci v zgodnjem vesolju (FIZ-M1\, FIZ-M2)\, Semina
 r (S)
DTSTART;TZID=Europe/Ljubljana:20260529T130000
DTEND;TZID=Europe/Ljubljana:20260529T140000
DTSTAMP:20260421T065649Z
UID:fmf-AFLABS-URNIK:premaknjeno-srecanje:242325
ATTENDEE:1. letnik (Fizika, 2. stopnja)
ATTENDEE:2. letnik (Fizika, 2. stopnja)
CATEGORIES:Entry,Standard
COLOR:darkgreen
DESCRIPTION:Predmet: Kozmologija in delci v zgodnjem vesolju (FIZ-M1\, FIZ
 -M2)\, Seminar (S)\nLetniki: 1. letnik (Fizika\, 2. stopnja)\, 2. letnik (
 Fizika\, 2. stopnja)\nIzvajalci: Sašo Grozdanov\nProstor: F3
LOCATION:F3
ORGANIZER:Sašo Grozdanov
RELATED-TO:fmf-AFLABS-URNIK:srecanje:17213
X-WR-TIMEZONE:Europe/Ljubljana
END:VEVENT
END:VCALENDAR
