BEGIN:VCALENDAR
VERSION:2.0
PRODID:-//AFLabs urnik izvoz - fmf//aflabs.si//SI
DTSTAMP:20260425T024854Z
NAME:UL FMF urnik
REFRESH-INTERVAL:PT1H
SOURCE:https://urnik.fmf.uni-lj.si/en/teacher/65?day=2026-06-29&export=1
URL:https://urnik.fmf.uni-lj.si/en/teacher/65?day=2026-06-29&export=1
X-PUBLISHED-TTL:PT1H
X-WR-CALNAME:UL FMF urnik
X-WR-TIMEZONE:Europe/Ljubljana
BEGIN:VTIMEZONE
TZID:Europe/Ljubljana
BEGIN:DAYLIGHT
DTSTART:20260329T020000
RDATE:20260329T020000
RDATE:20270328T020000
TZNAME:CEST
TZOFFSETFROM:+0100
TZOFFSETTO:+0200
END:DAYLIGHT
BEGIN:STANDARD
DTSTART:20261025T030000
RDATE:20261025T030000
RDATE:20271031T030000
TZNAME:CET
TZOFFSETFROM:+0200
TZOFFSETTO:+0100
END:STANDARD
END:VTIMEZONE
BEGIN:VEVENT
SUMMARY:Numerične metode 2 (APM-3)\, Predavanja (P)
DTSTART;TZID=Europe/Ljubljana:20260525T100000
DTEND;TZID=Europe/Ljubljana:20260525T120000
DTSTAMP:20260425T024854Z
UID:fmf-AFLABS-URNIK:premaknjeno-srecanje:246818
ATTENDEE:3. letnik (APM)
CATEGORIES:Entry,Standard
COLOR:darkgreen
DESCRIPTION:Predmet: Numerične metode 2 (APM-3)\, Predavanja (P)\nLetniki
 : 3. letnik (APM)\nIzvajalci: Jan Grošelj\nProstor: 3.10
LOCATION:3.10
ORGANIZER:Jan Grošelj
RELATED-TO:fmf-AFLABS-URNIK:srecanje:16756
X-WR-TIMEZONE:Europe/Ljubljana
END:VEVENT
BEGIN:VEVENT
SUMMARY:Numerične metode 2 (APM-3)\, Predavanja (P)
DTSTART;TZID=Europe/Ljubljana:20260601T100000
DTEND;TZID=Europe/Ljubljana:20260601T120000
DTSTAMP:20260425T024854Z
UID:fmf-AFLABS-URNIK:premaknjeno-srecanje:246819
ATTENDEE:3. letnik (APM)
CATEGORIES:Entry,Standard
COLOR:darkgreen
DESCRIPTION:Predmet: Numerične metode 2 (APM-3)\, Predavanja (P)\nLetniki
 : 3. letnik (APM)\nIzvajalci: Jan Grošelj\nProstor: 3.10
LOCATION:3.10
ORGANIZER:Jan Grošelj
RELATED-TO:fmf-AFLABS-URNIK:srecanje:16756
X-WR-TIMEZONE:Europe/Ljubljana
END:VEVENT
BEGIN:VEVENT
SUMMARY:Numerične metode 2 (APM-3)\, Vaje (V)
DTSTART;TZID=Europe/Ljubljana:20260525T120000
DTEND;TZID=Europe/Ljubljana:20260525T140000
DTSTAMP:20260425T024854Z
UID:fmf-AFLABS-URNIK:premaknjeno-srecanje:246832
ATTENDEE:3. letnik (APM)
CATEGORIES:Entry,Standard
COLOR:darkgreen
DESCRIPTION:Predmet: Numerične metode 2 (APM-3)\, Vaje (V)\nLetniki: 3. l
 etnik (APM)\nIzvajalci: Jan Grošelj\nProstor: 3.10
LOCATION:3.10
ORGANIZER:Jan Grošelj
RELATED-TO:fmf-AFLABS-URNIK:srecanje:16757
X-WR-TIMEZONE:Europe/Ljubljana
END:VEVENT
BEGIN:VEVENT
SUMMARY:Numerične metode 2 (APM-3)\, Vaje (V)
DTSTART;TZID=Europe/Ljubljana:20260601T120000
DTEND;TZID=Europe/Ljubljana:20260601T140000
DTSTAMP:20260425T024854Z
UID:fmf-AFLABS-URNIK:premaknjeno-srecanje:246833
ATTENDEE:3. letnik (APM)
CATEGORIES:Entry,Standard
COLOR:darkgreen
DESCRIPTION:Predmet: Numerične metode 2 (APM-3)\, Vaje (V)\nLetniki: 3. l
 etnik (APM)\nIzvajalci: Jan Grošelj\nProstor: 3.10
LOCATION:3.10
ORGANIZER:Jan Grošelj
RELATED-TO:fmf-AFLABS-URNIK:srecanje:16757
X-WR-TIMEZONE:Europe/Ljubljana
END:VEVENT
BEGIN:VEVENT
SUMMARY:Numerično reševanje parcialnih diferencialnih enačb (FM-M\, IŠ
 RM-M\, MAT-M\, PM-5)\, Predavanja (P)
DTSTART;TZID=Europe/Ljubljana:20260527T110000
DTEND;TZID=Europe/Ljubljana:20260527T120000
DTSTAMP:20260425T024854Z
UID:fmf-AFLABS-URNIK:premaknjeno-srecanje:248056
ATTENDEE:5. letnik (PM)
ATTENDEE:magistrski študij (FM)
ATTENDEE:magistrski študij (IŠRM)
ATTENDEE:magistrski študij (M)
CATEGORIES:Entry,Standard
COLOR:darkgreen
DESCRIPTION:Predmet: Numerično reševanje parcialnih diferencialnih enač
 b (FM-M\, IŠRM-M\, MAT-M\, PM-5)\, Predavanja (P)\nLetniki: magistrski š
 tudij (FM)\, magistrski študij (IŠRM)\, magistrski študij (M)\, 5. letn
 ik (PM)\nIzvajalci: Jan Grošelj\nProstor: Kuščerjev seminar
LOCATION:Kuščerjev seminar
ORGANIZER:Jan Grošelj
RELATED-TO:fmf-AFLABS-URNIK:srecanje:17184
X-WR-TIMEZONE:Europe/Ljubljana
END:VEVENT
BEGIN:VEVENT
SUMMARY:Numerično reševanje parcialnih diferencialnih enačb (FM-M\, IŠ
 RM-M\, MAT-M\, PM-5)\, Predavanja (P)
DTSTART;TZID=Europe/Ljubljana:20260603T110000
DTEND;TZID=Europe/Ljubljana:20260603T120000
DTSTAMP:20260425T024854Z
UID:fmf-AFLABS-URNIK:premaknjeno-srecanje:248057
ATTENDEE:5. letnik (PM)
ATTENDEE:magistrski študij (FM)
ATTENDEE:magistrski študij (IŠRM)
ATTENDEE:magistrski študij (M)
CATEGORIES:Entry,Standard
COLOR:darkgreen
DESCRIPTION:Predmet: Numerično reševanje parcialnih diferencialnih enač
 b (FM-M\, IŠRM-M\, MAT-M\, PM-5)\, Predavanja (P)\nLetniki: magistrski š
 tudij (FM)\, magistrski študij (IŠRM)\, magistrski študij (M)\, 5. letn
 ik (PM)\nIzvajalci: Jan Grošelj\nProstor: Kuščerjev seminar
LOCATION:Kuščerjev seminar
ORGANIZER:Jan Grošelj
RELATED-TO:fmf-AFLABS-URNIK:srecanje:17184
X-WR-TIMEZONE:Europe/Ljubljana
END:VEVENT
BEGIN:VEVENT
SUMMARY:Numerično reševanje parcialnih diferencialnih enačb (FM-M\, IŠ
 RM-M\, MAT-M\, PM-5)\, Predavanja (P)
DTSTART;TZID=Europe/Ljubljana:20260527T120000
DTEND;TZID=Europe/Ljubljana:20260527T140000
DTSTAMP:20260425T024854Z
UID:fmf-AFLABS-URNIK:premaknjeno-srecanje:251604
ATTENDEE:5. letnik (PM)
ATTENDEE:magistrski študij (FM)
ATTENDEE:magistrski študij (IŠRM)
ATTENDEE:magistrski študij (M)
CATEGORIES:Entry,Standard
COLOR:darkgreen
DESCRIPTION:Predmet: Numerično reševanje parcialnih diferencialnih enač
 b (FM-M\, IŠRM-M\, MAT-M\, PM-5)\, Predavanja (P)\nLetniki: magistrski š
 tudij (FM)\, magistrski študij (IŠRM)\, magistrski študij (M)\, 5. letn
 ik (PM)\nIzvajalci: Jan Grošelj\nProstor: 2.03
LOCATION:2.03
ORGANIZER:Jan Grošelj
RELATED-TO:fmf-AFLABS-URNIK:srecanje:17457
X-WR-TIMEZONE:Europe/Ljubljana
END:VEVENT
BEGIN:VEVENT
SUMMARY:Numerično reševanje parcialnih diferencialnih enačb (FM-M\, IŠ
 RM-M\, MAT-M\, PM-5)\, Predavanja (P)
DTSTART;TZID=Europe/Ljubljana:20260603T120000
DTEND;TZID=Europe/Ljubljana:20260603T140000
DTSTAMP:20260425T024854Z
UID:fmf-AFLABS-URNIK:premaknjeno-srecanje:251605
ATTENDEE:5. letnik (PM)
ATTENDEE:magistrski študij (FM)
ATTENDEE:magistrski študij (IŠRM)
ATTENDEE:magistrski študij (M)
CATEGORIES:Entry,Standard
COLOR:darkgreen
DESCRIPTION:Predmet: Numerično reševanje parcialnih diferencialnih enač
 b (FM-M\, IŠRM-M\, MAT-M\, PM-5)\, Predavanja (P)\nLetniki: magistrski š
 tudij (FM)\, magistrski študij (IŠRM)\, magistrski študij (M)\, 5. letn
 ik (PM)\nIzvajalci: Jan Grošelj\nProstor: 2.03
LOCATION:2.03
ORGANIZER:Jan Grošelj
RELATED-TO:fmf-AFLABS-URNIK:srecanje:17457
X-WR-TIMEZONE:Europe/Ljubljana
END:VEVENT
END:VCALENDAR
