BEGIN:VCALENDAR
VERSION:2.0
PRODID:-//AFLabs urnik izvoz - fmf//aflabs.si//SI
DTSTAMP:20260425T034349Z
NAME:UL FMF urnik
REFRESH-INTERVAL:PT1H
SOURCE:https://urnik.fmf.uni-lj.si/en/teacher/696?day=2024-01-08&export=1
URL:https://urnik.fmf.uni-lj.si/en/teacher/696?day=2024-01-08&export=1
X-PUBLISHED-TTL:PT1H
X-WR-CALNAME:UL FMF urnik
X-WR-TIMEZONE:Europe/Ljubljana
BEGIN:VTIMEZONE
TZID:Europe/Ljubljana
BEGIN:DAYLIGHT
DTSTART:20260329T020000
RDATE:20260329T020000
RDATE:20270328T020000
TZNAME:CEST
TZOFFSETFROM:+0100
TZOFFSETTO:+0200
END:DAYLIGHT
BEGIN:STANDARD
DTSTART:20261025T030000
RDATE:20261025T030000
RDATE:20271031T030000
TZNAME:CET
TZOFFSETFROM:+0200
TZOFFSETTO:+0100
END:STANDARD
END:VTIMEZONE
BEGIN:VEVENT
SUMMARY:Rezervacija
DTSTART;TZID=Europe/Ljubljana:20231012T160000
DTEND;TZID=Europe/Ljubljana:20231012T200000
DTSTAMP:20260425T034349Z
UID:fmf-AFLABS-URNIK:rezervacija:13438
CATEGORIES:Reservation
COLOR:royalblue
DESCRIPTION:Predmeti: \nLetniki: \nIzvajalci: Mojca Avbelj Korošec\nProst
 ori: VFP
LOCATION:VFP
ORGANIZER:Mojca Avbelj Korošec
X-WR-TIMEZONE:Europe/Ljubljana
END:VEVENT
BEGIN:VEVENT
SUMMARY:Rezervacija
DTSTART;TZID=Europe/Ljubljana:20231012T160000
DTEND;TZID=Europe/Ljubljana:20231012T200000
DTSTAMP:20260425T034349Z
UID:fmf-AFLABS-URNIK:rezervacija:13439
CATEGORIES:Reservation
COLOR:royalblue
DESCRIPTION:Predmeti: \nLetniki: \nIzvajalci: Mojca Avbelj Korošec\nProst
 ori: 2.01
LOCATION:2.01
ORGANIZER:Mojca Avbelj Korošec
X-WR-TIMEZONE:Europe/Ljubljana
END:VEVENT
BEGIN:VEVENT
SUMMARY:Rezervacija
DTSTART;TZID=Europe/Ljubljana:20231012T160000
DTEND;TZID=Europe/Ljubljana:20231012T200000
DTSTAMP:20260425T034349Z
UID:fmf-AFLABS-URNIK:rezervacija:13440
CATEGORIES:Reservation
COLOR:royalblue
DESCRIPTION:Predmeti: \nLetniki: \nIzvajalci: Mojca Avbelj Korošec\nProst
 ori: 2.05
LOCATION:2.05
ORGANIZER:Mojca Avbelj Korošec
X-WR-TIMEZONE:Europe/Ljubljana
END:VEVENT
BEGIN:VEVENT
SUMMARY:Rezervacija
DTSTART;TZID=Europe/Ljubljana:20231208T120000
DTEND;TZID=Europe/Ljubljana:20231208T140000
DTSTAMP:20260425T034349Z
UID:fmf-AFLABS-URNIK:rezervacija:13744
ATTENDEE:2. letnik (FM)
CATEGORIES:Reservation
COLOR:royalblue
DESCRIPTION:Predmeti: Analiza 3 (FM-2)\nLetniki: 2. letnik (FM)\nIzvajalci
 : Mojca Avbelj Korošec\nProstori: VFP
LOCATION:VFP
ORGANIZER:Mojca Avbelj Korošec
X-WR-TIMEZONE:Europe/Ljubljana
END:VEVENT
BEGIN:VEVENT
SUMMARY:Rezervacija
DTSTART;TZID=Europe/Ljubljana:20231208T130000
DTEND;TZID=Europe/Ljubljana:20231208T160000
DTSTAMP:20260425T034349Z
UID:fmf-AFLABS-URNIK:rezervacija:13745
ATTENDEE:5. letnik (PM)
ATTENDEE:magistrski študij (FM)
ATTENDEE:magistrski študij (IŠRM)
ATTENDEE:magistrski študij (M)
CATEGORIES:Reservation
COLOR:royalblue
DESCRIPTION:Predmeti: Izbrana poglavja iz računalniške matematike  / Ver
 jetnostne metode v računalništvu (FM-M\, IŠRM-M\, MAT-M\, PM-5)\nLetnik
 i: magistrski študij (FM)\, magistrski študij (IŠRM)\, magistrski štud
 ij (M)\, 5. letnik (PM)\nIzvajalci: Mojca Avbelj Korošec\nProstori: P.02
LOCATION:P.02
ORGANIZER:Mojca Avbelj Korošec
X-WR-TIMEZONE:Europe/Ljubljana
END:VEVENT
BEGIN:VEVENT
SUMMARY:Rezervacija
DTSTART;TZID=Europe/Ljubljana:20231208T150000
DTEND;TZID=Europe/Ljubljana:20231208T170000
DTSTAMP:20260425T034349Z
UID:fmf-AFLABS-URNIK:rezervacija:13750
ATTENDEE:2. letnik (FM)
CATEGORIES:Reservation
COLOR:royalblue
DESCRIPTION:Predmeti: Makroekonomija (FM-2)\nLetniki: 2. letnik (FM)\nIzva
 jalci: Mojca Avbelj Korošec\nProstori: P.01
LOCATION:P.01
ORGANIZER:Mojca Avbelj Korošec
X-WR-TIMEZONE:Europe/Ljubljana
END:VEVENT
BEGIN:VEVENT
SUMMARY:Rezervacija
DTSTART;TZID=Europe/Ljubljana:20231211T160000
DTEND;TZID=Europe/Ljubljana:20231211T180000
DTSTAMP:20260425T034349Z
UID:fmf-AFLABS-URNIK:rezervacija:13761
CATEGORIES:Reservation
COLOR:royalblue
DESCRIPTION:Predmeti: \nLetniki: \nIzvajalci: Mojca Avbelj Korošec\nProst
 ori: 2.05
LOCATION:2.05
ORGANIZER:Mojca Avbelj Korošec
X-WR-TIMEZONE:Europe/Ljubljana
END:VEVENT
BEGIN:VEVENT
SUMMARY:Srečanje slovenskih raziskovalcev s področja analize omrežij\, 
 NetSLO-24
DTSTART;TZID=Europe/Ljubljana:20240125T130000
DTEND;TZID=Europe/Ljubljana:20240125T190000
DTSTAMP:20260425T034349Z
UID:fmf-AFLABS-URNIK:rezervacija:14221
CATEGORIES:Reservation
COLOR:royalblue
DESCRIPTION:Predmeti: \nLetniki: \nIzvajalci: Mojca Avbelj Korošec\, Ljup
 čo Todorovski\nProstori: 2.01
LOCATION:2.01
ORGANIZER:Mojca Avbelj Korošec, Ljupčo Todorovski
X-WR-TIMEZONE:Europe/Ljubljana
END:VEVENT
BEGIN:VEVENT
SUMMARY:ZPS OM
DTSTART;TZID=Europe/Ljubljana:20240207T120000
DTEND;TZID=Europe/Ljubljana:20240207T150000
DTSTAMP:20260425T034349Z
UID:fmf-AFLABS-URNIK:rezervacija:14310
CATEGORIES:Reservation
COLOR:royalblue
DESCRIPTION:Predmeti: \nLetniki: \nIzvajalci: Mojca Avbelj Korošec\nProst
 ori: P.02
LOCATION:P.02
ORGANIZER:Mojca Avbelj Korošec
X-WR-TIMEZONE:Europe/Ljubljana
END:VEVENT
BEGIN:VEVENT
SUMMARY:kolegij učiteljev
DTSTART;TZID=Europe/Ljubljana:20240131T120000
DTEND;TZID=Europe/Ljubljana:20240131T140000
DTSTAMP:20260425T034349Z
UID:fmf-AFLABS-URNIK:rezervacija:14382
CATEGORIES:Reservation
COLOR:royalblue
DESCRIPTION:Predmeti: \nLetniki: \nIzvajalci: Mojca Avbelj Korošec\nProst
 ori: 2.02
LOCATION:2.02
ORGANIZER:Mojca Avbelj Korošec
X-WR-TIMEZONE:Europe/Ljubljana
END:VEVENT
BEGIN:VEVENT
SUMMARY:strateški sestanek z vodji programskih skupin
DTSTART;TZID=Europe/Ljubljana:20240124T120000
DTEND;TZID=Europe/Ljubljana:20240124T150000
DTSTAMP:20260425T034349Z
UID:fmf-AFLABS-URNIK:rezervacija:14482
CATEGORIES:Reservation
COLOR:royalblue
DESCRIPTION:Predmeti: \nLetniki: \nIzvajalci: Mojca Avbelj Korošec\nProst
 ori: P.02
LOCATION:P.02
ORGANIZER:Mojca Avbelj Korošec
X-WR-TIMEZONE:Europe/Ljubljana
END:VEVENT
END:VCALENDAR
