BEGIN:VCALENDAR
VERSION:2.0
PRODID:-//AFLabs urnik izvoz - fmf//aflabs.si//SI
DTSTAMP:20260426T010207Z
NAME:UL FMF urnik
REFRESH-INTERVAL:PT1H
SOURCE:https://urnik.fmf.uni-lj.si/en/teacher/696?day=2024-07-08&export=1
URL:https://urnik.fmf.uni-lj.si/en/teacher/696?day=2024-07-08&export=1
X-PUBLISHED-TTL:PT1H
X-WR-CALNAME:UL FMF urnik
X-WR-TIMEZONE:Europe/Ljubljana
BEGIN:VTIMEZONE
TZID:Europe/Ljubljana
BEGIN:DAYLIGHT
DTSTART:20260329T020000
RDATE:20260329T020000
RDATE:20270328T020000
TZNAME:CEST
TZOFFSETFROM:+0100
TZOFFSETTO:+0200
END:DAYLIGHT
BEGIN:STANDARD
DTSTART:20261025T030000
RDATE:20261025T030000
RDATE:20271031T030000
TZNAME:CET
TZOFFSETFROM:+0200
TZOFFSETTO:+0100
END:STANDARD
END:VTIMEZONE
BEGIN:VEVENT
SUMMARY:Poletna šola "Mathematics in Ljubljana 2024"
DTSTART;TZID=Europe/Ljubljana:20240701T090000
DTEND;TZID=Europe/Ljubljana:20240701T180000
DTSTAMP:20260426T010207Z
UID:fmf-AFLABS-URNIK:rezervacija:15542
CATEGORIES:Reservation
COLOR:royalblue
DESCRIPTION:Predmeti: \nLetniki: \nIzvajalci: Mojca Avbelj Korošec\nProst
 ori: 2.02
LOCATION:2.02
ORGANIZER:Mojca Avbelj Korošec
X-WR-TIMEZONE:Europe/Ljubljana
END:VEVENT
BEGIN:VEVENT
SUMMARY:Poletna šola "Mathematics in Ljubljana 2024"
DTSTART;TZID=Europe/Ljubljana:20240702T090000
DTEND;TZID=Europe/Ljubljana:20240702T180000
DTSTAMP:20260426T010207Z
UID:fmf-AFLABS-URNIK:rezervacija:15543
CATEGORIES:Reservation
COLOR:royalblue
DESCRIPTION:Predmeti: \nLetniki: \nIzvajalci: Mojca Avbelj Korošec\nProst
 ori: 2.02
LOCATION:2.02
ORGANIZER:Mojca Avbelj Korošec
X-WR-TIMEZONE:Europe/Ljubljana
END:VEVENT
BEGIN:VEVENT
SUMMARY:Poletna šola "Mathematics in Ljubljana 2024"
DTSTART;TZID=Europe/Ljubljana:20240704T090000
DTEND;TZID=Europe/Ljubljana:20240704T180000
DTSTAMP:20260426T010207Z
UID:fmf-AFLABS-URNIK:rezervacija:15545
CATEGORIES:Reservation
COLOR:royalblue
DESCRIPTION:Predmeti: \nLetniki: \nIzvajalci: Mojca Avbelj Korošec\nProst
 ori: 2.02
LOCATION:2.02
ORGANIZER:Mojca Avbelj Korošec
X-WR-TIMEZONE:Europe/Ljubljana
END:VEVENT
BEGIN:VEVENT
SUMMARY:Poletna šola "Mathematics in Ljubljana 2024"
DTSTART;TZID=Europe/Ljubljana:20240705T090000
DTEND;TZID=Europe/Ljubljana:20240705T180000
DTSTAMP:20260426T010207Z
UID:fmf-AFLABS-URNIK:rezervacija:15546
CATEGORIES:Reservation
COLOR:royalblue
DESCRIPTION:Predmeti: \nLetniki: \nIzvajalci: Mojca Avbelj Korošec\nProst
 ori: 2.02
LOCATION:2.02
ORGANIZER:Mojca Avbelj Korošec
X-WR-TIMEZONE:Europe/Ljubljana
END:VEVENT
BEGIN:VEVENT
SUMMARY:Posvetovalni obisk UL
DTSTART;TZID=Europe/Ljubljana:20240603T080000
DTEND;TZID=Europe/Ljubljana:20240603T150000
DTSTAMP:20260426T010207Z
UID:fmf-AFLABS-URNIK:rezervacija:16520
CATEGORIES:Reservation
COLOR:royalblue
DESCRIPTION:Predmeti: \nLetniki: \nIzvajalci: Mojca Avbelj Korošec\nProst
 ori: 3.05
LOCATION:3.05
ORGANIZER:Mojca Avbelj Korošec
X-WR-TIMEZONE:Europe/Ljubljana
END:VEVENT
BEGIN:VEVENT
SUMMARY:ZPS OM
DTSTART;TZID=Europe/Ljubljana:20240605T120000
DTEND;TZID=Europe/Ljubljana:20240605T150000
DTSTAMP:20260426T010207Z
UID:fmf-AFLABS-URNIK:rezervacija:16716
CATEGORIES:Reservation
COLOR:royalblue
DESCRIPTION:Predmeti: \nLetniki: \nIzvajalci: Mojca Avbelj Korošec\nProst
 ori: P.02
LOCATION:P.02
ORGANIZER:Mojca Avbelj Korošec
X-WR-TIMEZONE:Europe/Ljubljana
END:VEVENT
BEGIN:VEVENT
SUMMARY:2. sestanek PO posvetovalnem obisku
DTSTART;TZID=Europe/Ljubljana:20240703T110000
DTEND;TZID=Europe/Ljubljana:20240703T130000
DTSTAMP:20260426T010207Z
UID:fmf-AFLABS-URNIK:rezervacija:17096
CATEGORIES:Reservation
COLOR:royalblue
DESCRIPTION:Predmeti: \nLetniki: \nIzvajalci: Mojca Avbelj Korošec\nProst
 ori: Sejna soba J21
LOCATION:Sejna soba J21
ORGANIZER:Mojca Avbelj Korošec
X-WR-TIMEZONE:Europe/Ljubljana
END:VEVENT
BEGIN:VEVENT
SUMMARY:kolegij RP OM in UO OM
DTSTART;TZID=Europe/Ljubljana:20240612T120000
DTEND;TZID=Europe/Ljubljana:20240612T150000
DTSTAMP:20260426T010207Z
UID:fmf-AFLABS-URNIK:rezervacija:17110
CATEGORIES:Reservation
COLOR:royalblue
DESCRIPTION:Predmeti: \nLetniki: \nIzvajalci: Mojca Avbelj Korošec\nProst
 ori: 2.02
LOCATION:2.02
ORGANIZER:Mojca Avbelj Korošec
X-WR-TIMEZONE:Europe/Ljubljana
END:VEVENT
END:VCALENDAR
