BEGIN:VCALENDAR
VERSION:2.0
PRODID:-//AFLabs urnik izvoz - fmf//aflabs.si//SI
DTSTAMP:20260424T001245Z
NAME:UL FMF urnik
REFRESH-INTERVAL:PT1H
SOURCE:https://urnik.fmf.uni-lj.si/en/teacher/6?day=2026-06-01&export=1
URL:https://urnik.fmf.uni-lj.si/en/teacher/6?day=2026-06-01&export=1
X-PUBLISHED-TTL:PT1H
X-WR-CALNAME:UL FMF urnik
X-WR-TIMEZONE:Europe/Ljubljana
BEGIN:VTIMEZONE
TZID:Europe/Ljubljana
BEGIN:DAYLIGHT
DTSTART:20260329T020000
RDATE:20260329T020000
RDATE:20270328T020000
TZNAME:CEST
TZOFFSETFROM:+0100
TZOFFSETTO:+0200
END:DAYLIGHT
BEGIN:STANDARD
DTSTART:20261025T030000
RDATE:20261025T030000
RDATE:20271031T030000
TZNAME:CET
TZOFFSETFROM:+0200
TZOFFSETTO:+0100
END:STANDARD
END:VTIMEZONE
BEGIN:VEVENT
SUMMARY:Seminar za kompleksno analizo (MAT-D)\, Seminar (S)
DTSTART;TZID=Europe/Ljubljana:20260217T120000
DTEND;TZID=Europe/Ljubljana:20260217T140000
DTSTAMP:20260424T001245Z
UID:fmf-AFLABS-URNIK:premaknjeno-srecanje:249169
ATTENDEE:doktorski študij (M)
CATEGORIES:Entry,Standard
COLOR:darkgreen
DESCRIPTION:Predmet: Seminar za kompleksno analizo (MAT-D)\, Seminar (S)\n
 Letniki: doktorski študij (M)\nIzvajalci: Barbara Drinovec Drnovšek\, Fr
 anc Forstnerič\nProstor: 3.05
LOCATION:3.05
ORGANIZER:Barbara Drinovec Drnovšek, Franc Forstnerič
RELATED-TO:fmf-AFLABS-URNIK:srecanje:16867
X-WR-TIMEZONE:Europe/Ljubljana
END:VEVENT
BEGIN:VEVENT
SUMMARY:Seminar za kompleksno analizo (MAT-D)\, Seminar (S)
DTSTART;TZID=Europe/Ljubljana:20260224T120000
DTEND;TZID=Europe/Ljubljana:20260224T140000
DTSTAMP:20260424T001245Z
UID:fmf-AFLABS-URNIK:premaknjeno-srecanje:249170
ATTENDEE:doktorski študij (M)
CATEGORIES:Entry,Standard
COLOR:darkgreen
DESCRIPTION:Predmet: Seminar za kompleksno analizo (MAT-D)\, Seminar (S)\n
 Letniki: doktorski študij (M)\nIzvajalci: Barbara Drinovec Drnovšek\, Fr
 anc Forstnerič\nProstor: 3.05
LOCATION:3.05
ORGANIZER:Barbara Drinovec Drnovšek, Franc Forstnerič
RELATED-TO:fmf-AFLABS-URNIK:srecanje:16867
X-WR-TIMEZONE:Europe/Ljubljana
END:VEVENT
BEGIN:VEVENT
SUMMARY:Seminar za kompleksno analizo (MAT-D)\, Seminar (S)
DTSTART;TZID=Europe/Ljubljana:20260303T120000
DTEND;TZID=Europe/Ljubljana:20260303T140000
DTSTAMP:20260424T001245Z
UID:fmf-AFLABS-URNIK:premaknjeno-srecanje:249171
ATTENDEE:doktorski študij (M)
CATEGORIES:Entry,Standard
COLOR:darkgreen
DESCRIPTION:Predmet: Seminar za kompleksno analizo (MAT-D)\, Seminar (S)\n
 Letniki: doktorski študij (M)\nIzvajalci: Barbara Drinovec Drnovšek\, Fr
 anc Forstnerič\nProstor: 3.05
LOCATION:3.05
ORGANIZER:Barbara Drinovec Drnovšek, Franc Forstnerič
RELATED-TO:fmf-AFLABS-URNIK:srecanje:16867
X-WR-TIMEZONE:Europe/Ljubljana
END:VEVENT
BEGIN:VEVENT
SUMMARY:Seminar za kompleksno analizo (MAT-D)\, Seminar (S)
DTSTART;TZID=Europe/Ljubljana:20260310T120000
DTEND;TZID=Europe/Ljubljana:20260310T140000
DTSTAMP:20260424T001245Z
UID:fmf-AFLABS-URNIK:premaknjeno-srecanje:249172
ATTENDEE:doktorski študij (M)
CATEGORIES:Entry,Standard
COLOR:darkgreen
DESCRIPTION:Predmet: Seminar za kompleksno analizo (MAT-D)\, Seminar (S)\n
 Letniki: doktorski študij (M)\nIzvajalci: Barbara Drinovec Drnovšek\, Fr
 anc Forstnerič\nProstor: 3.05
LOCATION:3.05
ORGANIZER:Barbara Drinovec Drnovšek, Franc Forstnerič
RELATED-TO:fmf-AFLABS-URNIK:srecanje:16867
X-WR-TIMEZONE:Europe/Ljubljana
END:VEVENT
BEGIN:VEVENT
SUMMARY:Seminar za kompleksno analizo (MAT-D)\, Seminar (S)
DTSTART;TZID=Europe/Ljubljana:20260317T120000
DTEND;TZID=Europe/Ljubljana:20260317T140000
DTSTAMP:20260424T001245Z
UID:fmf-AFLABS-URNIK:premaknjeno-srecanje:249173
ATTENDEE:doktorski študij (M)
CATEGORIES:Entry,Standard
COLOR:darkgreen
DESCRIPTION:Predmet: Seminar za kompleksno analizo (MAT-D)\, Seminar (S)\n
 Letniki: doktorski študij (M)\nIzvajalci: Barbara Drinovec Drnovšek\, Fr
 anc Forstnerič\nProstor: 3.05
LOCATION:3.05
ORGANIZER:Barbara Drinovec Drnovšek, Franc Forstnerič
RELATED-TO:fmf-AFLABS-URNIK:srecanje:16867
X-WR-TIMEZONE:Europe/Ljubljana
END:VEVENT
BEGIN:VEVENT
SUMMARY:Seminar za kompleksno analizo (MAT-D)\, Seminar (S)
DTSTART;TZID=Europe/Ljubljana:20260324T120000
DTEND;TZID=Europe/Ljubljana:20260324T140000
DTSTAMP:20260424T001245Z
UID:fmf-AFLABS-URNIK:premaknjeno-srecanje:249174
ATTENDEE:doktorski študij (M)
CATEGORIES:Entry,Standard
COLOR:darkgreen
DESCRIPTION:Predmet: Seminar za kompleksno analizo (MAT-D)\, Seminar (S)\n
 Letniki: doktorski študij (M)\nIzvajalci: Barbara Drinovec Drnovšek\, Fr
 anc Forstnerič\nProstor: 3.05
LOCATION:3.05
ORGANIZER:Barbara Drinovec Drnovšek, Franc Forstnerič
RELATED-TO:fmf-AFLABS-URNIK:srecanje:16867
X-WR-TIMEZONE:Europe/Ljubljana
END:VEVENT
BEGIN:VEVENT
SUMMARY:Seminar za kompleksno analizo (MAT-D)\, Seminar (S)
DTSTART;TZID=Europe/Ljubljana:20260331T120000
DTEND;TZID=Europe/Ljubljana:20260331T140000
DTSTAMP:20260424T001245Z
UID:fmf-AFLABS-URNIK:premaknjeno-srecanje:249175
ATTENDEE:doktorski študij (M)
CATEGORIES:Entry,Standard
COLOR:darkgreen
DESCRIPTION:Predmet: Seminar za kompleksno analizo (MAT-D)\, Seminar (S)\n
 Letniki: doktorski študij (M)\nIzvajalci: Barbara Drinovec Drnovšek\, Fr
 anc Forstnerič\nProstor: 3.05
LOCATION:3.05
ORGANIZER:Barbara Drinovec Drnovšek, Franc Forstnerič
RELATED-TO:fmf-AFLABS-URNIK:srecanje:16867
X-WR-TIMEZONE:Europe/Ljubljana
END:VEVENT
BEGIN:VEVENT
SUMMARY:Seminar za kompleksno analizo (MAT-D)\, Seminar (S)
DTSTART;TZID=Europe/Ljubljana:20260407T120000
DTEND;TZID=Europe/Ljubljana:20260407T140000
DTSTAMP:20260424T001245Z
UID:fmf-AFLABS-URNIK:premaknjeno-srecanje:249176
ATTENDEE:doktorski študij (M)
CATEGORIES:Entry,Standard
COLOR:darkgreen
DESCRIPTION:Predmet: Seminar za kompleksno analizo (MAT-D)\, Seminar (S)\n
 Letniki: doktorski študij (M)\nIzvajalci: Barbara Drinovec Drnovšek\, Fr
 anc Forstnerič\nProstor: 3.05
LOCATION:3.05
ORGANIZER:Barbara Drinovec Drnovšek, Franc Forstnerič
RELATED-TO:fmf-AFLABS-URNIK:srecanje:16867
X-WR-TIMEZONE:Europe/Ljubljana
END:VEVENT
BEGIN:VEVENT
SUMMARY:Seminar za kompleksno analizo (MAT-D)\, Seminar (S)
DTSTART;TZID=Europe/Ljubljana:20260414T120000
DTEND;TZID=Europe/Ljubljana:20260414T140000
DTSTAMP:20260424T001245Z
UID:fmf-AFLABS-URNIK:premaknjeno-srecanje:249177
ATTENDEE:doktorski študij (M)
CATEGORIES:Entry,Standard
COLOR:darkgreen
DESCRIPTION:Predmet: Seminar za kompleksno analizo (MAT-D)\, Seminar (S)\n
 Letniki: doktorski študij (M)\nIzvajalci: Barbara Drinovec Drnovšek\, Fr
 anc Forstnerič\nProstor: 3.05
LOCATION:3.05
ORGANIZER:Barbara Drinovec Drnovšek, Franc Forstnerič
RELATED-TO:fmf-AFLABS-URNIK:srecanje:16867
X-WR-TIMEZONE:Europe/Ljubljana
END:VEVENT
BEGIN:VEVENT
SUMMARY:Seminar za kompleksno analizo (MAT-D)\, Seminar (S)
DTSTART;TZID=Europe/Ljubljana:20260421T120000
DTEND;TZID=Europe/Ljubljana:20260421T140000
DTSTAMP:20260424T001245Z
UID:fmf-AFLABS-URNIK:premaknjeno-srecanje:249178
ATTENDEE:doktorski študij (M)
CATEGORIES:Entry,Standard
COLOR:darkgreen
DESCRIPTION:Predmet: Seminar za kompleksno analizo (MAT-D)\, Seminar (S)\n
 Letniki: doktorski študij (M)\nIzvajalci: Barbara Drinovec Drnovšek\, Fr
 anc Forstnerič\nProstor: 3.05
LOCATION:3.05
ORGANIZER:Barbara Drinovec Drnovšek, Franc Forstnerič
RELATED-TO:fmf-AFLABS-URNIK:srecanje:16867
X-WR-TIMEZONE:Europe/Ljubljana
END:VEVENT
BEGIN:VEVENT
SUMMARY:Seminar za kompleksno analizo (MAT-D)\, Seminar (S)
DTSTART;TZID=Europe/Ljubljana:20260428T120000
DTEND;TZID=Europe/Ljubljana:20260428T140000
DTSTAMP:20260424T001245Z
UID:fmf-AFLABS-URNIK:premaknjeno-srecanje:249179
ATTENDEE:doktorski študij (M)
CATEGORIES:Entry,Standard
COLOR:darkgreen
DESCRIPTION:Predmet: Seminar za kompleksno analizo (MAT-D)\, Seminar (S)\n
 Letniki: doktorski študij (M)\nIzvajalci: Barbara Drinovec Drnovšek\, Fr
 anc Forstnerič\nProstor: 3.05
LOCATION:3.05
ORGANIZER:Barbara Drinovec Drnovšek, Franc Forstnerič
RELATED-TO:fmf-AFLABS-URNIK:srecanje:16867
X-WR-TIMEZONE:Europe/Ljubljana
END:VEVENT
BEGIN:VEVENT
SUMMARY:Seminar za kompleksno analizo (MAT-D)\, Seminar (S)
DTSTART;TZID=Europe/Ljubljana:20260505T120000
DTEND;TZID=Europe/Ljubljana:20260505T140000
DTSTAMP:20260424T001245Z
UID:fmf-AFLABS-URNIK:premaknjeno-srecanje:249180
ATTENDEE:doktorski študij (M)
CATEGORIES:Entry,Standard
COLOR:darkgreen
DESCRIPTION:Predmet: Seminar za kompleksno analizo (MAT-D)\, Seminar (S)\n
 Letniki: doktorski študij (M)\nIzvajalci: Barbara Drinovec Drnovšek\, Fr
 anc Forstnerič\nProstor: 3.05
LOCATION:3.05
ORGANIZER:Barbara Drinovec Drnovšek, Franc Forstnerič
RELATED-TO:fmf-AFLABS-URNIK:srecanje:16867
X-WR-TIMEZONE:Europe/Ljubljana
END:VEVENT
BEGIN:VEVENT
SUMMARY:Seminar za kompleksno analizo (MAT-D)\, Seminar (S)
DTSTART;TZID=Europe/Ljubljana:20260512T120000
DTEND;TZID=Europe/Ljubljana:20260512T140000
DTSTAMP:20260424T001245Z
UID:fmf-AFLABS-URNIK:premaknjeno-srecanje:249181
ATTENDEE:doktorski študij (M)
CATEGORIES:Entry,Standard
COLOR:darkgreen
DESCRIPTION:Predmet: Seminar za kompleksno analizo (MAT-D)\, Seminar (S)\n
 Letniki: doktorski študij (M)\nIzvajalci: Barbara Drinovec Drnovšek\, Fr
 anc Forstnerič\nProstor: 3.05
LOCATION:3.05
ORGANIZER:Barbara Drinovec Drnovšek, Franc Forstnerič
RELATED-TO:fmf-AFLABS-URNIK:srecanje:16867
X-WR-TIMEZONE:Europe/Ljubljana
END:VEVENT
BEGIN:VEVENT
SUMMARY:Seminar za kompleksno analizo (MAT-D)\, Seminar (S)
DTSTART;TZID=Europe/Ljubljana:20260519T120000
DTEND;TZID=Europe/Ljubljana:20260519T140000
DTSTAMP:20260424T001245Z
UID:fmf-AFLABS-URNIK:premaknjeno-srecanje:249182
ATTENDEE:doktorski študij (M)
CATEGORIES:Entry,Standard
COLOR:darkgreen
DESCRIPTION:Predmet: Seminar za kompleksno analizo (MAT-D)\, Seminar (S)\n
 Letniki: doktorski študij (M)\nIzvajalci: Barbara Drinovec Drnovšek\, Fr
 anc Forstnerič\nProstor: 3.05
LOCATION:3.05
ORGANIZER:Barbara Drinovec Drnovšek, Franc Forstnerič
RELATED-TO:fmf-AFLABS-URNIK:srecanje:16867
X-WR-TIMEZONE:Europe/Ljubljana
END:VEVENT
BEGIN:VEVENT
SUMMARY:Seminar za kompleksno analizo (MAT-D)\, Seminar (S)
DTSTART;TZID=Europe/Ljubljana:20260526T120000
DTEND;TZID=Europe/Ljubljana:20260526T140000
DTSTAMP:20260424T001245Z
UID:fmf-AFLABS-URNIK:premaknjeno-srecanje:249183
ATTENDEE:doktorski študij (M)
CATEGORIES:Entry,Standard
COLOR:darkgreen
DESCRIPTION:Predmet: Seminar za kompleksno analizo (MAT-D)\, Seminar (S)\n
 Letniki: doktorski študij (M)\nIzvajalci: Barbara Drinovec Drnovšek\, Fr
 anc Forstnerič\nProstor: 3.05
LOCATION:3.05
ORGANIZER:Barbara Drinovec Drnovšek, Franc Forstnerič
RELATED-TO:fmf-AFLABS-URNIK:srecanje:16867
X-WR-TIMEZONE:Europe/Ljubljana
END:VEVENT
BEGIN:VEVENT
SUMMARY:Seminar za kompleksno analizo (MAT-D)\, Seminar (S)
DTSTART;TZID=Europe/Ljubljana:20260602T120000
DTEND;TZID=Europe/Ljubljana:20260602T140000
DTSTAMP:20260424T001245Z
UID:fmf-AFLABS-URNIK:premaknjeno-srecanje:249184
ATTENDEE:doktorski študij (M)
CATEGORIES:Entry,Standard
COLOR:darkgreen
DESCRIPTION:Predmet: Seminar za kompleksno analizo (MAT-D)\, Seminar (S)\n
 Letniki: doktorski študij (M)\nIzvajalci: Barbara Drinovec Drnovšek\, Fr
 anc Forstnerič\nProstor: 3.05
LOCATION:3.05
ORGANIZER:Barbara Drinovec Drnovšek, Franc Forstnerič
RELATED-TO:fmf-AFLABS-URNIK:srecanje:16867
X-WR-TIMEZONE:Europe/Ljubljana
END:VEVENT
BEGIN:VEVENT
SUMMARY:Govorilna ura ()\, Predavanja (P)
DTSTART;TZID=Europe/Ljubljana:20260219T140000
DTEND;TZID=Europe/Ljubljana:20260219T150000
DTSTAMP:20260424T001245Z
UID:fmf-AFLABS-URNIK:premaknjeno-srecanje:236820
CATEGORIES:Entry,Standard
COLOR:darkgreen
DESCRIPTION:Predmet: Govorilna ura ()\, Predavanja (P)\nLetniki: \nIzvajal
 ci: Franc Forstnerič\nProstor: 4.24
LOCATION:4.24
ORGANIZER:Franc Forstnerič
RELATED-TO:fmf-AFLABS-URNIK:srecanje:16815
X-WR-TIMEZONE:Europe/Ljubljana
END:VEVENT
BEGIN:VEVENT
SUMMARY:Govorilna ura ()\, Predavanja (P)
DTSTART;TZID=Europe/Ljubljana:20260226T140000
DTEND;TZID=Europe/Ljubljana:20260226T150000
DTSTAMP:20260424T001245Z
UID:fmf-AFLABS-URNIK:premaknjeno-srecanje:236821
CATEGORIES:Entry,Standard
COLOR:darkgreen
DESCRIPTION:Predmet: Govorilna ura ()\, Predavanja (P)\nLetniki: \nIzvajal
 ci: Franc Forstnerič\nProstor: 4.24
LOCATION:4.24
ORGANIZER:Franc Forstnerič
RELATED-TO:fmf-AFLABS-URNIK:srecanje:16815
X-WR-TIMEZONE:Europe/Ljubljana
END:VEVENT
BEGIN:VEVENT
SUMMARY:Govorilna ura ()\, Predavanja (P)
DTSTART;TZID=Europe/Ljubljana:20260305T140000
DTEND;TZID=Europe/Ljubljana:20260305T150000
DTSTAMP:20260424T001245Z
UID:fmf-AFLABS-URNIK:premaknjeno-srecanje:236822
CATEGORIES:Entry,Standard
COLOR:darkgreen
DESCRIPTION:Predmet: Govorilna ura ()\, Predavanja (P)\nLetniki: \nIzvajal
 ci: Franc Forstnerič\nProstor: 4.24
LOCATION:4.24
ORGANIZER:Franc Forstnerič
RELATED-TO:fmf-AFLABS-URNIK:srecanje:16815
X-WR-TIMEZONE:Europe/Ljubljana
END:VEVENT
BEGIN:VEVENT
SUMMARY:Govorilna ura ()\, Predavanja (P)
DTSTART;TZID=Europe/Ljubljana:20260312T140000
DTEND;TZID=Europe/Ljubljana:20260312T150000
DTSTAMP:20260424T001245Z
UID:fmf-AFLABS-URNIK:premaknjeno-srecanje:236823
CATEGORIES:Entry,Standard
COLOR:darkgreen
DESCRIPTION:Predmet: Govorilna ura ()\, Predavanja (P)\nLetniki: \nIzvajal
 ci: Franc Forstnerič\nProstor: 4.24
LOCATION:4.24
ORGANIZER:Franc Forstnerič
RELATED-TO:fmf-AFLABS-URNIK:srecanje:16815
X-WR-TIMEZONE:Europe/Ljubljana
END:VEVENT
BEGIN:VEVENT
SUMMARY:Govorilna ura ()\, Predavanja (P)
DTSTART;TZID=Europe/Ljubljana:20260319T140000
DTEND;TZID=Europe/Ljubljana:20260319T150000
DTSTAMP:20260424T001245Z
UID:fmf-AFLABS-URNIK:premaknjeno-srecanje:236824
CATEGORIES:Entry,Standard
COLOR:darkgreen
DESCRIPTION:Predmet: Govorilna ura ()\, Predavanja (P)\nLetniki: \nIzvajal
 ci: Franc Forstnerič\nProstor: 4.24
LOCATION:4.24
ORGANIZER:Franc Forstnerič
RELATED-TO:fmf-AFLABS-URNIK:srecanje:16815
X-WR-TIMEZONE:Europe/Ljubljana
END:VEVENT
BEGIN:VEVENT
SUMMARY:Govorilna ura ()\, Predavanja (P)
DTSTART;TZID=Europe/Ljubljana:20260326T140000
DTEND;TZID=Europe/Ljubljana:20260326T150000
DTSTAMP:20260424T001245Z
UID:fmf-AFLABS-URNIK:premaknjeno-srecanje:236825
CATEGORIES:Entry,Standard
COLOR:darkgreen
DESCRIPTION:Predmet: Govorilna ura ()\, Predavanja (P)\nLetniki: \nIzvajal
 ci: Franc Forstnerič\nProstor: 4.24
LOCATION:4.24
ORGANIZER:Franc Forstnerič
RELATED-TO:fmf-AFLABS-URNIK:srecanje:16815
X-WR-TIMEZONE:Europe/Ljubljana
END:VEVENT
BEGIN:VEVENT
SUMMARY:Govorilna ura ()\, Predavanja (P)
DTSTART;TZID=Europe/Ljubljana:20260402T140000
DTEND;TZID=Europe/Ljubljana:20260402T150000
DTSTAMP:20260424T001245Z
UID:fmf-AFLABS-URNIK:premaknjeno-srecanje:236826
CATEGORIES:Entry,Standard
COLOR:darkgreen
DESCRIPTION:Predmet: Govorilna ura ()\, Predavanja (P)\nLetniki: \nIzvajal
 ci: Franc Forstnerič\nProstor: 4.24
LOCATION:4.24
ORGANIZER:Franc Forstnerič
RELATED-TO:fmf-AFLABS-URNIK:srecanje:16815
X-WR-TIMEZONE:Europe/Ljubljana
END:VEVENT
BEGIN:VEVENT
SUMMARY:Govorilna ura ()\, Predavanja (P)
DTSTART;TZID=Europe/Ljubljana:20260409T140000
DTEND;TZID=Europe/Ljubljana:20260409T150000
DTSTAMP:20260424T001245Z
UID:fmf-AFLABS-URNIK:premaknjeno-srecanje:236827
CATEGORIES:Entry,Standard
COLOR:darkgreen
DESCRIPTION:Predmet: Govorilna ura ()\, Predavanja (P)\nLetniki: \nIzvajal
 ci: Franc Forstnerič\nProstor: 4.24
LOCATION:4.24
ORGANIZER:Franc Forstnerič
RELATED-TO:fmf-AFLABS-URNIK:srecanje:16815
X-WR-TIMEZONE:Europe/Ljubljana
END:VEVENT
BEGIN:VEVENT
SUMMARY:Govorilna ura ()\, Predavanja (P)
DTSTART;TZID=Europe/Ljubljana:20260416T140000
DTEND;TZID=Europe/Ljubljana:20260416T150000
DTSTAMP:20260424T001245Z
UID:fmf-AFLABS-URNIK:premaknjeno-srecanje:236828
CATEGORIES:Entry,Standard
COLOR:darkgreen
DESCRIPTION:Predmet: Govorilna ura ()\, Predavanja (P)\nLetniki: \nIzvajal
 ci: Franc Forstnerič\nProstor: 4.24
LOCATION:4.24
ORGANIZER:Franc Forstnerič
RELATED-TO:fmf-AFLABS-URNIK:srecanje:16815
X-WR-TIMEZONE:Europe/Ljubljana
END:VEVENT
BEGIN:VEVENT
SUMMARY:Govorilna ura ()\, Predavanja (P)
DTSTART;TZID=Europe/Ljubljana:20260423T140000
DTEND;TZID=Europe/Ljubljana:20260423T150000
DTSTAMP:20260424T001245Z
UID:fmf-AFLABS-URNIK:premaknjeno-srecanje:236829
CATEGORIES:Entry,Standard
COLOR:darkgreen
DESCRIPTION:Predmet: Govorilna ura ()\, Predavanja (P)\nLetniki: \nIzvajal
 ci: Franc Forstnerič\nProstor: 4.24
LOCATION:4.24
ORGANIZER:Franc Forstnerič
RELATED-TO:fmf-AFLABS-URNIK:srecanje:16815
X-WR-TIMEZONE:Europe/Ljubljana
END:VEVENT
BEGIN:VEVENT
SUMMARY:Govorilna ura ()\, Predavanja (P)
DTSTART;TZID=Europe/Ljubljana:20260430T140000
DTEND;TZID=Europe/Ljubljana:20260430T150000
DTSTAMP:20260424T001245Z
UID:fmf-AFLABS-URNIK:premaknjeno-srecanje:236830
CATEGORIES:Entry,Standard
COLOR:darkgreen
DESCRIPTION:Predmet: Govorilna ura ()\, Predavanja (P)\nLetniki: \nIzvajal
 ci: Franc Forstnerič\nProstor: 4.24
LOCATION:4.24
ORGANIZER:Franc Forstnerič
RELATED-TO:fmf-AFLABS-URNIK:srecanje:16815
X-WR-TIMEZONE:Europe/Ljubljana
END:VEVENT
BEGIN:VEVENT
SUMMARY:Govorilna ura ()\, Predavanja (P)
DTSTART;TZID=Europe/Ljubljana:20260507T140000
DTEND;TZID=Europe/Ljubljana:20260507T150000
DTSTAMP:20260424T001245Z
UID:fmf-AFLABS-URNIK:premaknjeno-srecanje:236831
CATEGORIES:Entry,Standard
COLOR:darkgreen
DESCRIPTION:Predmet: Govorilna ura ()\, Predavanja (P)\nLetniki: \nIzvajal
 ci: Franc Forstnerič\nProstor: 4.24
LOCATION:4.24
ORGANIZER:Franc Forstnerič
RELATED-TO:fmf-AFLABS-URNIK:srecanje:16815
X-WR-TIMEZONE:Europe/Ljubljana
END:VEVENT
BEGIN:VEVENT
SUMMARY:Govorilna ura ()\, Predavanja (P)
DTSTART;TZID=Europe/Ljubljana:20260514T140000
DTEND;TZID=Europe/Ljubljana:20260514T150000
DTSTAMP:20260424T001245Z
UID:fmf-AFLABS-URNIK:premaknjeno-srecanje:236832
CATEGORIES:Entry,Standard
COLOR:darkgreen
DESCRIPTION:Predmet: Govorilna ura ()\, Predavanja (P)\nLetniki: \nIzvajal
 ci: Franc Forstnerič\nProstor: 4.24
LOCATION:4.24
ORGANIZER:Franc Forstnerič
RELATED-TO:fmf-AFLABS-URNIK:srecanje:16815
X-WR-TIMEZONE:Europe/Ljubljana
END:VEVENT
BEGIN:VEVENT
SUMMARY:Govorilna ura ()\, Predavanja (P)
DTSTART;TZID=Europe/Ljubljana:20260521T140000
DTEND;TZID=Europe/Ljubljana:20260521T150000
DTSTAMP:20260424T001245Z
UID:fmf-AFLABS-URNIK:premaknjeno-srecanje:236833
CATEGORIES:Entry,Standard
COLOR:darkgreen
DESCRIPTION:Predmet: Govorilna ura ()\, Predavanja (P)\nLetniki: \nIzvajal
 ci: Franc Forstnerič\nProstor: 4.24
LOCATION:4.24
ORGANIZER:Franc Forstnerič
RELATED-TO:fmf-AFLABS-URNIK:srecanje:16815
X-WR-TIMEZONE:Europe/Ljubljana
END:VEVENT
BEGIN:VEVENT
SUMMARY:Govorilna ura ()\, Predavanja (P)
DTSTART;TZID=Europe/Ljubljana:20260528T140000
DTEND;TZID=Europe/Ljubljana:20260528T150000
DTSTAMP:20260424T001245Z
UID:fmf-AFLABS-URNIK:premaknjeno-srecanje:236834
CATEGORIES:Entry,Standard
COLOR:darkgreen
DESCRIPTION:Predmet: Govorilna ura ()\, Predavanja (P)\nLetniki: \nIzvajal
 ci: Franc Forstnerič\nProstor: 4.24
LOCATION:4.24
ORGANIZER:Franc Forstnerič
RELATED-TO:fmf-AFLABS-URNIK:srecanje:16815
X-WR-TIMEZONE:Europe/Ljubljana
END:VEVENT
END:VCALENDAR
