BEGIN:VCALENDAR
VERSION:2.0
PRODID:-//AFLabs urnik izvoz - fmf//aflabs.si//SI
DTSTAMP:20260423T194922Z
NAME:UL FMF urnik
REFRESH-INTERVAL:PT1H
SOURCE:https://urnik.fmf.uni-lj.si/en/teacher/83?day=2024-01-29&export=1
URL:https://urnik.fmf.uni-lj.si/en/teacher/83?day=2024-01-29&export=1
X-PUBLISHED-TTL:PT1H
X-WR-CALNAME:UL FMF urnik
X-WR-TIMEZONE:Europe/Ljubljana
BEGIN:VTIMEZONE
TZID:Europe/Ljubljana
BEGIN:DAYLIGHT
DTSTART:20260329T020000
RDATE:20260329T020000
RDATE:20270328T020000
TZNAME:CEST
TZOFFSETFROM:+0100
TZOFFSETTO:+0200
END:DAYLIGHT
BEGIN:STANDARD
DTSTART:20261025T030000
RDATE:20261025T030000
RDATE:20271031T030000
TZNAME:CET
TZOFFSETFROM:+0200
TZOFFSETTO:+0100
END:STANDARD
END:VTIMEZONE
BEGIN:VEVENT
SUMMARY:Fizika mehke snovi (FIZ-M2)\, Predavanja (P)
DTSTART;TZID=Europe/Ljubljana:20231226T080000
DTEND;TZID=Europe/Ljubljana:20231226T110000
DTSTAMP:20260423T194922Z
UID:fmf-AFLABS-URNIK:premaknjeno-srecanje:31439
ATTENDEE:2. letnik (Fizika, 2. stopnja)
CATEGORIES:Entry,Standard
COLOR:darkgreen
DESCRIPTION:Predmet: Fizika mehke snovi (FIZ-M2)\, Predavanja (P)\nLetniki
 : 2. letnik (Fizika\, 2. stopnja)\nIzvajalci: Primož Ziherl\nProstor: F5
LOCATION:F5
ORGANIZER:Primož Ziherl
RELATED-TO:fmf-AFLABS-URNIK:srecanje:9588
X-WR-TIMEZONE:Europe/Ljubljana
END:VEVENT
BEGIN:VEVENT
SUMMARY:Fizika mehke snovi (FIZ-M2)\, Predavanja (P)
DTSTART;TZID=Europe/Ljubljana:20240102T080000
DTEND;TZID=Europe/Ljubljana:20240102T110000
DTSTAMP:20260423T194922Z
UID:fmf-AFLABS-URNIK:premaknjeno-srecanje:31440
ATTENDEE:2. letnik (Fizika, 2. stopnja)
CATEGORIES:Entry,Standard
COLOR:darkgreen
DESCRIPTION:Predmet: Fizika mehke snovi (FIZ-M2)\, Predavanja (P)\nLetniki
 : 2. letnik (Fizika\, 2. stopnja)\nIzvajalci: Primož Ziherl\nProstor: F5
LOCATION:F5
ORGANIZER:Primož Ziherl
RELATED-TO:fmf-AFLABS-URNIK:srecanje:9588
X-WR-TIMEZONE:Europe/Ljubljana
END:VEVENT
BEGIN:VEVENT
SUMMARY:Fizika mehke snovi (FIZ-M2)\, Predavanja (P)
DTSTART;TZID=Europe/Ljubljana:20240109T080000
DTEND;TZID=Europe/Ljubljana:20240109T110000
DTSTAMP:20260423T194922Z
UID:fmf-AFLABS-URNIK:premaknjeno-srecanje:31441
ATTENDEE:2. letnik (Fizika, 2. stopnja)
CATEGORIES:Entry,Standard
COLOR:darkgreen
DESCRIPTION:Predmet: Fizika mehke snovi (FIZ-M2)\, Predavanja (P)\nLetniki
 : 2. letnik (Fizika\, 2. stopnja)\nIzvajalci: Primož Ziherl\nProstor: F5
LOCATION:F5
ORGANIZER:Primož Ziherl
RELATED-TO:fmf-AFLABS-URNIK:srecanje:9588
X-WR-TIMEZONE:Europe/Ljubljana
END:VEVENT
BEGIN:VEVENT
SUMMARY:Fizika mehke snovi (FIZ-M2)\, Predavanja (P)
DTSTART;TZID=Europe/Ljubljana:20240116T080000
DTEND;TZID=Europe/Ljubljana:20240116T110000
DTSTAMP:20260423T194922Z
UID:fmf-AFLABS-URNIK:premaknjeno-srecanje:31442
ATTENDEE:2. letnik (Fizika, 2. stopnja)
CATEGORIES:Entry,Standard
COLOR:darkgreen
DESCRIPTION:Predmet: Fizika mehke snovi (FIZ-M2)\, Predavanja (P)\nLetniki
 : 2. letnik (Fizika\, 2. stopnja)\nIzvajalci: Primož Ziherl\nProstor: F5
LOCATION:F5
ORGANIZER:Primož Ziherl
RELATED-TO:fmf-AFLABS-URNIK:srecanje:9588
X-WR-TIMEZONE:Europe/Ljubljana
END:VEVENT
BEGIN:VEVENT
SUMMARY:Fizika mehke snovi (FIZ-M2)\, Predavanja (P)
DTSTART;TZID=Europe/Ljubljana:20240123T080000
DTEND;TZID=Europe/Ljubljana:20240123T110000
DTSTAMP:20260423T194922Z
UID:fmf-AFLABS-URNIK:premaknjeno-srecanje:31443
ATTENDEE:2. letnik (Fizika, 2. stopnja)
CATEGORIES:Entry,Standard
COLOR:darkgreen
DESCRIPTION:Predmet: Fizika mehke snovi (FIZ-M2)\, Predavanja (P)\nLetniki
 : 2. letnik (Fizika\, 2. stopnja)\nIzvajalci: Primož Ziherl\nProstor: F5
LOCATION:F5
ORGANIZER:Primož Ziherl
RELATED-TO:fmf-AFLABS-URNIK:srecanje:9588
X-WR-TIMEZONE:Europe/Ljubljana
END:VEVENT
BEGIN:VEVENT
SUMMARY:Specialistični seminar iz teoretične fizike (FIZ-D)\, Seminar (S
 )
DTSTART;TZID=Europe/Ljubljana:20231227T100000
DTEND;TZID=Europe/Ljubljana:20231227T140000
DTSTAMP:20260423T194922Z
UID:fmf-AFLABS-URNIK:premaknjeno-srecanje:104448
ATTENDEE:doktorski študij (Fizika, 3. stopnja)
CATEGORIES:Entry,Standard
COLOR:darkgreen
DESCRIPTION:Predmet: Specialistični seminar iz teoretične fizike (FIZ-D)
 \, Seminar (S)\nLetniki: doktorski študij (Fizika\, 3. stopnja)\nIzvajalc
 i: Primož Ziherl\nProstor: F3
LOCATION:F3
ORGANIZER:Primož Ziherl
RELATED-TO:fmf-AFLABS-URNIK:srecanje:9473
X-WR-TIMEZONE:Europe/Ljubljana
END:VEVENT
BEGIN:VEVENT
SUMMARY:Specialistični seminar iz teoretične fizike (FIZ-D)\, Seminar (S
 )
DTSTART;TZID=Europe/Ljubljana:20240103T100000
DTEND;TZID=Europe/Ljubljana:20240103T140000
DTSTAMP:20260423T194922Z
UID:fmf-AFLABS-URNIK:premaknjeno-srecanje:104449
ATTENDEE:doktorski študij (Fizika, 3. stopnja)
CATEGORIES:Entry,Standard
COLOR:darkgreen
DESCRIPTION:Predmet: Specialistični seminar iz teoretične fizike (FIZ-D)
 \, Seminar (S)\nLetniki: doktorski študij (Fizika\, 3. stopnja)\nIzvajalc
 i: Primož Ziherl\nProstor: F3
LOCATION:F3
ORGANIZER:Primož Ziherl
RELATED-TO:fmf-AFLABS-URNIK:srecanje:9473
X-WR-TIMEZONE:Europe/Ljubljana
END:VEVENT
BEGIN:VEVENT
SUMMARY:Specialistični seminar iz teoretične fizike (FIZ-D)\, Seminar (S
 )
DTSTART;TZID=Europe/Ljubljana:20240110T100000
DTEND;TZID=Europe/Ljubljana:20240110T140000
DTSTAMP:20260423T194922Z
UID:fmf-AFLABS-URNIK:premaknjeno-srecanje:104450
ATTENDEE:doktorski študij (Fizika, 3. stopnja)
CATEGORIES:Entry,Standard
COLOR:darkgreen
DESCRIPTION:Predmet: Specialistični seminar iz teoretične fizike (FIZ-D)
 \, Seminar (S)\nLetniki: doktorski študij (Fizika\, 3. stopnja)\nIzvajalc
 i: Primož Ziherl\nProstor: F3
LOCATION:F3
ORGANIZER:Primož Ziherl
RELATED-TO:fmf-AFLABS-URNIK:srecanje:9473
X-WR-TIMEZONE:Europe/Ljubljana
END:VEVENT
BEGIN:VEVENT
SUMMARY:Specialistični seminar iz teoretične fizike (FIZ-D)\, Seminar (S
 )
DTSTART;TZID=Europe/Ljubljana:20240117T100000
DTEND;TZID=Europe/Ljubljana:20240117T140000
DTSTAMP:20260423T194922Z
UID:fmf-AFLABS-URNIK:premaknjeno-srecanje:104451
ATTENDEE:doktorski študij (Fizika, 3. stopnja)
CATEGORIES:Entry,Standard
COLOR:darkgreen
DESCRIPTION:Predmet: Specialistični seminar iz teoretične fizike (FIZ-D)
 \, Seminar (S)\nLetniki: doktorski študij (Fizika\, 3. stopnja)\nIzvajalc
 i: Primož Ziherl\nProstor: F3
LOCATION:F3
ORGANIZER:Primož Ziherl
RELATED-TO:fmf-AFLABS-URNIK:srecanje:9473
X-WR-TIMEZONE:Europe/Ljubljana
END:VEVENT
BEGIN:VEVENT
SUMMARY:Biofizika membran\, celic in tkiv (FIZ-M2\, FIZ-M1)\, Predavanja (
 P)
DTSTART;TZID=Europe/Ljubljana:20240220T100000
DTEND;TZID=Europe/Ljubljana:20240220T130000
DTSTAMP:20260423T194922Z
UID:fmf-AFLABS-URNIK:premaknjeno-srecanje:134279
ATTENDEE:1. letnik (Fizika, 2. stopnja)
ATTENDEE:2. letnik (Fizika, 2. stopnja)
CATEGORIES:Entry,Standard
COLOR:darkgreen
DESCRIPTION:Predmet: Biofizika membran\, celic in tkiv (FIZ-M2\, FIZ-M1)\,
  Predavanja (P)\nLetniki: 2. letnik (Fizika\, 2. stopnja)\, 1. letnik (Fiz
 ika\, 2. stopnja)\nIzvajalci: Primož Ziherl\nProstor: F5
LOCATION:F5
ORGANIZER:Primož Ziherl
RELATED-TO:fmf-AFLABS-URNIK:srecanje:10515
X-WR-TIMEZONE:Europe/Ljubljana
END:VEVENT
BEGIN:VEVENT
SUMMARY:Biofizika membran\, celic in tkiv (FIZ-M2\, FIZ-M1)\, Predavanja (
 P)
DTSTART;TZID=Europe/Ljubljana:20240227T100000
DTEND;TZID=Europe/Ljubljana:20240227T130000
DTSTAMP:20260423T194922Z
UID:fmf-AFLABS-URNIK:premaknjeno-srecanje:134280
ATTENDEE:1. letnik (Fizika, 2. stopnja)
ATTENDEE:2. letnik (Fizika, 2. stopnja)
CATEGORIES:Entry,Standard
COLOR:darkgreen
DESCRIPTION:Predmet: Biofizika membran\, celic in tkiv (FIZ-M2\, FIZ-M1)\,
  Predavanja (P)\nLetniki: 2. letnik (Fizika\, 2. stopnja)\, 1. letnik (Fiz
 ika\, 2. stopnja)\nIzvajalci: Primož Ziherl\nProstor: F5
LOCATION:F5
ORGANIZER:Primož Ziherl
RELATED-TO:fmf-AFLABS-URNIK:srecanje:10515
X-WR-TIMEZONE:Europe/Ljubljana
END:VEVENT
BEGIN:VEVENT
SUMMARY:Specialistični seminar iz teoretične fizike (FIZ-D)\, Predavanja
  (P)
DTSTART;TZID=Europe/Ljubljana:20240221T100000
DTEND;TZID=Europe/Ljubljana:20240221T140000
DTSTAMP:20260423T194922Z
UID:fmf-AFLABS-URNIK:premaknjeno-srecanje:131624
ATTENDEE:doktorski študij (Fizika, 3. stopnja)
CATEGORIES:Entry,Standard
COLOR:darkgreen
DESCRIPTION:Predmet: Specialistični seminar iz teoretične fizike (FIZ-D)
 \, Predavanja (P)\nLetniki: doktorski študij (Fizika\, 3. stopnja)\nIzvaj
 alci: Primož Ziherl\nProstor: F7
LOCATION:F7
ORGANIZER:Primož Ziherl
RELATED-TO:fmf-AFLABS-URNIK:srecanje:10231
X-WR-TIMEZONE:Europe/Ljubljana
END:VEVENT
BEGIN:VEVENT
SUMMARY:Specialistični seminar iz teoretične fizike (FIZ-D)\, Predavanja
  (P)
DTSTART;TZID=Europe/Ljubljana:20240228T100000
DTEND;TZID=Europe/Ljubljana:20240228T140000
DTSTAMP:20260423T194922Z
UID:fmf-AFLABS-URNIK:premaknjeno-srecanje:131625
ATTENDEE:doktorski študij (Fizika, 3. stopnja)
CATEGORIES:Entry,Standard
COLOR:darkgreen
DESCRIPTION:Predmet: Specialistični seminar iz teoretične fizike (FIZ-D)
 \, Predavanja (P)\nLetniki: doktorski študij (Fizika\, 3. stopnja)\nIzvaj
 alci: Primož Ziherl\nProstor: F7
LOCATION:F7
ORGANIZER:Primož Ziherl
RELATED-TO:fmf-AFLABS-URNIK:srecanje:10231
X-WR-TIMEZONE:Europe/Ljubljana
END:VEVENT
BEGIN:VEVENT
SUMMARY:Seminar II (FIZ-M2\, JET-2\, MEF-2\, PEF-2)\, Predavanja (P)
DTSTART;TZID=Europe/Ljubljana:20240221T110000
DTEND;TZID=Europe/Ljubljana:20240221T140000
DTSTAMP:20260423T194922Z
UID:fmf-AFLABS-URNIK:premaknjeno-srecanje:136176
ATTENDEE:2. letnik (Fizika, 2. stopnja)
ATTENDEE:2. letnik (Jedrska tehnika, 2. stopnja)
ATTENDEE:2. letnik (Medicinska fizika, 2. stopnja)
ATTENDEE:2. letnik (Pedagoška fizika, 2. stopnja)
CATEGORIES:Entry,Standard
COLOR:darkgreen
DESCRIPTION:Predmet: Seminar II (FIZ-M2\, JET-2\, MEF-2\, PEF-2)\, Predava
 nja (P)\nLetniki: 2. letnik (Fizika\, 2. stopnja)\, 2. letnik (Jedrska teh
 nika\, 2. stopnja)\, 2. letnik (Medicinska fizika\, 2. stopnja)\, 2. letni
 k (Pedagoška fizika\, 2. stopnja)\nIzvajalci: Rainer Kaltenbaek\, Primož
  Ziherl\nProstor: F5
LOCATION:F5
ORGANIZER:Rainer Kaltenbaek, Primož Ziherl
RELATED-TO:fmf-AFLABS-URNIK:srecanje:10207
X-WR-TIMEZONE:Europe/Ljubljana
END:VEVENT
BEGIN:VEVENT
SUMMARY:Seminar II (FIZ-M2\, JET-2\, MEF-2\, PEF-2)\, Predavanja (P)
DTSTART;TZID=Europe/Ljubljana:20240228T110000
DTEND;TZID=Europe/Ljubljana:20240228T140000
DTSTAMP:20260423T194922Z
UID:fmf-AFLABS-URNIK:premaknjeno-srecanje:136177
ATTENDEE:2. letnik (Fizika, 2. stopnja)
ATTENDEE:2. letnik (Jedrska tehnika, 2. stopnja)
ATTENDEE:2. letnik (Medicinska fizika, 2. stopnja)
ATTENDEE:2. letnik (Pedagoška fizika, 2. stopnja)
CATEGORIES:Entry,Standard
COLOR:darkgreen
DESCRIPTION:Predmet: Seminar II (FIZ-M2\, JET-2\, MEF-2\, PEF-2)\, Predava
 nja (P)\nLetniki: 2. letnik (Fizika\, 2. stopnja)\, 2. letnik (Jedrska teh
 nika\, 2. stopnja)\, 2. letnik (Medicinska fizika\, 2. stopnja)\, 2. letni
 k (Pedagoška fizika\, 2. stopnja)\nIzvajalci: Rainer Kaltenbaek\, Primož
  Ziherl\nProstor: F5
LOCATION:F5
ORGANIZER:Rainer Kaltenbaek, Primož Ziherl
RELATED-TO:fmf-AFLABS-URNIK:srecanje:10207
X-WR-TIMEZONE:Europe/Ljubljana
END:VEVENT
BEGIN:VEVENT
SUMMARY:Rezervacija
DTSTART;TZID=Europe/Ljubljana:20240212T080000
DTEND;TZID=Europe/Ljubljana:20240212T200000
DTSTAMP:20260423T194922Z
UID:fmf-AFLABS-URNIK:rezervacija:13979
CATEGORIES:Reservation
COLOR:royalblue
DESCRIPTION:Predmeti: \nLetniki: \nIzvajalci: Primož Ziherl\nProstori: F2
LOCATION:F2
ORGANIZER:Primož Ziherl
X-WR-TIMEZONE:Europe/Ljubljana
END:VEVENT
BEGIN:VEVENT
SUMMARY:Rezervacija
DTSTART;TZID=Europe/Ljubljana:20240213T080000
DTEND;TZID=Europe/Ljubljana:20240213T200000
DTSTAMP:20260423T194922Z
UID:fmf-AFLABS-URNIK:rezervacija:13980
CATEGORIES:Reservation
COLOR:royalblue
DESCRIPTION:Predmeti: \nLetniki: \nIzvajalci: Primož Ziherl\nProstori: F2
LOCATION:F2
ORGANIZER:Primož Ziherl
X-WR-TIMEZONE:Europe/Ljubljana
END:VEVENT
BEGIN:VEVENT
SUMMARY:Rezervacija
DTSTART;TZID=Europe/Ljubljana:20240214T080000
DTEND;TZID=Europe/Ljubljana:20240214T200000
DTSTAMP:20260423T194922Z
UID:fmf-AFLABS-URNIK:rezervacija:13981
CATEGORIES:Reservation
COLOR:royalblue
DESCRIPTION:Predmeti: \nLetniki: \nIzvajalci: Primož Ziherl\nProstori: F2
LOCATION:F2
ORGANIZER:Primož Ziherl
X-WR-TIMEZONE:Europe/Ljubljana
END:VEVENT
BEGIN:VEVENT
SUMMARY:Rezervacija
DTSTART;TZID=Europe/Ljubljana:20240215T080000
DTEND;TZID=Europe/Ljubljana:20240215T200000
DTSTAMP:20260423T194922Z
UID:fmf-AFLABS-URNIK:rezervacija:13982
CATEGORIES:Reservation
COLOR:royalblue
DESCRIPTION:Predmeti: \nLetniki: \nIzvajalci: Primož Ziherl\nProstori: F2
LOCATION:F2
ORGANIZER:Primož Ziherl
X-WR-TIMEZONE:Europe/Ljubljana
END:VEVENT
BEGIN:VEVENT
SUMMARY:Seminar II
DTSTART;TZID=Europe/Ljubljana:20240117T150000
DTEND;TZID=Europe/Ljubljana:20240117T160000
DTSTAMP:20260423T194922Z
UID:fmf-AFLABS-URNIK:rezervacija:14297
ATTENDEE:2. letnik (Fizika, 2. stopnja)
ATTENDEE:2. letnik (Jedrska tehnika, 2. stopnja)
ATTENDEE:2. letnik (Medicinska fizika, 2. stopnja)
ATTENDEE:2. letnik (Pedagoška fizika, 2. stopnja)
CATEGORIES:Reservation
COLOR:royalblue
DESCRIPTION:Predmeti: Seminar II (FIZ-M2\, JET-2\, MEF-2\, PEF-2)\nLetniki
 : 2. letnik (Fizika\, 2. stopnja)\, 2. letnik (Jedrska tehnika\, 2. stopnj
 a)\, 2. letnik (Medicinska fizika\, 2. stopnja)\, 2. letnik (Pedagoška fi
 zika\, 2. stopnja)\nIzvajalci: Primož Ziherl\nProstori: P.01
LOCATION:P.01
ORGANIZER:Primož Ziherl
X-WR-TIMEZONE:Europe/Ljubljana
END:VEVENT
BEGIN:VEVENT
SUMMARY:sestanek
DTSTART;TZID=Europe/Ljubljana:20240118T100000
DTEND;TZID=Europe/Ljubljana:20240118T110000
DTSTAMP:20260423T194922Z
UID:fmf-AFLABS-URNIK:rezervacija:14461
CATEGORIES:Reservation
COLOR:royalblue
DESCRIPTION:Predmeti: \nLetniki: \nIzvajalci: Primož Ziherl\nProstori: F7
LOCATION:F7
ORGANIZER:Primož Ziherl
X-WR-TIMEZONE:Europe/Ljubljana
END:VEVENT
BEGIN:VEVENT
SUMMARY:izpiti BMCT
DTSTART;TZID=Europe/Ljubljana:20240207T090000
DTEND;TZID=Europe/Ljubljana:20240207T120000
DTSTAMP:20260423T194922Z
UID:fmf-AFLABS-URNIK:rezervacija:14664
ATTENDEE:1. letnik (Fizika, 2. stopnja)
ATTENDEE:2. letnik (Fizika, 2. stopnja)
CATEGORIES:Reservation
COLOR:royalblue
DESCRIPTION:Predmeti: Biofizika membran\, celic in tkiv (FIZ-M2\, FIZ-M1)\
 nLetniki: 1. letnik (Fizika\, 2. stopnja)\, 2. letnik (Fizika\, 2. stopnja
 )\nIzvajalci: Primož Ziherl\nProstori: F6
LOCATION:F6
ORGANIZER:Primož Ziherl
X-WR-TIMEZONE:Europe/Ljubljana
END:VEVENT
BEGIN:VEVENT
SUMMARY:izpiti BMCT
DTSTART;TZID=Europe/Ljubljana:20240214T090000
DTEND;TZID=Europe/Ljubljana:20240214T120000
DTSTAMP:20260423T194922Z
UID:fmf-AFLABS-URNIK:rezervacija:14696
ATTENDEE:1. letnik (Fizika, 2. stopnja)
ATTENDEE:2. letnik (Fizika, 2. stopnja)
CATEGORIES:Reservation
COLOR:royalblue
DESCRIPTION:Predmeti: Biofizika membran\, celic in tkiv (FIZ-M2\, FIZ-M1)\
 nLetniki: 1. letnik (Fizika\, 2. stopnja)\, 2. letnik (Fizika\, 2. stopnja
 )\nIzvajalci: Primož Ziherl\nProstori: F6
LOCATION:F6
ORGANIZER:Primož Ziherl
X-WR-TIMEZONE:Europe/Ljubljana
END:VEVENT
BEGIN:VEVENT
SUMMARY:sestanek
DTSTART;TZID=Europe/Ljubljana:20240201T120000
DTEND;TZID=Europe/Ljubljana:20240201T130000
DTSTAMP:20260423T194922Z
UID:fmf-AFLABS-URNIK:rezervacija:14783
CATEGORIES:Reservation
COLOR:royalblue
DESCRIPTION:Predmeti: \nLetniki: \nIzvajalci: Primož Ziherl\nProstori: Se
 jna soba J21
LOCATION:Sejna soba J21
ORGANIZER:Primož Ziherl
X-WR-TIMEZONE:Europe/Ljubljana
END:VEVENT
BEGIN:VEVENT
SUMMARY:sestanek
DTSTART;TZID=Europe/Ljubljana:20240214T120000
DTEND;TZID=Europe/Ljubljana:20240214T133000
DTSTAMP:20260423T194922Z
UID:fmf-AFLABS-URNIK:rezervacija:14833
CATEGORIES:Reservation
COLOR:royalblue
DESCRIPTION:Predmeti: \nLetniki: \nIzvajalci: Primož Ziherl\nProstori: Se
 jna soba J21
LOCATION:Sejna soba J21
ORGANIZER:Primož Ziherl
X-WR-TIMEZONE:Europe/Ljubljana
END:VEVENT
BEGIN:VEVENT
SUMMARY:izpiti
DTSTART;TZID=Europe/Ljubljana:20240215T090000
DTEND;TZID=Europe/Ljubljana:20240215T110000
DTSTAMP:20260423T194922Z
UID:fmf-AFLABS-URNIK:rezervacija:14879
ATTENDEE:2. letnik (Fizika, 2. stopnja)
CATEGORIES:Reservation
COLOR:royalblue
DESCRIPTION:Predmeti: Fizika mehke snovi (FIZ-M2)\nLetniki: 2. letnik (Fiz
 ika\, 2. stopnja)\nIzvajalci: Primož Ziherl\nProstori: F6
LOCATION:F6
ORGANIZER:Primož Ziherl
X-WR-TIMEZONE:Europe/Ljubljana
END:VEVENT
BEGIN:VEVENT
SUMMARY:informativni dan OF
DTSTART;TZID=Europe/Ljubljana:20240216T080000
DTEND;TZID=Europe/Ljubljana:20240216T160000
DTSTAMP:20260423T194922Z
UID:fmf-AFLABS-URNIK:rezervacija:14880
CATEGORIES:Reservation
COLOR:royalblue
DESCRIPTION:Predmeti: \nLetniki: \nIzvajalci: Primož Ziherl\nProstori: VF
 P
LOCATION:VFP
ORGANIZER:Primož Ziherl
X-WR-TIMEZONE:Europe/Ljubljana
END:VEVENT
BEGIN:VEVENT
SUMMARY:izpiti
DTSTART;TZID=Europe/Ljubljana:20240215T110000
DTEND;TZID=Europe/Ljubljana:20240215T120000
DTSTAMP:20260423T194922Z
UID:fmf-AFLABS-URNIK:rezervacija:14895
ATTENDEE:2. letnik (Fizika, 2. stopnja)
CATEGORIES:Reservation
COLOR:royalblue
DESCRIPTION:Predmeti: Fizika mehke snovi (FIZ-M2)\nLetniki: 2. letnik (Fiz
 ika\, 2. stopnja)\nIzvajalci: Primož Ziherl\nProstori: F6
LOCATION:F6
ORGANIZER:Primož Ziherl
X-WR-TIMEZONE:Europe/Ljubljana
END:VEVENT
BEGIN:VEVENT
SUMMARY:sestanek
DTSTART;TZID=Europe/Ljubljana:20240213T140000
DTEND;TZID=Europe/Ljubljana:20240213T160000
DTSTAMP:20260423T194922Z
UID:fmf-AFLABS-URNIK:rezervacija:14947
CATEGORIES:Reservation
COLOR:royalblue
DESCRIPTION:Predmeti: \nLetniki: \nIzvajalci: Primož Ziherl\nProstori: Se
 jna soba J21
LOCATION:Sejna soba J21
ORGANIZER:Primož Ziherl
X-WR-TIMEZONE:Europe/Ljubljana
END:VEVENT
BEGIN:VEVENT
SUMMARY:izpiti
DTSTART;TZID=Europe/Ljubljana:20240226T120000
DTEND;TZID=Europe/Ljubljana:20240226T140000
DTSTAMP:20260423T194922Z
UID:fmf-AFLABS-URNIK:rezervacija:15032
ATTENDEE:2. letnik (Fizika, 2. stopnja)
CATEGORIES:Reservation
COLOR:royalblue
DESCRIPTION:Predmeti: Fizika mehke snovi (FIZ-M2)\nLetniki: 2. letnik (Fiz
 ika\, 2. stopnja)\nIzvajalci: Primož Ziherl\nProstori: F6
LOCATION:F6
ORGANIZER:Primož Ziherl
X-WR-TIMEZONE:Europe/Ljubljana
END:VEVENT
BEGIN:VEVENT
SUMMARY:sestanek
DTSTART;TZID=Europe/Ljubljana:20240228T140000
DTEND;TZID=Europe/Ljubljana:20240228T150000
DTSTAMP:20260423T194922Z
UID:fmf-AFLABS-URNIK:rezervacija:15247
CATEGORIES:Reservation
COLOR:royalblue
DESCRIPTION:Predmeti: \nLetniki: \nIzvajalci: Primož Ziherl\nProstori: Pr
 aktikum 1
LOCATION:Praktikum 1
ORGANIZER:Primož Ziherl
X-WR-TIMEZONE:Europe/Ljubljana
END:VEVENT
END:VCALENDAR
