BEGIN:VCALENDAR
VERSION:2.0
PRODID:-//AFLabs urnik izvoz - fmf//aflabs.si//SI
DTSTAMP:20260424T151135Z
NAME:UL FMF urnik
REFRESH-INTERVAL:PT1H
SOURCE:https://urnik.fmf.uni-lj.si/en/teacher/83?day=2024-07-08&export=1
URL:https://urnik.fmf.uni-lj.si/en/teacher/83?day=2024-07-08&export=1
X-PUBLISHED-TTL:PT1H
X-WR-CALNAME:UL FMF urnik
X-WR-TIMEZONE:Europe/Ljubljana
BEGIN:VTIMEZONE
TZID:Europe/Ljubljana
BEGIN:DAYLIGHT
DTSTART:20260329T020000
RDATE:20260329T020000
RDATE:20270328T020000
TZNAME:CEST
TZOFFSETFROM:+0100
TZOFFSETTO:+0200
END:DAYLIGHT
BEGIN:STANDARD
DTSTART:20261025T030000
RDATE:20261025T030000
RDATE:20271031T030000
TZNAME:CET
TZOFFSETFROM:+0200
TZOFFSETTO:+0100
END:STANDARD
END:VTIMEZONE
BEGIN:VEVENT
SUMMARY:nadomestni termin
DTSTART;TZID=Europe/Ljubljana:20240605T090000
DTEND;TZID=Europe/Ljubljana:20240605T150000
DTSTAMP:20260424T151135Z
UID:fmf-AFLABS-URNIK:rezervacija:16301
CATEGORIES:Reservation
COLOR:royalblue
DESCRIPTION:Predmeti: \nLetniki: \nIzvajalci: Primož Ziherl\nProstori: F5
LOCATION:F5
ORGANIZER:Primož Ziherl
X-WR-TIMEZONE:Europe/Ljubljana
END:VEVENT
BEGIN:VEVENT
SUMMARY:nadomestni termin
DTSTART;TZID=Europe/Ljubljana:20240612T090000
DTEND;TZID=Europe/Ljubljana:20240612T150000
DTSTAMP:20260424T151135Z
UID:fmf-AFLABS-URNIK:rezervacija:16302
CATEGORIES:Reservation
COLOR:royalblue
DESCRIPTION:Predmeti: \nLetniki: \nIzvajalci: Primož Ziherl\nProstori: F5
LOCATION:F5
ORGANIZER:Primož Ziherl
X-WR-TIMEZONE:Europe/Ljubljana
END:VEVENT
BEGIN:VEVENT
SUMMARY:sestanek AFiz
DTSTART;TZID=Europe/Ljubljana:20240603T090000
DTEND;TZID=Europe/Ljubljana:20240603T100000
DTSTAMP:20260424T151135Z
UID:fmf-AFLABS-URNIK:rezervacija:16863
CATEGORIES:Reservation
COLOR:royalblue
DESCRIPTION:Predmeti: \nLetniki: \nIzvajalci: Primož Ziherl\nProstori: F8
LOCATION:F8
ORGANIZER:Primož Ziherl
X-WR-TIMEZONE:Europe/Ljubljana
END:VEVENT
BEGIN:VEVENT
SUMMARY:izpiti BMCT
DTSTART;TZID=Europe/Ljubljana:20240618T090000
DTEND;TZID=Europe/Ljubljana:20240618T120000
DTSTAMP:20260424T151135Z
UID:fmf-AFLABS-URNIK:rezervacija:17157
CATEGORIES:Reservation
COLOR:royalblue
DESCRIPTION:Predmeti: \nLetniki: \nIzvajalci: Primož Ziherl\nProstori: F6
LOCATION:F6
ORGANIZER:Primož Ziherl
X-WR-TIMEZONE:Europe/Ljubljana
END:VEVENT
BEGIN:VEVENT
SUMMARY:izpit
DTSTART;TZID=Europe/Ljubljana:20240612T130000
DTEND;TZID=Europe/Ljubljana:20240612T140000
DTSTAMP:20260424T151135Z
UID:fmf-AFLABS-URNIK:rezervacija:17182
ATTENDEE:1. letnik (Fizika, 2. stopnja)
ATTENDEE:2. letnik (Fizika, 2. stopnja)
CATEGORIES:Reservation
COLOR:royalblue
DESCRIPTION:Predmeti: Biofizika membran\, celic in tkiv (FIZ-M2\, FIZ-M1)\
 nLetniki: 1. letnik (Fizika\, 2. stopnja)\, 2. letnik (Fizika\, 2. stopnja
 )\nIzvajalci: Primož Ziherl\nProstori: F7
LOCATION:F7
ORGANIZER:Primož Ziherl
X-WR-TIMEZONE:Europe/Ljubljana
END:VEVENT
BEGIN:VEVENT
SUMMARY:izpiti
DTSTART;TZID=Europe/Ljubljana:20240618T120000
DTEND;TZID=Europe/Ljubljana:20240618T140000
DTSTAMP:20260424T151135Z
UID:fmf-AFLABS-URNIK:rezervacija:17313
ATTENDEE:1. letnik (Fizika, 2. stopnja)
ATTENDEE:2. letnik (Fizika, 2. stopnja)
CATEGORIES:Reservation
COLOR:royalblue
DESCRIPTION:Predmeti: Biofizika membran\, celic in tkiv (FIZ-M2\, FIZ-M1)\
 nLetniki: 1. letnik (Fizika\, 2. stopnja)\, 2. letnik (Fizika\, 2. stopnja
 )\nIzvajalci: Primož Ziherl\nProstori: F6
LOCATION:F6
ORGANIZER:Primož Ziherl
X-WR-TIMEZONE:Europe/Ljubljana
END:VEVENT
BEGIN:VEVENT
SUMMARY:izpiti
DTSTART;TZID=Europe/Ljubljana:20240619T110000
DTEND;TZID=Europe/Ljubljana:20240619T140000
DTSTAMP:20260424T151135Z
UID:fmf-AFLABS-URNIK:rezervacija:17314
ATTENDEE:1. letnik (Fizika, 2. stopnja)
ATTENDEE:2. letnik (Fizika, 2. stopnja)
CATEGORIES:Reservation
COLOR:royalblue
DESCRIPTION:Predmeti: Biofizika membran\, celic in tkiv (FIZ-M2\, FIZ-M1)\
 nLetniki: 1. letnik (Fizika\, 2. stopnja)\, 2. letnik (Fizika\, 2. stopnja
 )\nIzvajalci: Primož Ziherl\nProstori: F6
LOCATION:F6
ORGANIZER:Primož Ziherl
X-WR-TIMEZONE:Europe/Ljubljana
END:VEVENT
BEGIN:VEVENT
SUMMARY:izpiti
DTSTART;TZID=Europe/Ljubljana:20240711T100000
DTEND;TZID=Europe/Ljubljana:20240711T130000
DTSTAMP:20260424T151135Z
UID:fmf-AFLABS-URNIK:rezervacija:17368
ATTENDEE:1. letnik (Fizika, 2. stopnja)
ATTENDEE:2. letnik (Fizika, 2. stopnja)
CATEGORIES:Reservation
COLOR:royalblue
DESCRIPTION:Predmeti: Biofizika membran\, celic in tkiv (FIZ-M2\, FIZ-M1)\
 nLetniki: 1. letnik (Fizika\, 2. stopnja)\, 2. letnik (Fizika\, 2. stopnja
 )\nIzvajalci: Primož Ziherl\nProstori: F6
LOCATION:F6
ORGANIZER:Primož Ziherl
X-WR-TIMEZONE:Europe/Ljubljana
END:VEVENT
BEGIN:VEVENT
SUMMARY:izpiti
DTSTART;TZID=Europe/Ljubljana:20240812T090000
DTEND;TZID=Europe/Ljubljana:20240812T100000
DTSTAMP:20260424T151135Z
UID:fmf-AFLABS-URNIK:rezervacija:17672
ATTENDEE:2. letnik (Fizika, 2. stopnja)
CATEGORIES:Reservation
COLOR:royalblue
DESCRIPTION:Predmeti: Fizika mehke snovi (FIZ-M2)\nLetniki: 2. letnik (Fiz
 ika\, 2. stopnja)\nIzvajalci: Primož Ziherl\nProstori: F6
LOCATION:F6
ORGANIZER:Primož Ziherl
X-WR-TIMEZONE:Europe/Ljubljana
END:VEVENT
BEGIN:VEVENT
SUMMARY:izpiti
DTSTART;TZID=Europe/Ljubljana:20240812T100000
DTEND;TZID=Europe/Ljubljana:20240812T120000
DTSTAMP:20260424T151135Z
UID:fmf-AFLABS-URNIK:rezervacija:17673
ATTENDEE:2. letnik (Fizika, 2. stopnja)
CATEGORIES:Reservation
COLOR:royalblue
DESCRIPTION:Predmeti: Fizika mehke snovi (FIZ-M2)\nLetniki: 2. letnik (Fiz
 ika\, 2. stopnja)\nIzvajalci: Primož Ziherl\nProstori: F6
LOCATION:F6
ORGANIZER:Primož Ziherl
X-WR-TIMEZONE:Europe/Ljubljana
END:VEVENT
END:VCALENDAR
