BEGIN:VCALENDAR
VERSION:2.0
PRODID:-//AFLabs urnik izvoz - fmf//aflabs.si//SI
DTSTAMP:20260424T073316Z
NAME:UL FMF urnik
REFRESH-INTERVAL:PT1H
SOURCE:https://urnik.fmf.uni-lj.si/en/teacher/85?day=2024-01-22&export=1
URL:https://urnik.fmf.uni-lj.si/en/teacher/85?day=2024-01-22&export=1
X-PUBLISHED-TTL:PT1H
X-WR-CALNAME:UL FMF urnik
X-WR-TIMEZONE:Europe/Ljubljana
BEGIN:VTIMEZONE
TZID:Europe/Ljubljana
BEGIN:DAYLIGHT
DTSTART:20260329T020000
RDATE:20260329T020000
RDATE:20270328T020000
TZNAME:CEST
TZOFFSETFROM:+0100
TZOFFSETTO:+0200
END:DAYLIGHT
BEGIN:STANDARD
DTSTART:20261025T030000
RDATE:20261025T030000
RDATE:20271031T030000
TZNAME:CET
TZOFFSETFROM:+0200
TZOFFSETTO:+0100
END:STANDARD
END:VTIMEZONE
BEGIN:VEVENT
SUMMARY:Seminar skupine za fiziko mehke in delno urejene snovi ()\, Semina
 r (S)
DTSTART;TZID=Europe/Ljubljana:20231003T100000
DTEND;TZID=Europe/Ljubljana:20231003T120000
DTSTAMP:20260424T073316Z
UID:fmf-AFLABS-URNIK:premaknjeno-srecanje:102060
CATEGORIES:Entry,Standard
COLOR:darkgreen
DESCRIPTION:Predmet: Seminar skupine za fiziko mehke in delno urejene snov
 i ()\, Seminar (S)\nLetniki: \nIzvajalci: Polona Aupič\, Enej Caf\, Simon
  Čopar\, Benjamin Knez\, Žiga Kos\, Nika Kralj\, Matevž Marinčič\, Pe
 ter Marinko\, Urban Mur\, Miha Ravnik\, Peter Ropač\, Andreja Šarlah\, G
 regor Skačej\, Daniel Svenšek\, Jaka Zaplotnik\, Slobodan Žumer\nProsto
 r: F7
LOCATION:F7
ORGANIZER:Polona Aupič, Enej Caf, Simon Čopar, Benjamin Knez, Žiga Kos,
  Nika Kralj, Matevž Marinčič, Peter Marinko, Urban Mur, Miha Ravnik, Pe
 ter Ropač, Andreja Šarlah, Gregor Skačej, Daniel Svenšek, Jaka Zaplotn
 ik, Slobodan Žumer
RELATED-TO:fmf-AFLABS-URNIK:srecanje:9462
X-WR-TIMEZONE:Europe/Ljubljana
END:VEVENT
BEGIN:VEVENT
SUMMARY:Seminar skupine za fiziko mehke in delno urejene snovi ()\, Semina
 r (S)
DTSTART;TZID=Europe/Ljubljana:20231010T100000
DTEND;TZID=Europe/Ljubljana:20231010T120000
DTSTAMP:20260424T073316Z
UID:fmf-AFLABS-URNIK:premaknjeno-srecanje:102061
CATEGORIES:Entry,Standard
COLOR:darkgreen
DESCRIPTION:Predmet: Seminar skupine za fiziko mehke in delno urejene snov
 i ()\, Seminar (S)\nLetniki: \nIzvajalci: Polona Aupič\, Enej Caf\, Simon
  Čopar\, Benjamin Knez\, Žiga Kos\, Nika Kralj\, Matevž Marinčič\, Pe
 ter Marinko\, Urban Mur\, Miha Ravnik\, Peter Ropač\, Andreja Šarlah\, G
 regor Skačej\, Daniel Svenšek\, Jaka Zaplotnik\, Slobodan Žumer\nProsto
 r: F7
LOCATION:F7
ORGANIZER:Polona Aupič, Enej Caf, Simon Čopar, Benjamin Knez, Žiga Kos,
  Nika Kralj, Matevž Marinčič, Peter Marinko, Urban Mur, Miha Ravnik, Pe
 ter Ropač, Andreja Šarlah, Gregor Skačej, Daniel Svenšek, Jaka Zaplotn
 ik, Slobodan Žumer
RELATED-TO:fmf-AFLABS-URNIK:srecanje:9462
X-WR-TIMEZONE:Europe/Ljubljana
END:VEVENT
BEGIN:VEVENT
SUMMARY:Seminar skupine za fiziko mehke in delno urejene snovi ()\, Semina
 r (S)
DTSTART;TZID=Europe/Ljubljana:20231017T100000
DTEND;TZID=Europe/Ljubljana:20231017T120000
DTSTAMP:20260424T073316Z
UID:fmf-AFLABS-URNIK:premaknjeno-srecanje:102062
CATEGORIES:Entry,Standard
COLOR:darkgreen
DESCRIPTION:Predmet: Seminar skupine za fiziko mehke in delno urejene snov
 i ()\, Seminar (S)\nLetniki: \nIzvajalci: Polona Aupič\, Enej Caf\, Simon
  Čopar\, Benjamin Knez\, Žiga Kos\, Nika Kralj\, Matevž Marinčič\, Pe
 ter Marinko\, Urban Mur\, Miha Ravnik\, Peter Ropač\, Andreja Šarlah\, G
 regor Skačej\, Daniel Svenšek\, Jaka Zaplotnik\, Slobodan Žumer\nProsto
 r: F7
LOCATION:F7
ORGANIZER:Polona Aupič, Enej Caf, Simon Čopar, Benjamin Knez, Žiga Kos,
  Nika Kralj, Matevž Marinčič, Peter Marinko, Urban Mur, Miha Ravnik, Pe
 ter Ropač, Andreja Šarlah, Gregor Skačej, Daniel Svenšek, Jaka Zaplotn
 ik, Slobodan Žumer
RELATED-TO:fmf-AFLABS-URNIK:srecanje:9462
X-WR-TIMEZONE:Europe/Ljubljana
END:VEVENT
BEGIN:VEVENT
SUMMARY:Seminar skupine za fiziko mehke in delno urejene snovi ()\, Semina
 r (S)
DTSTART;TZID=Europe/Ljubljana:20231024T100000
DTEND;TZID=Europe/Ljubljana:20231024T120000
DTSTAMP:20260424T073316Z
UID:fmf-AFLABS-URNIK:premaknjeno-srecanje:102063
CATEGORIES:Entry,Standard
COLOR:darkgreen
DESCRIPTION:Predmet: Seminar skupine za fiziko mehke in delno urejene snov
 i ()\, Seminar (S)\nLetniki: \nIzvajalci: Polona Aupič\, Enej Caf\, Simon
  Čopar\, Benjamin Knez\, Žiga Kos\, Nika Kralj\, Matevž Marinčič\, Pe
 ter Marinko\, Urban Mur\, Miha Ravnik\, Peter Ropač\, Andreja Šarlah\, G
 regor Skačej\, Daniel Svenšek\, Jaka Zaplotnik\, Slobodan Žumer\nProsto
 r: F7
LOCATION:F7
ORGANIZER:Polona Aupič, Enej Caf, Simon Čopar, Benjamin Knez, Žiga Kos,
  Nika Kralj, Matevž Marinčič, Peter Marinko, Urban Mur, Miha Ravnik, Pe
 ter Ropač, Andreja Šarlah, Gregor Skačej, Daniel Svenšek, Jaka Zaplotn
 ik, Slobodan Žumer
RELATED-TO:fmf-AFLABS-URNIK:srecanje:9462
X-WR-TIMEZONE:Europe/Ljubljana
END:VEVENT
BEGIN:VEVENT
SUMMARY:Seminar skupine za fiziko mehke in delno urejene snovi ()\, Semina
 r (S)
DTSTART;TZID=Europe/Ljubljana:20231031T100000
DTEND;TZID=Europe/Ljubljana:20231031T120000
DTSTAMP:20260424T073316Z
UID:fmf-AFLABS-URNIK:premaknjeno-srecanje:102064
CATEGORIES:Entry,Standard
COLOR:darkgreen
DESCRIPTION:Predmet: Seminar skupine za fiziko mehke in delno urejene snov
 i ()\, Seminar (S)\nLetniki: \nIzvajalci: Polona Aupič\, Enej Caf\, Simon
  Čopar\, Benjamin Knez\, Žiga Kos\, Nika Kralj\, Matevž Marinčič\, Pe
 ter Marinko\, Urban Mur\, Miha Ravnik\, Peter Ropač\, Andreja Šarlah\, G
 regor Skačej\, Daniel Svenšek\, Jaka Zaplotnik\, Slobodan Žumer\nProsto
 r: F7
LOCATION:F7
ORGANIZER:Polona Aupič, Enej Caf, Simon Čopar, Benjamin Knez, Žiga Kos,
  Nika Kralj, Matevž Marinčič, Peter Marinko, Urban Mur, Miha Ravnik, Pe
 ter Ropač, Andreja Šarlah, Gregor Skačej, Daniel Svenšek, Jaka Zaplotn
 ik, Slobodan Žumer
RELATED-TO:fmf-AFLABS-URNIK:srecanje:9462
X-WR-TIMEZONE:Europe/Ljubljana
END:VEVENT
BEGIN:VEVENT
SUMMARY:Seminar skupine za fiziko mehke in delno urejene snovi ()\, Semina
 r (S)
DTSTART;TZID=Europe/Ljubljana:20231107T100000
DTEND;TZID=Europe/Ljubljana:20231107T120000
DTSTAMP:20260424T073316Z
UID:fmf-AFLABS-URNIK:premaknjeno-srecanje:102065
CATEGORIES:Entry,Standard
COLOR:darkgreen
DESCRIPTION:Predmet: Seminar skupine za fiziko mehke in delno urejene snov
 i ()\, Seminar (S)\nLetniki: \nIzvajalci: Polona Aupič\, Enej Caf\, Simon
  Čopar\, Benjamin Knez\, Žiga Kos\, Nika Kralj\, Matevž Marinčič\, Pe
 ter Marinko\, Urban Mur\, Miha Ravnik\, Peter Ropač\, Andreja Šarlah\, G
 regor Skačej\, Daniel Svenšek\, Jaka Zaplotnik\, Slobodan Žumer\nProsto
 r: F7
LOCATION:F7
ORGANIZER:Polona Aupič, Enej Caf, Simon Čopar, Benjamin Knez, Žiga Kos,
  Nika Kralj, Matevž Marinčič, Peter Marinko, Urban Mur, Miha Ravnik, Pe
 ter Ropač, Andreja Šarlah, Gregor Skačej, Daniel Svenšek, Jaka Zaplotn
 ik, Slobodan Žumer
RELATED-TO:fmf-AFLABS-URNIK:srecanje:9462
X-WR-TIMEZONE:Europe/Ljubljana
END:VEVENT
BEGIN:VEVENT
SUMMARY:Seminar skupine za fiziko mehke in delno urejene snovi ()\, Semina
 r (S)
DTSTART;TZID=Europe/Ljubljana:20231114T100000
DTEND;TZID=Europe/Ljubljana:20231114T120000
DTSTAMP:20260424T073316Z
UID:fmf-AFLABS-URNIK:premaknjeno-srecanje:102066
CATEGORIES:Entry,Standard
COLOR:darkgreen
DESCRIPTION:Predmet: Seminar skupine za fiziko mehke in delno urejene snov
 i ()\, Seminar (S)\nLetniki: \nIzvajalci: Polona Aupič\, Enej Caf\, Simon
  Čopar\, Benjamin Knez\, Žiga Kos\, Nika Kralj\, Matevž Marinčič\, Pe
 ter Marinko\, Urban Mur\, Miha Ravnik\, Peter Ropač\, Andreja Šarlah\, G
 regor Skačej\, Daniel Svenšek\, Jaka Zaplotnik\, Slobodan Žumer\nProsto
 r: F7
LOCATION:F7
ORGANIZER:Polona Aupič, Enej Caf, Simon Čopar, Benjamin Knez, Žiga Kos,
  Nika Kralj, Matevž Marinčič, Peter Marinko, Urban Mur, Miha Ravnik, Pe
 ter Ropač, Andreja Šarlah, Gregor Skačej, Daniel Svenšek, Jaka Zaplotn
 ik, Slobodan Žumer
RELATED-TO:fmf-AFLABS-URNIK:srecanje:9462
X-WR-TIMEZONE:Europe/Ljubljana
END:VEVENT
BEGIN:VEVENT
SUMMARY:Seminar skupine za fiziko mehke in delno urejene snovi ()\, Semina
 r (S)
DTSTART;TZID=Europe/Ljubljana:20231121T100000
DTEND;TZID=Europe/Ljubljana:20231121T120000
DTSTAMP:20260424T073316Z
UID:fmf-AFLABS-URNIK:premaknjeno-srecanje:102067
CATEGORIES:Entry,Standard
COLOR:darkgreen
DESCRIPTION:Predmet: Seminar skupine za fiziko mehke in delno urejene snov
 i ()\, Seminar (S)\nLetniki: \nIzvajalci: Polona Aupič\, Enej Caf\, Simon
  Čopar\, Benjamin Knez\, Žiga Kos\, Nika Kralj\, Matevž Marinčič\, Pe
 ter Marinko\, Urban Mur\, Miha Ravnik\, Peter Ropač\, Andreja Šarlah\, G
 regor Skačej\, Daniel Svenšek\, Jaka Zaplotnik\, Slobodan Žumer\nProsto
 r: F7
LOCATION:F7
ORGANIZER:Polona Aupič, Enej Caf, Simon Čopar, Benjamin Knez, Žiga Kos,
  Nika Kralj, Matevž Marinčič, Peter Marinko, Urban Mur, Miha Ravnik, Pe
 ter Ropač, Andreja Šarlah, Gregor Skačej, Daniel Svenšek, Jaka Zaplotn
 ik, Slobodan Žumer
RELATED-TO:fmf-AFLABS-URNIK:srecanje:9462
X-WR-TIMEZONE:Europe/Ljubljana
END:VEVENT
BEGIN:VEVENT
SUMMARY:Seminar skupine za fiziko mehke in delno urejene snovi ()\, Semina
 r (S)
DTSTART;TZID=Europe/Ljubljana:20231128T100000
DTEND;TZID=Europe/Ljubljana:20231128T120000
DTSTAMP:20260424T073316Z
UID:fmf-AFLABS-URNIK:premaknjeno-srecanje:102068
CATEGORIES:Entry,Standard
COLOR:darkgreen
DESCRIPTION:Predmet: Seminar skupine za fiziko mehke in delno urejene snov
 i ()\, Seminar (S)\nLetniki: \nIzvajalci: Polona Aupič\, Enej Caf\, Simon
  Čopar\, Benjamin Knez\, Žiga Kos\, Nika Kralj\, Matevž Marinčič\, Pe
 ter Marinko\, Urban Mur\, Miha Ravnik\, Peter Ropač\, Andreja Šarlah\, G
 regor Skačej\, Daniel Svenšek\, Jaka Zaplotnik\, Slobodan Žumer\nProsto
 r: F7
LOCATION:F7
ORGANIZER:Polona Aupič, Enej Caf, Simon Čopar, Benjamin Knez, Žiga Kos,
  Nika Kralj, Matevž Marinčič, Peter Marinko, Urban Mur, Miha Ravnik, Pe
 ter Ropač, Andreja Šarlah, Gregor Skačej, Daniel Svenšek, Jaka Zaplotn
 ik, Slobodan Žumer
RELATED-TO:fmf-AFLABS-URNIK:srecanje:9462
X-WR-TIMEZONE:Europe/Ljubljana
END:VEVENT
BEGIN:VEVENT
SUMMARY:Seminar skupine za fiziko mehke in delno urejene snovi ()\, Semina
 r (S)
DTSTART;TZID=Europe/Ljubljana:20231205T100000
DTEND;TZID=Europe/Ljubljana:20231205T120000
DTSTAMP:20260424T073316Z
UID:fmf-AFLABS-URNIK:premaknjeno-srecanje:102069
CATEGORIES:Entry,Standard
COLOR:darkgreen
DESCRIPTION:Predmet: Seminar skupine za fiziko mehke in delno urejene snov
 i ()\, Seminar (S)\nLetniki: \nIzvajalci: Polona Aupič\, Enej Caf\, Simon
  Čopar\, Benjamin Knez\, Žiga Kos\, Nika Kralj\, Matevž Marinčič\, Pe
 ter Marinko\, Urban Mur\, Miha Ravnik\, Peter Ropač\, Andreja Šarlah\, G
 regor Skačej\, Daniel Svenšek\, Jaka Zaplotnik\, Slobodan Žumer\nProsto
 r: F7
LOCATION:F7
ORGANIZER:Polona Aupič, Enej Caf, Simon Čopar, Benjamin Knez, Žiga Kos,
  Nika Kralj, Matevž Marinčič, Peter Marinko, Urban Mur, Miha Ravnik, Pe
 ter Ropač, Andreja Šarlah, Gregor Skačej, Daniel Svenšek, Jaka Zaplotn
 ik, Slobodan Žumer
RELATED-TO:fmf-AFLABS-URNIK:srecanje:9462
X-WR-TIMEZONE:Europe/Ljubljana
END:VEVENT
BEGIN:VEVENT
SUMMARY:Seminar skupine za fiziko mehke in delno urejene snovi ()\, Semina
 r (S)
DTSTART;TZID=Europe/Ljubljana:20231212T100000
DTEND;TZID=Europe/Ljubljana:20231212T120000
DTSTAMP:20260424T073316Z
UID:fmf-AFLABS-URNIK:premaknjeno-srecanje:102070
CATEGORIES:Entry,Standard
COLOR:darkgreen
DESCRIPTION:Predmet: Seminar skupine za fiziko mehke in delno urejene snov
 i ()\, Seminar (S)\nLetniki: \nIzvajalci: Polona Aupič\, Enej Caf\, Simon
  Čopar\, Benjamin Knez\, Žiga Kos\, Nika Kralj\, Matevž Marinčič\, Pe
 ter Marinko\, Urban Mur\, Miha Ravnik\, Peter Ropač\, Andreja Šarlah\, G
 regor Skačej\, Daniel Svenšek\, Jaka Zaplotnik\, Slobodan Žumer\nProsto
 r: F7
LOCATION:F7
ORGANIZER:Polona Aupič, Enej Caf, Simon Čopar, Benjamin Knez, Žiga Kos,
  Nika Kralj, Matevž Marinčič, Peter Marinko, Urban Mur, Miha Ravnik, Pe
 ter Ropač, Andreja Šarlah, Gregor Skačej, Daniel Svenšek, Jaka Zaplotn
 ik, Slobodan Žumer
RELATED-TO:fmf-AFLABS-URNIK:srecanje:9462
X-WR-TIMEZONE:Europe/Ljubljana
END:VEVENT
BEGIN:VEVENT
SUMMARY:Seminar skupine za fiziko mehke in delno urejene snovi ()\, Semina
 r (S)
DTSTART;TZID=Europe/Ljubljana:20231219T100000
DTEND;TZID=Europe/Ljubljana:20231219T120000
DTSTAMP:20260424T073316Z
UID:fmf-AFLABS-URNIK:premaknjeno-srecanje:102071
CATEGORIES:Entry,Standard
COLOR:darkgreen
DESCRIPTION:Predmet: Seminar skupine za fiziko mehke in delno urejene snov
 i ()\, Seminar (S)\nLetniki: \nIzvajalci: Polona Aupič\, Enej Caf\, Simon
  Čopar\, Benjamin Knez\, Žiga Kos\, Nika Kralj\, Matevž Marinčič\, Pe
 ter Marinko\, Urban Mur\, Miha Ravnik\, Peter Ropač\, Andreja Šarlah\, G
 regor Skačej\, Daniel Svenšek\, Jaka Zaplotnik\, Slobodan Žumer\nProsto
 r: F7
LOCATION:F7
ORGANIZER:Polona Aupič, Enej Caf, Simon Čopar, Benjamin Knez, Žiga Kos,
  Nika Kralj, Matevž Marinčič, Peter Marinko, Urban Mur, Miha Ravnik, Pe
 ter Ropač, Andreja Šarlah, Gregor Skačej, Daniel Svenšek, Jaka Zaplotn
 ik, Slobodan Žumer
RELATED-TO:fmf-AFLABS-URNIK:srecanje:9462
X-WR-TIMEZONE:Europe/Ljubljana
END:VEVENT
BEGIN:VEVENT
SUMMARY:Seminar skupine za fiziko mehke in delno urejene snovi ()\, Semina
 r (S)
DTSTART;TZID=Europe/Ljubljana:20231226T100000
DTEND;TZID=Europe/Ljubljana:20231226T120000
DTSTAMP:20260424T073316Z
UID:fmf-AFLABS-URNIK:premaknjeno-srecanje:102072
CATEGORIES:Entry,Standard
COLOR:darkgreen
DESCRIPTION:Predmet: Seminar skupine za fiziko mehke in delno urejene snov
 i ()\, Seminar (S)\nLetniki: \nIzvajalci: Polona Aupič\, Enej Caf\, Simon
  Čopar\, Benjamin Knez\, Žiga Kos\, Nika Kralj\, Matevž Marinčič\, Pe
 ter Marinko\, Urban Mur\, Miha Ravnik\, Peter Ropač\, Andreja Šarlah\, G
 regor Skačej\, Daniel Svenšek\, Jaka Zaplotnik\, Slobodan Žumer\nProsto
 r: F7
LOCATION:F7
ORGANIZER:Polona Aupič, Enej Caf, Simon Čopar, Benjamin Knez, Žiga Kos,
  Nika Kralj, Matevž Marinčič, Peter Marinko, Urban Mur, Miha Ravnik, Pe
 ter Ropač, Andreja Šarlah, Gregor Skačej, Daniel Svenšek, Jaka Zaplotn
 ik, Slobodan Žumer
RELATED-TO:fmf-AFLABS-URNIK:srecanje:9462
X-WR-TIMEZONE:Europe/Ljubljana
END:VEVENT
BEGIN:VEVENT
SUMMARY:Seminar skupine za fiziko mehke in delno urejene snovi ()\, Semina
 r (S)
DTSTART;TZID=Europe/Ljubljana:20240102T100000
DTEND;TZID=Europe/Ljubljana:20240102T120000
DTSTAMP:20260424T073316Z
UID:fmf-AFLABS-URNIK:premaknjeno-srecanje:102073
CATEGORIES:Entry,Standard
COLOR:darkgreen
DESCRIPTION:Predmet: Seminar skupine za fiziko mehke in delno urejene snov
 i ()\, Seminar (S)\nLetniki: \nIzvajalci: Polona Aupič\, Enej Caf\, Simon
  Čopar\, Benjamin Knez\, Žiga Kos\, Nika Kralj\, Matevž Marinčič\, Pe
 ter Marinko\, Urban Mur\, Miha Ravnik\, Peter Ropač\, Andreja Šarlah\, G
 regor Skačej\, Daniel Svenšek\, Jaka Zaplotnik\, Slobodan Žumer\nProsto
 r: F7
LOCATION:F7
ORGANIZER:Polona Aupič, Enej Caf, Simon Čopar, Benjamin Knez, Žiga Kos,
  Nika Kralj, Matevž Marinčič, Peter Marinko, Urban Mur, Miha Ravnik, Pe
 ter Ropač, Andreja Šarlah, Gregor Skačej, Daniel Svenšek, Jaka Zaplotn
 ik, Slobodan Žumer
RELATED-TO:fmf-AFLABS-URNIK:srecanje:9462
X-WR-TIMEZONE:Europe/Ljubljana
END:VEVENT
BEGIN:VEVENT
SUMMARY:Seminar skupine za fiziko mehke in delno urejene snovi ()\, Semina
 r (S)
DTSTART;TZID=Europe/Ljubljana:20240109T100000
DTEND;TZID=Europe/Ljubljana:20240109T120000
DTSTAMP:20260424T073316Z
UID:fmf-AFLABS-URNIK:premaknjeno-srecanje:102074
CATEGORIES:Entry,Standard
COLOR:darkgreen
DESCRIPTION:Predmet: Seminar skupine za fiziko mehke in delno urejene snov
 i ()\, Seminar (S)\nLetniki: \nIzvajalci: Polona Aupič\, Enej Caf\, Simon
  Čopar\, Benjamin Knez\, Žiga Kos\, Nika Kralj\, Matevž Marinčič\, Pe
 ter Marinko\, Urban Mur\, Miha Ravnik\, Peter Ropač\, Andreja Šarlah\, G
 regor Skačej\, Daniel Svenšek\, Jaka Zaplotnik\, Slobodan Žumer\nProsto
 r: F7
LOCATION:F7
ORGANIZER:Polona Aupič, Enej Caf, Simon Čopar, Benjamin Knez, Žiga Kos,
  Nika Kralj, Matevž Marinčič, Peter Marinko, Urban Mur, Miha Ravnik, Pe
 ter Ropač, Andreja Šarlah, Gregor Skačej, Daniel Svenšek, Jaka Zaplotn
 ik, Slobodan Žumer
RELATED-TO:fmf-AFLABS-URNIK:srecanje:9462
X-WR-TIMEZONE:Europe/Ljubljana
END:VEVENT
BEGIN:VEVENT
SUMMARY:Seminar skupine za fiziko mehke in delno urejene snovi ()\, Semina
 r (S)
DTSTART;TZID=Europe/Ljubljana:20240116T100000
DTEND;TZID=Europe/Ljubljana:20240116T120000
DTSTAMP:20260424T073316Z
UID:fmf-AFLABS-URNIK:premaknjeno-srecanje:102075
CATEGORIES:Entry,Standard
COLOR:darkgreen
DESCRIPTION:Predmet: Seminar skupine za fiziko mehke in delno urejene snov
 i ()\, Seminar (S)\nLetniki: \nIzvajalci: Polona Aupič\, Enej Caf\, Simon
  Čopar\, Benjamin Knez\, Žiga Kos\, Nika Kralj\, Matevž Marinčič\, Pe
 ter Marinko\, Urban Mur\, Miha Ravnik\, Peter Ropač\, Andreja Šarlah\, G
 regor Skačej\, Daniel Svenšek\, Jaka Zaplotnik\, Slobodan Žumer\nProsto
 r: F7
LOCATION:F7
ORGANIZER:Polona Aupič, Enej Caf, Simon Čopar, Benjamin Knez, Žiga Kos,
  Nika Kralj, Matevž Marinčič, Peter Marinko, Urban Mur, Miha Ravnik, Pe
 ter Ropač, Andreja Šarlah, Gregor Skačej, Daniel Svenšek, Jaka Zaplotn
 ik, Slobodan Žumer
RELATED-TO:fmf-AFLABS-URNIK:srecanje:9462
X-WR-TIMEZONE:Europe/Ljubljana
END:VEVENT
BEGIN:VEVENT
SUMMARY:Seminar skupine za fiziko mehke in delno urejene snovi ()\, Semina
 r (S)
DTSTART;TZID=Europe/Ljubljana:20240123T100000
DTEND;TZID=Europe/Ljubljana:20240123T120000
DTSTAMP:20260424T073316Z
UID:fmf-AFLABS-URNIK:premaknjeno-srecanje:102076
CATEGORIES:Entry,Standard
COLOR:darkgreen
DESCRIPTION:Predmet: Seminar skupine za fiziko mehke in delno urejene snov
 i ()\, Seminar (S)\nLetniki: \nIzvajalci: Polona Aupič\, Enej Caf\, Simon
  Čopar\, Benjamin Knez\, Žiga Kos\, Nika Kralj\, Matevž Marinčič\, Pe
 ter Marinko\, Urban Mur\, Miha Ravnik\, Peter Ropač\, Andreja Šarlah\, G
 regor Skačej\, Daniel Svenšek\, Jaka Zaplotnik\, Slobodan Žumer\nProsto
 r: F7
LOCATION:F7
ORGANIZER:Polona Aupič, Enej Caf, Simon Čopar, Benjamin Knez, Žiga Kos,
  Nika Kralj, Matevž Marinčič, Peter Marinko, Urban Mur, Miha Ravnik, Pe
 ter Ropač, Andreja Šarlah, Gregor Skačej, Daniel Svenšek, Jaka Zaplotn
 ik, Slobodan Žumer
RELATED-TO:fmf-AFLABS-URNIK:srecanje:9462
X-WR-TIMEZONE:Europe/Ljubljana
END:VEVENT
BEGIN:VEVENT
SUMMARY:Seminar skupine za fiziko mehke in delno urejene snovi ()\, Semina
 r (S)
DTSTART;TZID=Europe/Ljubljana:20240206T100000
DTEND;TZID=Europe/Ljubljana:20240206T120000
DTSTAMP:20260424T073316Z
UID:fmf-AFLABS-URNIK:premaknjeno-srecanje:136456
CATEGORIES:Entry,Standard
COLOR:darkgreen
DESCRIPTION:Predmet: Seminar skupine za fiziko mehke in delno urejene snov
 i ()\, Seminar (S)\nLetniki: \nIzvajalci: Polona Aupič\, Enej Caf\, Simon
  Čopar\, Andraž Gnidovec\, Žiga Kos\, Nika Kralj\, Matevž Marinčič\,
  Peter Marinko\, Urban Mur\, Miha Ravnik\, Peter Ropač\, Andreja Šarlah\
 , Gregor Skačej\, Daniel Svenšek\, Jaka Zaplotnik\, Slobodan Žumer\nPro
 stor: F7
LOCATION:F7
ORGANIZER:Polona Aupič, Enej Caf, Simon Čopar, Andraž Gnidovec, Žiga K
 os, Nika Kralj, Matevž Marinčič, Peter Marinko, Urban Mur, Miha Ravnik,
  Peter Ropač, Andreja Šarlah, Gregor Skačej, Daniel Svenšek, Jaka Zapl
 otnik, Slobodan Žumer
RELATED-TO:fmf-AFLABS-URNIK:srecanje:10383
X-WR-TIMEZONE:Europe/Ljubljana
END:VEVENT
BEGIN:VEVENT
SUMMARY:Seminar skupine za fiziko mehke in delno urejene snovi ()\, Semina
 r (S)
DTSTART;TZID=Europe/Ljubljana:20240213T100000
DTEND;TZID=Europe/Ljubljana:20240213T120000
DTSTAMP:20260424T073316Z
UID:fmf-AFLABS-URNIK:premaknjeno-srecanje:136457
CATEGORIES:Entry,Standard
COLOR:darkgreen
DESCRIPTION:Predmet: Seminar skupine za fiziko mehke in delno urejene snov
 i ()\, Seminar (S)\nLetniki: \nIzvajalci: Polona Aupič\, Enej Caf\, Simon
  Čopar\, Andraž Gnidovec\, Žiga Kos\, Nika Kralj\, Matevž Marinčič\,
  Peter Marinko\, Urban Mur\, Miha Ravnik\, Peter Ropač\, Andreja Šarlah\
 , Gregor Skačej\, Daniel Svenšek\, Jaka Zaplotnik\, Slobodan Žumer\nPro
 stor: F7
LOCATION:F7
ORGANIZER:Polona Aupič, Enej Caf, Simon Čopar, Andraž Gnidovec, Žiga K
 os, Nika Kralj, Matevž Marinčič, Peter Marinko, Urban Mur, Miha Ravnik,
  Peter Ropač, Andreja Šarlah, Gregor Skačej, Daniel Svenšek, Jaka Zapl
 otnik, Slobodan Žumer
RELATED-TO:fmf-AFLABS-URNIK:srecanje:10383
X-WR-TIMEZONE:Europe/Ljubljana
END:VEVENT
BEGIN:VEVENT
SUMMARY:Seminar skupine za fiziko mehke in delno urejene snovi ()\, Semina
 r (S)
DTSTART;TZID=Europe/Ljubljana:20240220T100000
DTEND;TZID=Europe/Ljubljana:20240220T120000
DTSTAMP:20260424T073316Z
UID:fmf-AFLABS-URNIK:premaknjeno-srecanje:136458
CATEGORIES:Entry,Standard
COLOR:darkgreen
DESCRIPTION:Predmet: Seminar skupine za fiziko mehke in delno urejene snov
 i ()\, Seminar (S)\nLetniki: \nIzvajalci: Polona Aupič\, Enej Caf\, Simon
  Čopar\, Andraž Gnidovec\, Žiga Kos\, Nika Kralj\, Matevž Marinčič\,
  Peter Marinko\, Urban Mur\, Miha Ravnik\, Peter Ropač\, Andreja Šarlah\
 , Gregor Skačej\, Daniel Svenšek\, Jaka Zaplotnik\, Slobodan Žumer\nPro
 stor: F7
LOCATION:F7
ORGANIZER:Polona Aupič, Enej Caf, Simon Čopar, Andraž Gnidovec, Žiga K
 os, Nika Kralj, Matevž Marinčič, Peter Marinko, Urban Mur, Miha Ravnik,
  Peter Ropač, Andreja Šarlah, Gregor Skačej, Daniel Svenšek, Jaka Zapl
 otnik, Slobodan Žumer
RELATED-TO:fmf-AFLABS-URNIK:srecanje:10383
X-WR-TIMEZONE:Europe/Ljubljana
END:VEVENT
BEGIN:VEVENT
SUMMARY:Mehanika kontinuov (FIZ-3)\, Predavanja (P)
DTSTART;TZID=Europe/Ljubljana:20240219T080000
DTEND;TZID=Europe/Ljubljana:20240219T100000
DTSTAMP:20260424T073316Z
UID:fmf-AFLABS-URNIK:premaknjeno-srecanje:135249
ATTENDEE:3. letnik (Fizika, 1. stopnja)
CATEGORIES:Entry,Standard
COLOR:darkgreen
DESCRIPTION:Predmet: Mehanika kontinuov (FIZ-3)\, Predavanja (P)\nLetniki:
  3. letnik (Fizika\, 1. stopnja)\nIzvajalci: Daniel Svenšek\nProstor: P.0
 2
LOCATION:P.02
ORGANIZER:Daniel Svenšek
RELATED-TO:fmf-AFLABS-URNIK:srecanje:10350
X-WR-TIMEZONE:Europe/Ljubljana
END:VEVENT
BEGIN:VEVENT
SUMMARY:Mehanika kontinuov (FIZ-3)\, Predavanja (P)
DTSTART;TZID=Europe/Ljubljana:20240226T080000
DTEND;TZID=Europe/Ljubljana:20240226T100000
DTSTAMP:20260424T073316Z
UID:fmf-AFLABS-URNIK:premaknjeno-srecanje:135250
ATTENDEE:3. letnik (Fizika, 1. stopnja)
CATEGORIES:Entry,Standard
COLOR:darkgreen
DESCRIPTION:Predmet: Mehanika kontinuov (FIZ-3)\, Predavanja (P)\nLetniki:
  3. letnik (Fizika\, 1. stopnja)\nIzvajalci: Daniel Svenšek\nProstor: P.0
 2
LOCATION:P.02
ORGANIZER:Daniel Svenšek
RELATED-TO:fmf-AFLABS-URNIK:srecanje:10350
X-WR-TIMEZONE:Europe/Ljubljana
END:VEVENT
BEGIN:VEVENT
SUMMARY:Računalniška orodja v fiziki (FIZ-1)\, Predavanja (P)
DTSTART;TZID=Europe/Ljubljana:20240220T120000
DTEND;TZID=Europe/Ljubljana:20240220T130000
DTSTAMP:20260424T073316Z
UID:fmf-AFLABS-URNIK:premaknjeno-srecanje:128954
ATTENDEE:1. letnik (Fizika, 1. stopnja)
CATEGORIES:Entry,Standard
COLOR:darkgreen
DESCRIPTION:Predmet: Računalniška orodja v fiziki (FIZ-1)\, Predavanja (
 P)\nLetniki: 1. letnik (Fizika\, 1. stopnja)\nIzvajalci: Daniel Svenšek\n
 Prostor: F1
LOCATION:F1
ORGANIZER:Daniel Svenšek
RELATED-TO:fmf-AFLABS-URNIK:srecanje:10313
X-WR-TIMEZONE:Europe/Ljubljana
END:VEVENT
BEGIN:VEVENT
SUMMARY:Mehanika kontinuov (FIZ-3)\, Vaje (V)
DTSTART;TZID=Europe/Ljubljana:20240221T120000
DTEND;TZID=Europe/Ljubljana:20240221T140000
DTSTAMP:20260424T073316Z
UID:fmf-AFLABS-URNIK:premaknjeno-srecanje:127469
ATTENDEE:3. letnik (Fizika, 1. stopnja)
CATEGORIES:Entry,Standard
COLOR:darkgreen
DESCRIPTION:Predmet: Mehanika kontinuov (FIZ-3)\, Vaje (V)\nLetniki: 3. le
 tnik (Fizika\, 1. stopnja)\nIzvajalci: Daniel Svenšek\nProstor: F2
LOCATION:F2
ORGANIZER:Daniel Svenšek
RELATED-TO:fmf-AFLABS-URNIK:srecanje:10493
X-WR-TIMEZONE:Europe/Ljubljana
END:VEVENT
BEGIN:VEVENT
SUMMARY:Geofizika (FIZ-3\, FIZ-2)\, Predavanja (P)
DTSTART;TZID=Europe/Ljubljana:20240223T080000
DTEND;TZID=Europe/Ljubljana:20240223T100000
DTSTAMP:20260424T073316Z
UID:fmf-AFLABS-URNIK:premaknjeno-srecanje:125204
ATTENDEE:2. letnik (Fizika, 1. stopnja)
ATTENDEE:3. letnik (Fizika, 1. stopnja)
CATEGORIES:Entry,Standard
COLOR:darkgreen
DESCRIPTION:Predmet: Geofizika (FIZ-3\, FIZ-2)\, Predavanja (P)\nLetniki: 
 3. letnik (Fizika\, 1. stopnja)\, 2. letnik (Fizika\, 1. stopnja)\nIzvajal
 ci: Daniel Svenšek\nProstor: F4
LOCATION:F4
ORGANIZER:Daniel Svenšek
RELATED-TO:fmf-AFLABS-URNIK:srecanje:10338
X-WR-TIMEZONE:Europe/Ljubljana
END:VEVENT
BEGIN:VEVENT
SUMMARY:Geofizika (FIZ-3\, FIZ-2)\, Vaje (V)
DTSTART;TZID=Europe/Ljubljana:20240223T100000
DTEND;TZID=Europe/Ljubljana:20240223T110000
DTSTAMP:20260424T073316Z
UID:fmf-AFLABS-URNIK:premaknjeno-srecanje:125219
ATTENDEE:2. letnik (Fizika, 1. stopnja)
ATTENDEE:3. letnik (Fizika, 1. stopnja)
CATEGORIES:Entry,Standard
COLOR:darkgreen
DESCRIPTION:Predmet: Geofizika (FIZ-3\, FIZ-2)\, Vaje (V)\nLetniki: 3. let
 nik (Fizika\, 1. stopnja)\, 2. letnik (Fizika\, 1. stopnja)\nIzvajalci: Da
 niel Svenšek\nProstor: F4
LOCATION:F4
ORGANIZER:Daniel Svenšek
RELATED-TO:fmf-AFLABS-URNIK:srecanje:10339
X-WR-TIMEZONE:Europe/Ljubljana
END:VEVENT
END:VCALENDAR
