BEGIN:VCALENDAR
VERSION:2.0
PRODID:-//AFLabs urnik izvoz - fmf//aflabs.si//SI
DTSTAMP:20260422T010346Z
NAME:UL FMF urnik
REFRESH-INTERVAL:PT1H
SOURCE:https://urnik.fmf.uni-lj.si/en/teacher/85?day=2024-07-01&export=1
URL:https://urnik.fmf.uni-lj.si/en/teacher/85?day=2024-07-01&export=1
X-PUBLISHED-TTL:PT1H
X-WR-CALNAME:UL FMF urnik
X-WR-TIMEZONE:Europe/Ljubljana
BEGIN:VTIMEZONE
TZID:Europe/Ljubljana
BEGIN:DAYLIGHT
DTSTART:20260329T020000
RDATE:20260329T020000
RDATE:20270328T020000
TZNAME:CEST
TZOFFSETFROM:+0100
TZOFFSETTO:+0200
END:DAYLIGHT
BEGIN:STANDARD
DTSTART:20261025T030000
RDATE:20261025T030000
RDATE:20271031T030000
TZNAME:CET
TZOFFSETFROM:+0200
TZOFFSETTO:+0100
END:STANDARD
END:VTIMEZONE
BEGIN:VEVENT
SUMMARY:Mehanika kontinuov (FIZ-3)\, Predavanja (P)
DTSTART;TZID=Europe/Ljubljana:20240527T080000
DTEND;TZID=Europe/Ljubljana:20240527T100000
DTSTAMP:20260422T010346Z
UID:fmf-AFLABS-URNIK:premaknjeno-srecanje:135263
ATTENDEE:3. letnik (Fizika, 1. stopnja)
CATEGORIES:Entry,Standard
COLOR:darkgreen
DESCRIPTION:Predmet: Mehanika kontinuov (FIZ-3)\, Predavanja (P)\nLetniki:
  3. letnik (Fizika\, 1. stopnja)\nIzvajalci: Daniel Svenšek\nProstor: P.0
 2
LOCATION:P.02
ORGANIZER:Daniel Svenšek
RELATED-TO:fmf-AFLABS-URNIK:srecanje:10350
X-WR-TIMEZONE:Europe/Ljubljana
END:VEVENT
BEGIN:VEVENT
SUMMARY:Računalniška orodja v fiziki (FIZ-1)\, Predavanja (P)
DTSTART;TZID=Europe/Ljubljana:20240528T120000
DTEND;TZID=Europe/Ljubljana:20240528T130000
DTSTAMP:20260422T010346Z
UID:fmf-AFLABS-URNIK:premaknjeno-srecanje:128968
ATTENDEE:1. letnik (Fizika, 1. stopnja)
CATEGORIES:Entry,Standard
COLOR:darkgreen
DESCRIPTION:Predmet: Računalniška orodja v fiziki (FIZ-1)\, Predavanja (
 P)\nLetniki: 1. letnik (Fizika\, 1. stopnja)\nIzvajalci: Daniel Svenšek\n
 Prostor: F1
LOCATION:F1
ORGANIZER:Daniel Svenšek
RELATED-TO:fmf-AFLABS-URNIK:srecanje:10313
X-WR-TIMEZONE:Europe/Ljubljana
END:VEVENT
BEGIN:VEVENT
SUMMARY:Seminar skupine za fiziko mehke in delno urejene snovi ()\, Semina
 r (S)
DTSTART;TZID=Europe/Ljubljana:20240528T100000
DTEND;TZID=Europe/Ljubljana:20240528T120000
DTSTAMP:20260422T010346Z
UID:fmf-AFLABS-URNIK:premaknjeno-srecanje:136472
CATEGORIES:Entry,Standard
COLOR:darkgreen
DESCRIPTION:Predmet: Seminar skupine za fiziko mehke in delno urejene snov
 i ()\, Seminar (S)\nLetniki: \nIzvajalci: Polona Aupič\, Enej Caf\, Simon
  Čopar\, Andraž Gnidovec\, Žiga Kos\, Nika Kralj\, Matevž Marinčič\,
  Peter Marinko\, Urban Mur\, Miha Ravnik\, Peter Ropač\, Andreja Šarlah\
 , Gregor Skačej\, Daniel Svenšek\, Jaka Zaplotnik\, Slobodan Žumer\nPro
 stor: F7
LOCATION:F7
ORGANIZER:Polona Aupič, Enej Caf, Simon Čopar, Andraž Gnidovec, Žiga K
 os, Nika Kralj, Matevž Marinčič, Peter Marinko, Urban Mur, Miha Ravnik,
  Peter Ropač, Andreja Šarlah, Gregor Skačej, Daniel Svenšek, Jaka Zapl
 otnik, Slobodan Žumer
RELATED-TO:fmf-AFLABS-URNIK:srecanje:10383
X-WR-TIMEZONE:Europe/Ljubljana
END:VEVENT
BEGIN:VEVENT
SUMMARY:Seminar skupine za fiziko mehke in delno urejene snovi ()\, Semina
 r (S)
DTSTART;TZID=Europe/Ljubljana:20240604T100000
DTEND;TZID=Europe/Ljubljana:20240604T120000
DTSTAMP:20260422T010346Z
UID:fmf-AFLABS-URNIK:premaknjeno-srecanje:136473
CATEGORIES:Entry,Standard
COLOR:darkgreen
DESCRIPTION:Predmet: Seminar skupine za fiziko mehke in delno urejene snov
 i ()\, Seminar (S)\nLetniki: \nIzvajalci: Polona Aupič\, Enej Caf\, Simon
  Čopar\, Andraž Gnidovec\, Žiga Kos\, Nika Kralj\, Matevž Marinčič\,
  Peter Marinko\, Urban Mur\, Miha Ravnik\, Peter Ropač\, Andreja Šarlah\
 , Gregor Skačej\, Daniel Svenšek\, Jaka Zaplotnik\, Slobodan Žumer\nPro
 stor: F7
LOCATION:F7
ORGANIZER:Polona Aupič, Enej Caf, Simon Čopar, Andraž Gnidovec, Žiga K
 os, Nika Kralj, Matevž Marinčič, Peter Marinko, Urban Mur, Miha Ravnik,
  Peter Ropač, Andreja Šarlah, Gregor Skačej, Daniel Svenšek, Jaka Zapl
 otnik, Slobodan Žumer
RELATED-TO:fmf-AFLABS-URNIK:srecanje:10383
X-WR-TIMEZONE:Europe/Ljubljana
END:VEVENT
BEGIN:VEVENT
SUMMARY:Seminar skupine za fiziko mehke in delno urejene snovi ()\, Semina
 r (S)
DTSTART;TZID=Europe/Ljubljana:20240611T100000
DTEND;TZID=Europe/Ljubljana:20240611T120000
DTSTAMP:20260422T010346Z
UID:fmf-AFLABS-URNIK:premaknjeno-srecanje:136474
CATEGORIES:Entry,Standard
COLOR:darkgreen
DESCRIPTION:Predmet: Seminar skupine za fiziko mehke in delno urejene snov
 i ()\, Seminar (S)\nLetniki: \nIzvajalci: Polona Aupič\, Enej Caf\, Simon
  Čopar\, Andraž Gnidovec\, Žiga Kos\, Nika Kralj\, Matevž Marinčič\,
  Peter Marinko\, Urban Mur\, Miha Ravnik\, Peter Ropač\, Andreja Šarlah\
 , Gregor Skačej\, Daniel Svenšek\, Jaka Zaplotnik\, Slobodan Žumer\nPro
 stor: F7
LOCATION:F7
ORGANIZER:Polona Aupič, Enej Caf, Simon Čopar, Andraž Gnidovec, Žiga K
 os, Nika Kralj, Matevž Marinčič, Peter Marinko, Urban Mur, Miha Ravnik,
  Peter Ropač, Andreja Šarlah, Gregor Skačej, Daniel Svenšek, Jaka Zapl
 otnik, Slobodan Žumer
RELATED-TO:fmf-AFLABS-URNIK:srecanje:10383
X-WR-TIMEZONE:Europe/Ljubljana
END:VEVENT
BEGIN:VEVENT
SUMMARY:Seminar skupine za fiziko mehke in delno urejene snovi ()\, Semina
 r (S)
DTSTART;TZID=Europe/Ljubljana:20240618T100000
DTEND;TZID=Europe/Ljubljana:20240618T120000
DTSTAMP:20260422T010346Z
UID:fmf-AFLABS-URNIK:premaknjeno-srecanje:136475
CATEGORIES:Entry,Standard
COLOR:darkgreen
DESCRIPTION:Predmet: Seminar skupine za fiziko mehke in delno urejene snov
 i ()\, Seminar (S)\nLetniki: \nIzvajalci: Polona Aupič\, Enej Caf\, Simon
  Čopar\, Andraž Gnidovec\, Žiga Kos\, Nika Kralj\, Matevž Marinčič\,
  Peter Marinko\, Urban Mur\, Miha Ravnik\, Peter Ropač\, Andreja Šarlah\
 , Gregor Skačej\, Daniel Svenšek\, Jaka Zaplotnik\, Slobodan Žumer\nPro
 stor: F7
LOCATION:F7
ORGANIZER:Polona Aupič, Enej Caf, Simon Čopar, Andraž Gnidovec, Žiga K
 os, Nika Kralj, Matevž Marinčič, Peter Marinko, Urban Mur, Miha Ravnik,
  Peter Ropač, Andreja Šarlah, Gregor Skačej, Daniel Svenšek, Jaka Zapl
 otnik, Slobodan Žumer
RELATED-TO:fmf-AFLABS-URNIK:srecanje:10383
X-WR-TIMEZONE:Europe/Ljubljana
END:VEVENT
BEGIN:VEVENT
SUMMARY:Seminar skupine za fiziko mehke in delno urejene snovi ()\, Semina
 r (S)
DTSTART;TZID=Europe/Ljubljana:20240625T100000
DTEND;TZID=Europe/Ljubljana:20240625T120000
DTSTAMP:20260422T010346Z
UID:fmf-AFLABS-URNIK:premaknjeno-srecanje:136476
CATEGORIES:Entry,Standard
COLOR:darkgreen
DESCRIPTION:Predmet: Seminar skupine za fiziko mehke in delno urejene snov
 i ()\, Seminar (S)\nLetniki: \nIzvajalci: Polona Aupič\, Enej Caf\, Simon
  Čopar\, Andraž Gnidovec\, Žiga Kos\, Nika Kralj\, Matevž Marinčič\,
  Peter Marinko\, Urban Mur\, Miha Ravnik\, Peter Ropač\, Andreja Šarlah\
 , Gregor Skačej\, Daniel Svenšek\, Jaka Zaplotnik\, Slobodan Žumer\nPro
 stor: F7
LOCATION:F7
ORGANIZER:Polona Aupič, Enej Caf, Simon Čopar, Andraž Gnidovec, Žiga K
 os, Nika Kralj, Matevž Marinčič, Peter Marinko, Urban Mur, Miha Ravnik,
  Peter Ropač, Andreja Šarlah, Gregor Skačej, Daniel Svenšek, Jaka Zapl
 otnik, Slobodan Žumer
RELATED-TO:fmf-AFLABS-URNIK:srecanje:10383
X-WR-TIMEZONE:Europe/Ljubljana
END:VEVENT
BEGIN:VEVENT
SUMMARY:Seminar skupine za fiziko mehke in delno urejene snovi ()\, Semina
 r (S)
DTSTART;TZID=Europe/Ljubljana:20240702T100000
DTEND;TZID=Europe/Ljubljana:20240702T120000
DTSTAMP:20260422T010346Z
UID:fmf-AFLABS-URNIK:premaknjeno-srecanje:136477
CATEGORIES:Entry,Standard
COLOR:darkgreen
DESCRIPTION:Predmet: Seminar skupine za fiziko mehke in delno urejene snov
 i ()\, Seminar (S)\nLetniki: \nIzvajalci: Polona Aupič\, Enej Caf\, Simon
  Čopar\, Andraž Gnidovec\, Žiga Kos\, Nika Kralj\, Matevž Marinčič\,
  Peter Marinko\, Urban Mur\, Miha Ravnik\, Peter Ropač\, Andreja Šarlah\
 , Gregor Skačej\, Daniel Svenšek\, Jaka Zaplotnik\, Slobodan Žumer\nPro
 stor: F7
LOCATION:F7
ORGANIZER:Polona Aupič, Enej Caf, Simon Čopar, Andraž Gnidovec, Žiga K
 os, Nika Kralj, Matevž Marinčič, Peter Marinko, Urban Mur, Miha Ravnik,
  Peter Ropač, Andreja Šarlah, Gregor Skačej, Daniel Svenšek, Jaka Zapl
 otnik, Slobodan Žumer
RELATED-TO:fmf-AFLABS-URNIK:srecanje:10383
X-WR-TIMEZONE:Europe/Ljubljana
END:VEVENT
BEGIN:VEVENT
SUMMARY:Seminar skupine za fiziko mehke in delno urejene snovi ()\, Semina
 r (S)
DTSTART;TZID=Europe/Ljubljana:20240709T100000
DTEND;TZID=Europe/Ljubljana:20240709T120000
DTSTAMP:20260422T010346Z
UID:fmf-AFLABS-URNIK:premaknjeno-srecanje:136478
CATEGORIES:Entry,Standard
COLOR:darkgreen
DESCRIPTION:Predmet: Seminar skupine za fiziko mehke in delno urejene snov
 i ()\, Seminar (S)\nLetniki: \nIzvajalci: Polona Aupič\, Enej Caf\, Simon
  Čopar\, Andraž Gnidovec\, Žiga Kos\, Nika Kralj\, Matevž Marinčič\,
  Peter Marinko\, Urban Mur\, Miha Ravnik\, Peter Ropač\, Andreja Šarlah\
 , Gregor Skačej\, Daniel Svenšek\, Jaka Zaplotnik\, Slobodan Žumer\nPro
 stor: F7
LOCATION:F7
ORGANIZER:Polona Aupič, Enej Caf, Simon Čopar, Andraž Gnidovec, Žiga K
 os, Nika Kralj, Matevž Marinčič, Peter Marinko, Urban Mur, Miha Ravnik,
  Peter Ropač, Andreja Šarlah, Gregor Skačej, Daniel Svenšek, Jaka Zapl
 otnik, Slobodan Žumer
RELATED-TO:fmf-AFLABS-URNIK:srecanje:10383
X-WR-TIMEZONE:Europe/Ljubljana
END:VEVENT
BEGIN:VEVENT
SUMMARY:Seminar skupine za fiziko mehke in delno urejene snovi ()\, Semina
 r (S)
DTSTART;TZID=Europe/Ljubljana:20240716T100000
DTEND;TZID=Europe/Ljubljana:20240716T120000
DTSTAMP:20260422T010346Z
UID:fmf-AFLABS-URNIK:premaknjeno-srecanje:136479
CATEGORIES:Entry,Standard
COLOR:darkgreen
DESCRIPTION:Predmet: Seminar skupine za fiziko mehke in delno urejene snov
 i ()\, Seminar (S)\nLetniki: \nIzvajalci: Polona Aupič\, Enej Caf\, Simon
  Čopar\, Andraž Gnidovec\, Žiga Kos\, Nika Kralj\, Matevž Marinčič\,
  Peter Marinko\, Urban Mur\, Miha Ravnik\, Peter Ropač\, Andreja Šarlah\
 , Gregor Skačej\, Daniel Svenšek\, Jaka Zaplotnik\, Slobodan Žumer\nPro
 stor: F7
LOCATION:F7
ORGANIZER:Polona Aupič, Enej Caf, Simon Čopar, Andraž Gnidovec, Žiga K
 os, Nika Kralj, Matevž Marinčič, Peter Marinko, Urban Mur, Miha Ravnik,
  Peter Ropač, Andreja Šarlah, Gregor Skačej, Daniel Svenšek, Jaka Zapl
 otnik, Slobodan Žumer
RELATED-TO:fmf-AFLABS-URNIK:srecanje:10383
X-WR-TIMEZONE:Europe/Ljubljana
END:VEVENT
BEGIN:VEVENT
SUMMARY:Seminar skupine za fiziko mehke in delno urejene snovi ()\, Semina
 r (S)
DTSTART;TZID=Europe/Ljubljana:20240723T100000
DTEND;TZID=Europe/Ljubljana:20240723T120000
DTSTAMP:20260422T010346Z
UID:fmf-AFLABS-URNIK:premaknjeno-srecanje:136480
CATEGORIES:Entry,Standard
COLOR:darkgreen
DESCRIPTION:Predmet: Seminar skupine za fiziko mehke in delno urejene snov
 i ()\, Seminar (S)\nLetniki: \nIzvajalci: Polona Aupič\, Enej Caf\, Simon
  Čopar\, Andraž Gnidovec\, Žiga Kos\, Nika Kralj\, Matevž Marinčič\,
  Peter Marinko\, Urban Mur\, Miha Ravnik\, Peter Ropač\, Andreja Šarlah\
 , Gregor Skačej\, Daniel Svenšek\, Jaka Zaplotnik\, Slobodan Žumer\nPro
 stor: F7
LOCATION:F7
ORGANIZER:Polona Aupič, Enej Caf, Simon Čopar, Andraž Gnidovec, Žiga K
 os, Nika Kralj, Matevž Marinčič, Peter Marinko, Urban Mur, Miha Ravnik,
  Peter Ropač, Andreja Šarlah, Gregor Skačej, Daniel Svenšek, Jaka Zapl
 otnik, Slobodan Žumer
RELATED-TO:fmf-AFLABS-URNIK:srecanje:10383
X-WR-TIMEZONE:Europe/Ljubljana
END:VEVENT
BEGIN:VEVENT
SUMMARY:Seminar skupine za fiziko mehke in delno urejene snovi ()\, Semina
 r (S)
DTSTART;TZID=Europe/Ljubljana:20240730T100000
DTEND;TZID=Europe/Ljubljana:20240730T120000
DTSTAMP:20260422T010346Z
UID:fmf-AFLABS-URNIK:premaknjeno-srecanje:136481
CATEGORIES:Entry,Standard
COLOR:darkgreen
DESCRIPTION:Predmet: Seminar skupine za fiziko mehke in delno urejene snov
 i ()\, Seminar (S)\nLetniki: \nIzvajalci: Polona Aupič\, Enej Caf\, Simon
  Čopar\, Andraž Gnidovec\, Žiga Kos\, Nika Kralj\, Matevž Marinčič\,
  Peter Marinko\, Urban Mur\, Miha Ravnik\, Peter Ropač\, Andreja Šarlah\
 , Gregor Skačej\, Daniel Svenšek\, Jaka Zaplotnik\, Slobodan Žumer\nPro
 stor: F7
LOCATION:F7
ORGANIZER:Polona Aupič, Enej Caf, Simon Čopar, Andraž Gnidovec, Žiga K
 os, Nika Kralj, Matevž Marinčič, Peter Marinko, Urban Mur, Miha Ravnik,
  Peter Ropač, Andreja Šarlah, Gregor Skačej, Daniel Svenšek, Jaka Zapl
 otnik, Slobodan Žumer
RELATED-TO:fmf-AFLABS-URNIK:srecanje:10383
X-WR-TIMEZONE:Europe/Ljubljana
END:VEVENT
BEGIN:VEVENT
SUMMARY:Mehanika kontinuov (FIZ-3)\, Vaje (V)
DTSTART;TZID=Europe/Ljubljana:20240529T120000
DTEND;TZID=Europe/Ljubljana:20240529T140000
DTSTAMP:20260422T010346Z
UID:fmf-AFLABS-URNIK:premaknjeno-srecanje:127483
ATTENDEE:3. letnik (Fizika, 1. stopnja)
CATEGORIES:Entry,Standard
COLOR:darkgreen
DESCRIPTION:Predmet: Mehanika kontinuov (FIZ-3)\, Vaje (V)\nLetniki: 3. le
 tnik (Fizika\, 1. stopnja)\nIzvajalci: Daniel Svenšek\nProstor: F2
LOCATION:F2
ORGANIZER:Daniel Svenšek
RELATED-TO:fmf-AFLABS-URNIK:srecanje:10493
X-WR-TIMEZONE:Europe/Ljubljana
END:VEVENT
BEGIN:VEVENT
SUMMARY:Geofizika (FIZ-3\, FIZ-2)\, Predavanja (P)
DTSTART;TZID=Europe/Ljubljana:20240531T080000
DTEND;TZID=Europe/Ljubljana:20240531T100000
DTSTAMP:20260422T010346Z
UID:fmf-AFLABS-URNIK:premaknjeno-srecanje:125218
ATTENDEE:2. letnik (Fizika, 1. stopnja)
ATTENDEE:3. letnik (Fizika, 1. stopnja)
CATEGORIES:Entry,Standard
COLOR:darkgreen
DESCRIPTION:Predmet: Geofizika (FIZ-3\, FIZ-2)\, Predavanja (P)\nLetniki: 
 3. letnik (Fizika\, 1. stopnja)\, 2. letnik (Fizika\, 1. stopnja)\nIzvajal
 ci: Daniel Svenšek\nProstor: F4
LOCATION:F4
ORGANIZER:Daniel Svenšek
RELATED-TO:fmf-AFLABS-URNIK:srecanje:10338
X-WR-TIMEZONE:Europe/Ljubljana
END:VEVENT
BEGIN:VEVENT
SUMMARY:Geofizika (FIZ-3\, FIZ-2)\, Vaje (V)
DTSTART;TZID=Europe/Ljubljana:20240531T100000
DTEND;TZID=Europe/Ljubljana:20240531T110000
DTSTAMP:20260422T010346Z
UID:fmf-AFLABS-URNIK:premaknjeno-srecanje:125233
ATTENDEE:2. letnik (Fizika, 1. stopnja)
ATTENDEE:3. letnik (Fizika, 1. stopnja)
CATEGORIES:Entry,Standard
COLOR:darkgreen
DESCRIPTION:Predmet: Geofizika (FIZ-3\, FIZ-2)\, Vaje (V)\nLetniki: 3. let
 nik (Fizika\, 1. stopnja)\, 2. letnik (Fizika\, 1. stopnja)\nIzvajalci: Da
 niel Svenšek\nProstor: F4
LOCATION:F4
ORGANIZER:Daniel Svenšek
RELATED-TO:fmf-AFLABS-URNIK:srecanje:10339
X-WR-TIMEZONE:Europe/Ljubljana
END:VEVENT
BEGIN:VEVENT
SUMMARY:kolokvij
DTSTART;TZID=Europe/Ljubljana:20240612T100000
DTEND;TZID=Europe/Ljubljana:20240612T120000
DTSTAMP:20260422T010346Z
UID:fmf-AFLABS-URNIK:rezervacija:16826
CATEGORIES:Reservation
COLOR:royalblue
DESCRIPTION:Predmeti: \nLetniki: \nIzvajalci: Daniel Svenšek\nProstori: F
 2
LOCATION:F2
ORGANIZER:Daniel Svenšek
X-WR-TIMEZONE:Europe/Ljubljana
END:VEVENT
BEGIN:VEVENT
SUMMARY:izpit
DTSTART;TZID=Europe/Ljubljana:20240619T100000
DTEND;TZID=Europe/Ljubljana:20240619T120000
DTSTAMP:20260422T010346Z
UID:fmf-AFLABS-URNIK:rezervacija:17231
CATEGORIES:Reservation
COLOR:royalblue
DESCRIPTION:Predmeti: \nLetniki: \nIzvajalci: Daniel Svenšek\nProstori: F
 4
LOCATION:F4
ORGANIZER:Daniel Svenšek
X-WR-TIMEZONE:Europe/Ljubljana
END:VEVENT
BEGIN:VEVENT
SUMMARY:izpiti
DTSTART;TZID=Europe/Ljubljana:20240619T120000
DTEND;TZID=Europe/Ljubljana:20240619T160000
DTSTAMP:20260422T010346Z
UID:fmf-AFLABS-URNIK:rezervacija:17332
CATEGORIES:Reservation
COLOR:royalblue
DESCRIPTION:Predmeti: \nLetniki: \nIzvajalci: Daniel Svenšek\nProstori: K
 uščerjev seminar
LOCATION:Kuščerjev seminar
ORGANIZER:Daniel Svenšek
X-WR-TIMEZONE:Europe/Ljubljana
END:VEVENT
BEGIN:VEVENT
SUMMARY:izpiti
DTSTART;TZID=Europe/Ljubljana:20240626T090000
DTEND;TZID=Europe/Ljubljana:20240626T180000
DTSTAMP:20260422T010346Z
UID:fmf-AFLABS-URNIK:rezervacija:17334
CATEGORIES:Reservation
COLOR:royalblue
DESCRIPTION:Predmeti: \nLetniki: \nIzvajalci: Daniel Svenšek\nProstori: K
 uščerjev seminar
LOCATION:Kuščerjev seminar
ORGANIZER:Daniel Svenšek
X-WR-TIMEZONE:Europe/Ljubljana
END:VEVENT
BEGIN:VEVENT
SUMMARY:izpiti
DTSTART;TZID=Europe/Ljubljana:20240626T090000
DTEND;TZID=Europe/Ljubljana:20240626T130000
DTSTAMP:20260422T010346Z
UID:fmf-AFLABS-URNIK:rezervacija:17338
CATEGORIES:Reservation
COLOR:royalblue
DESCRIPTION:Predmeti: \nLetniki: \nIzvajalci: Daniel Svenšek\nProstori: F
 6
LOCATION:F6
ORGANIZER:Daniel Svenšek
X-WR-TIMEZONE:Europe/Ljubljana
END:VEVENT
BEGIN:VEVENT
SUMMARY:izpit
DTSTART;TZID=Europe/Ljubljana:20240621T100000
DTEND;TZID=Europe/Ljubljana:20240621T120000
DTSTAMP:20260422T010346Z
UID:fmf-AFLABS-URNIK:rezervacija:17363
CATEGORIES:Reservation
COLOR:royalblue
DESCRIPTION:Predmeti: \nLetniki: \nIzvajalci: Daniel Svenšek\nProstori: F
 2
LOCATION:F2
ORGANIZER:Daniel Svenšek
X-WR-TIMEZONE:Europe/Ljubljana
END:VEVENT
BEGIN:VEVENT
SUMMARY:kolokvij
DTSTART;TZID=Europe/Ljubljana:20240702T100000
DTEND;TZID=Europe/Ljubljana:20240702T120000
DTSTAMP:20260422T010346Z
UID:fmf-AFLABS-URNIK:rezervacija:17467
CATEGORIES:Reservation
COLOR:royalblue
DESCRIPTION:Predmeti: \nLetniki: \nIzvajalci: Daniel Svenšek\nProstori: F
 6
LOCATION:F6
ORGANIZER:Daniel Svenšek
X-WR-TIMEZONE:Europe/Ljubljana
END:VEVENT
BEGIN:VEVENT
SUMMARY:izpit
DTSTART;TZID=Europe/Ljubljana:20240704T100000
DTEND;TZID=Europe/Ljubljana:20240704T120000
DTSTAMP:20260422T010346Z
UID:fmf-AFLABS-URNIK:rezervacija:17489
CATEGORIES:Reservation
COLOR:royalblue
DESCRIPTION:Predmeti: \nLetniki: \nIzvajalci: Daniel Svenšek\nProstori: F
 2
LOCATION:F2
ORGANIZER:Daniel Svenšek
X-WR-TIMEZONE:Europe/Ljubljana
END:VEVENT
END:VCALENDAR
