BEGIN:VCALENDAR
VERSION:2.0
PRODID:-//AFLabs urnik izvoz - fmf//aflabs.si//SI
DTSTAMP:20260426T034040Z
NAME:UL FMF urnik
REFRESH-INTERVAL:PT1H
SOURCE:https://urnik.fmf.uni-lj.si/en/teacher/85?day=2025-08-18&export=1
URL:https://urnik.fmf.uni-lj.si/en/teacher/85?day=2025-08-18&export=1
X-PUBLISHED-TTL:PT1H
X-WR-CALNAME:UL FMF urnik
X-WR-TIMEZONE:Europe/Ljubljana
BEGIN:VTIMEZONE
TZID:Europe/Ljubljana
BEGIN:DAYLIGHT
DTSTART:20260329T020000
RDATE:20260329T020000
RDATE:20270328T020000
TZNAME:CEST
TZOFFSETFROM:+0100
TZOFFSETTO:+0200
END:DAYLIGHT
BEGIN:STANDARD
DTSTART:20261025T030000
RDATE:20261025T030000
RDATE:20271031T030000
TZNAME:CET
TZOFFSETFROM:+0200
TZOFFSETTO:+0100
END:STANDARD
END:VTIMEZONE
BEGIN:VEVENT
SUMMARY:2. izpit
DTSTART;TZID=Europe/Ljubljana:20250707T100000
DTEND;TZID=Europe/Ljubljana:20250707T120000
DTSTAMP:20260426T034040Z
UID:fmf-AFLABS-URNIK:rezervacija:23226
ATTENDEE:3. letnik (Fizika, 1. stopnja)
CATEGORIES:Reservation
COLOR:royalblue
DESCRIPTION:Predmeti: Mehanika kontinuov (FIZ-3)\nLetniki: 3. letnik (Fizi
 ka\, 1. stopnja)\nIzvajalci: Daniel Svenšek\nProstori: F5
LOCATION:F5
ORGANIZER:Daniel Svenšek
X-WR-TIMEZONE:Europe/Ljubljana
END:VEVENT
BEGIN:VEVENT
SUMMARY:izpit
DTSTART;TZID=Europe/Ljubljana:20250828T100000
DTEND;TZID=Europe/Ljubljana:20250828T120000
DTSTAMP:20260426T034040Z
UID:fmf-AFLABS-URNIK:rezervacija:23650
ATTENDEE:2. letnik (Fizika, 1. stopnja)
ATTENDEE:3. letnik (Fizika, 1. stopnja)
CATEGORIES:Reservation
COLOR:royalblue
DESCRIPTION:Predmeti: Geofizika (FIZ-3\, FIZ-2)\nLetniki: 2. letnik (Fizik
 a\, 1. stopnja)\, 3. letnik (Fizika\, 1. stopnja)\nIzvajalci: Daniel Sven
 šek\nProstori: F5
LOCATION:F5
ORGANIZER:Daniel Svenšek
X-WR-TIMEZONE:Europe/Ljubljana
END:VEVENT
BEGIN:VEVENT
SUMMARY:1. izpit
DTSTART;TZID=Europe/Ljubljana:20250620T090000
DTEND;TZID=Europe/Ljubljana:20250620T110000
DTSTAMP:20260426T034040Z
UID:fmf-AFLABS-URNIK:rezervacija:22759
ATTENDEE:3. letnik (Fizika, 1. stopnja)
CATEGORIES:Reservation
COLOR:royalblue
DESCRIPTION:Predmeti: Mehanika kontinuov (FIZ-3)\nLetniki: 3. letnik (Fizi
 ka\, 1. stopnja)\nIzvajalci: Daniel Svenšek\nProstori: F5
LOCATION:F5
ORGANIZER:Daniel Svenšek
X-WR-TIMEZONE:Europe/Ljubljana
END:VEVENT
BEGIN:VEVENT
SUMMARY:2. izpit
DTSTART;TZID=Europe/Ljubljana:20250703T090000
DTEND;TZID=Europe/Ljubljana:20250703T110000
DTSTAMP:20260426T034040Z
UID:fmf-AFLABS-URNIK:rezervacija:22762
ATTENDEE:2. letnik (Fizika, 1. stopnja)
ATTENDEE:3. letnik (Fizika, 1. stopnja)
CATEGORIES:Reservation
COLOR:royalblue
DESCRIPTION:Predmeti: Geofizika (FIZ-3\, FIZ-2)\nLetniki: 2. letnik (Fizik
 a\, 1. stopnja)\, 3. letnik (Fizika\, 1. stopnja)\nIzvajalci: Daniel Sven
 šek\nProstori: F5
LOCATION:F5
ORGANIZER:Daniel Svenšek
X-WR-TIMEZONE:Europe/Ljubljana
END:VEVENT
BEGIN:VEVENT
SUMMARY:izpit
DTSTART;TZID=Europe/Ljubljana:20250829T100000
DTEND;TZID=Europe/Ljubljana:20250829T120000
DTSTAMP:20260426T034040Z
UID:fmf-AFLABS-URNIK:rezervacija:23651
ATTENDEE:3. letnik (Fizika, 1. stopnja)
CATEGORIES:Reservation
COLOR:royalblue
DESCRIPTION:Predmeti: Mehanika kontinuov (FIZ-3)\nLetniki: 3. letnik (Fizi
 ka\, 1. stopnja)\nIzvajalci: Daniel Svenšek\nProstori: F5
LOCATION:F5
ORGANIZER:Daniel Svenšek
X-WR-TIMEZONE:Europe/Ljubljana
END:VEVENT
BEGIN:VEVENT
SUMMARY:1. izpit
DTSTART;TZID=Europe/Ljubljana:20250610T090000
DTEND;TZID=Europe/Ljubljana:20250610T110000
DTSTAMP:20260426T034040Z
UID:fmf-AFLABS-URNIK:rezervacija:22757
ATTENDEE:2. letnik (Fizika, 1. stopnja)
ATTENDEE:3. letnik (Fizika, 1. stopnja)
CATEGORIES:Reservation
COLOR:royalblue
DESCRIPTION:Predmeti: Geofizika (FIZ-3\, FIZ-2)\nLetniki: 2. letnik (Fizik
 a\, 1. stopnja)\, 3. letnik (Fizika\, 1. stopnja)\nIzvajalci: Daniel Sven
 šek\nProstori: F1
LOCATION:F1
ORGANIZER:Daniel Svenšek
X-WR-TIMEZONE:Europe/Ljubljana
END:VEVENT
END:VCALENDAR
