BEGIN:VCALENDAR
VERSION:2.0
PRODID:-//AFLabs urnik izvoz - fmf//aflabs.si//SI
DTSTAMP:20260425T224336Z
NAME:UL FMF urnik
REFRESH-INTERVAL:PT1H
SOURCE:https://urnik.fmf.uni-lj.si/en/teacher/94?day=2021-10-04&export=1
URL:https://urnik.fmf.uni-lj.si/en/teacher/94?day=2021-10-04&export=1
X-PUBLISHED-TTL:PT1H
X-WR-CALNAME:UL FMF urnik
X-WR-TIMEZONE:Europe/Ljubljana
BEGIN:VTIMEZONE
TZID:Europe/Ljubljana
BEGIN:DAYLIGHT
DTSTART:20260329T020000
RDATE:20260329T020000
RDATE:20270328T020000
TZNAME:CEST
TZOFFSETFROM:+0100
TZOFFSETTO:+0200
END:DAYLIGHT
BEGIN:STANDARD
DTSTART:20261025T030000
RDATE:20261025T030000
RDATE:20271031T030000
TZNAME:CET
TZOFFSETFROM:+0200
TZOFFSETTO:+0100
END:STANDARD
END:VTIMEZONE
BEGIN:VEVENT
SUMMARY:Karierno svetovanje ()\, Ostalo (O)
DTSTART;TZID=Europe/Ljubljana:20211004T130000
DTEND;TZID=Europe/Ljubljana:20211004T170000
DTSTAMP:20260425T224336Z
UID:fmf-AFLABS-URNIK:premaknjeno-srecanje:48818
CATEGORIES:Entry,Standard
COLOR:darkgreen
DESCRIPTION:Predmet: Karierno svetovanje ()\, Ostalo (O)\nLetniki: \nIzvaj
 alci: Andreja Jurček\nProstor: Kuščerjev seminar
LOCATION:Kuščerjev seminar
ORGANIZER:Andreja Jurček
RELATED-TO:fmf-AFLABS-URNIK:srecanje:6336
X-WR-TIMEZONE:Europe/Ljubljana
END:VEVENT
BEGIN:VEVENT
SUMMARY:Karierno svetovanje ()\, Ostalo (O)
DTSTART;TZID=Europe/Ljubljana:20211011T130000
DTEND;TZID=Europe/Ljubljana:20211011T170000
DTSTAMP:20260425T224336Z
UID:fmf-AFLABS-URNIK:premaknjeno-srecanje:48819
CATEGORIES:Entry,Standard
COLOR:darkgreen
DESCRIPTION:Predmet: Karierno svetovanje ()\, Ostalo (O)\nLetniki: \nIzvaj
 alci: Andreja Jurček\nProstor: Kuščerjev seminar
LOCATION:Kuščerjev seminar
ORGANIZER:Andreja Jurček
RELATED-TO:fmf-AFLABS-URNIK:srecanje:6336
X-WR-TIMEZONE:Europe/Ljubljana
END:VEVENT
BEGIN:VEVENT
SUMMARY:Karierno svetovanje ()\, Ostalo (O)
DTSTART;TZID=Europe/Ljubljana:20211018T130000
DTEND;TZID=Europe/Ljubljana:20211018T170000
DTSTAMP:20260425T224336Z
UID:fmf-AFLABS-URNIK:premaknjeno-srecanje:48820
CATEGORIES:Entry,Standard
COLOR:darkgreen
DESCRIPTION:Predmet: Karierno svetovanje ()\, Ostalo (O)\nLetniki: \nIzvaj
 alci: Andreja Jurček\nProstor: Kuščerjev seminar
LOCATION:Kuščerjev seminar
ORGANIZER:Andreja Jurček
RELATED-TO:fmf-AFLABS-URNIK:srecanje:6336
X-WR-TIMEZONE:Europe/Ljubljana
END:VEVENT
BEGIN:VEVENT
SUMMARY:Karierno svetovanje ()\, Ostalo (O)
DTSTART;TZID=Europe/Ljubljana:20211025T130000
DTEND;TZID=Europe/Ljubljana:20211025T170000
DTSTAMP:20260425T224336Z
UID:fmf-AFLABS-URNIK:premaknjeno-srecanje:48821
CATEGORIES:Entry,Standard
COLOR:darkgreen
DESCRIPTION:Predmet: Karierno svetovanje ()\, Ostalo (O)\nLetniki: \nIzvaj
 alci: Andreja Jurček\nProstor: Kuščerjev seminar
LOCATION:Kuščerjev seminar
ORGANIZER:Andreja Jurček
RELATED-TO:fmf-AFLABS-URNIK:srecanje:6336
X-WR-TIMEZONE:Europe/Ljubljana
END:VEVENT
BEGIN:VEVENT
SUMMARY:Karierno svetovanje ()\, Ostalo (O)
DTSTART;TZID=Europe/Ljubljana:20211101T130000
DTEND;TZID=Europe/Ljubljana:20211101T170000
DTSTAMP:20260425T224336Z
UID:fmf-AFLABS-URNIK:premaknjeno-srecanje:48822
CATEGORIES:Entry,Standard
COLOR:darkgreen
DESCRIPTION:Predmet: Karierno svetovanje ()\, Ostalo (O)\nLetniki: \nIzvaj
 alci: Andreja Jurček\nProstor: Kuščerjev seminar
LOCATION:Kuščerjev seminar
ORGANIZER:Andreja Jurček
RELATED-TO:fmf-AFLABS-URNIK:srecanje:6336
X-WR-TIMEZONE:Europe/Ljubljana
END:VEVENT
BEGIN:VEVENT
SUMMARY:Karierno svetovanje ()\, Ostalo (O)
DTSTART;TZID=Europe/Ljubljana:20211108T130000
DTEND;TZID=Europe/Ljubljana:20211108T170000
DTSTAMP:20260425T224336Z
UID:fmf-AFLABS-URNIK:premaknjeno-srecanje:48823
CATEGORIES:Entry,Standard
COLOR:darkgreen
DESCRIPTION:Predmet: Karierno svetovanje ()\, Ostalo (O)\nLetniki: \nIzvaj
 alci: Andreja Jurček\nProstor: Kuščerjev seminar
LOCATION:Kuščerjev seminar
ORGANIZER:Andreja Jurček
RELATED-TO:fmf-AFLABS-URNIK:srecanje:6336
X-WR-TIMEZONE:Europe/Ljubljana
END:VEVENT
BEGIN:VEVENT
SUMMARY:Karierno svetovanje ()\, Ostalo (O)
DTSTART;TZID=Europe/Ljubljana:20211115T130000
DTEND;TZID=Europe/Ljubljana:20211115T170000
DTSTAMP:20260425T224336Z
UID:fmf-AFLABS-URNIK:premaknjeno-srecanje:48824
CATEGORIES:Entry,Standard
COLOR:darkgreen
DESCRIPTION:Predmet: Karierno svetovanje ()\, Ostalo (O)\nLetniki: \nIzvaj
 alci: Andreja Jurček\nProstor: Kuščerjev seminar
LOCATION:Kuščerjev seminar
ORGANIZER:Andreja Jurček
RELATED-TO:fmf-AFLABS-URNIK:srecanje:6336
X-WR-TIMEZONE:Europe/Ljubljana
END:VEVENT
BEGIN:VEVENT
SUMMARY:Karierno svetovanje ()\, Ostalo (O)
DTSTART;TZID=Europe/Ljubljana:20211122T130000
DTEND;TZID=Europe/Ljubljana:20211122T170000
DTSTAMP:20260425T224336Z
UID:fmf-AFLABS-URNIK:premaknjeno-srecanje:48825
CATEGORIES:Entry,Standard
COLOR:darkgreen
DESCRIPTION:Predmet: Karierno svetovanje ()\, Ostalo (O)\nLetniki: \nIzvaj
 alci: Andreja Jurček\nProstor: Kuščerjev seminar
LOCATION:Kuščerjev seminar
ORGANIZER:Andreja Jurček
RELATED-TO:fmf-AFLABS-URNIK:srecanje:6336
X-WR-TIMEZONE:Europe/Ljubljana
END:VEVENT
BEGIN:VEVENT
SUMMARY:Karierno svetovanje ()\, Ostalo (O)
DTSTART;TZID=Europe/Ljubljana:20211129T130000
DTEND;TZID=Europe/Ljubljana:20211129T170000
DTSTAMP:20260425T224336Z
UID:fmf-AFLABS-URNIK:premaknjeno-srecanje:48826
CATEGORIES:Entry,Standard
COLOR:darkgreen
DESCRIPTION:Predmet: Karierno svetovanje ()\, Ostalo (O)\nLetniki: \nIzvaj
 alci: Andreja Jurček\nProstor: Kuščerjev seminar
LOCATION:Kuščerjev seminar
ORGANIZER:Andreja Jurček
RELATED-TO:fmf-AFLABS-URNIK:srecanje:6336
X-WR-TIMEZONE:Europe/Ljubljana
END:VEVENT
BEGIN:VEVENT
SUMMARY:Karierno svetovanje ()\, Ostalo (O)
DTSTART;TZID=Europe/Ljubljana:20211206T130000
DTEND;TZID=Europe/Ljubljana:20211206T170000
DTSTAMP:20260425T224336Z
UID:fmf-AFLABS-URNIK:premaknjeno-srecanje:48827
CATEGORIES:Entry,Standard
COLOR:darkgreen
DESCRIPTION:Predmet: Karierno svetovanje ()\, Ostalo (O)\nLetniki: \nIzvaj
 alci: Andreja Jurček\nProstor: Kuščerjev seminar
LOCATION:Kuščerjev seminar
ORGANIZER:Andreja Jurček
RELATED-TO:fmf-AFLABS-URNIK:srecanje:6336
X-WR-TIMEZONE:Europe/Ljubljana
END:VEVENT
BEGIN:VEVENT
SUMMARY:Karierno svetovanje ()\, Ostalo (O)
DTSTART;TZID=Europe/Ljubljana:20211213T130000
DTEND;TZID=Europe/Ljubljana:20211213T170000
DTSTAMP:20260425T224336Z
UID:fmf-AFLABS-URNIK:premaknjeno-srecanje:48828
CATEGORIES:Entry,Standard
COLOR:darkgreen
DESCRIPTION:Predmet: Karierno svetovanje ()\, Ostalo (O)\nLetniki: \nIzvaj
 alci: Andreja Jurček\nProstor: Kuščerjev seminar
LOCATION:Kuščerjev seminar
ORGANIZER:Andreja Jurček
RELATED-TO:fmf-AFLABS-URNIK:srecanje:6336
X-WR-TIMEZONE:Europe/Ljubljana
END:VEVENT
BEGIN:VEVENT
SUMMARY:Karierno svetovanje ()\, Ostalo (O)
DTSTART;TZID=Europe/Ljubljana:20211220T130000
DTEND;TZID=Europe/Ljubljana:20211220T170000
DTSTAMP:20260425T224336Z
UID:fmf-AFLABS-URNIK:premaknjeno-srecanje:48829
CATEGORIES:Entry,Standard
COLOR:darkgreen
DESCRIPTION:Predmet: Karierno svetovanje ()\, Ostalo (O)\nLetniki: \nIzvaj
 alci: Andreja Jurček\nProstor: Kuščerjev seminar
LOCATION:Kuščerjev seminar
ORGANIZER:Andreja Jurček
RELATED-TO:fmf-AFLABS-URNIK:srecanje:6336
X-WR-TIMEZONE:Europe/Ljubljana
END:VEVENT
BEGIN:VEVENT
SUMMARY:Karierno svetovanje ()\, Ostalo (O)
DTSTART;TZID=Europe/Ljubljana:20211227T130000
DTEND;TZID=Europe/Ljubljana:20211227T170000
DTSTAMP:20260425T224336Z
UID:fmf-AFLABS-URNIK:premaknjeno-srecanje:48830
CATEGORIES:Entry,Standard
COLOR:darkgreen
DESCRIPTION:Predmet: Karierno svetovanje ()\, Ostalo (O)\nLetniki: \nIzvaj
 alci: Andreja Jurček\nProstor: Kuščerjev seminar
LOCATION:Kuščerjev seminar
ORGANIZER:Andreja Jurček
RELATED-TO:fmf-AFLABS-URNIK:srecanje:6336
X-WR-TIMEZONE:Europe/Ljubljana
END:VEVENT
BEGIN:VEVENT
SUMMARY:Karierno svetovanje ()\, Ostalo (O)
DTSTART;TZID=Europe/Ljubljana:20220103T130000
DTEND;TZID=Europe/Ljubljana:20220103T170000
DTSTAMP:20260425T224336Z
UID:fmf-AFLABS-URNIK:premaknjeno-srecanje:48831
CATEGORIES:Entry,Standard
COLOR:darkgreen
DESCRIPTION:Predmet: Karierno svetovanje ()\, Ostalo (O)\nLetniki: \nIzvaj
 alci: Andreja Jurček\nProstor: Kuščerjev seminar
LOCATION:Kuščerjev seminar
ORGANIZER:Andreja Jurček
RELATED-TO:fmf-AFLABS-URNIK:srecanje:6336
X-WR-TIMEZONE:Europe/Ljubljana
END:VEVENT
BEGIN:VEVENT
SUMMARY:Karierno svetovanje ()\, Ostalo (O)
DTSTART;TZID=Europe/Ljubljana:20220110T130000
DTEND;TZID=Europe/Ljubljana:20220110T170000
DTSTAMP:20260425T224336Z
UID:fmf-AFLABS-URNIK:premaknjeno-srecanje:48832
CATEGORIES:Entry,Standard
COLOR:darkgreen
DESCRIPTION:Predmet: Karierno svetovanje ()\, Ostalo (O)\nLetniki: \nIzvaj
 alci: Andreja Jurček\nProstor: Kuščerjev seminar
LOCATION:Kuščerjev seminar
ORGANIZER:Andreja Jurček
RELATED-TO:fmf-AFLABS-URNIK:srecanje:6336
X-WR-TIMEZONE:Europe/Ljubljana
END:VEVENT
END:VCALENDAR
