BEGIN:VCALENDAR
VERSION:2.0
PRODID:-//AFLabs urnik izvoz - fmf//aflabs.si//SI
DTSTAMP:20260425T233127Z
NAME:UL FMF urnik
REFRESH-INTERVAL:PT1H
SOURCE:https://urnik.fmf.uni-lj.si/en/teacher/9?day=2026-02-02&export=1
URL:https://urnik.fmf.uni-lj.si/en/teacher/9?day=2026-02-02&export=1
X-PUBLISHED-TTL:PT1H
X-WR-CALNAME:UL FMF urnik
X-WR-TIMEZONE:Europe/Ljubljana
BEGIN:VTIMEZONE
TZID:Europe/Ljubljana
BEGIN:DAYLIGHT
DTSTART:20260329T020000
RDATE:20260329T020000
RDATE:20270328T020000
TZNAME:CEST
TZOFFSETFROM:+0100
TZOFFSETTO:+0200
END:DAYLIGHT
BEGIN:STANDARD
DTSTART:20261025T030000
RDATE:20261025T030000
RDATE:20271031T030000
TZNAME:CET
TZOFFSETFROM:+0200
TZOFFSETTO:+0100
END:STANDARD
END:VTIMEZONE
BEGIN:VEVENT
SUMMARY:Kombinatorika / Kombinatorika 2 (FM-M\, IŠRM-M\, MAT-M\, PM-5)\, 
 Predavanja (P)
DTSTART;TZID=Europe/Ljubljana:20260217T120000
DTEND;TZID=Europe/Ljubljana:20260217T140000
DTSTAMP:20260425T233127Z
UID:fmf-AFLABS-URNIK:premaknjeno-srecanje:248145
ATTENDEE:5. letnik (PM)
ATTENDEE:magistrski študij (FM)
ATTENDEE:magistrski študij (IŠRM)
ATTENDEE:magistrski študij (M)
CATEGORIES:Entry,Standard
COLOR:darkgreen
DESCRIPTION:Predmet: Kombinatorika / Kombinatorika 2 (FM-M\, IŠRM-M\, MAT
 -M\, PM-5)\, Predavanja (P)\nLetniki: magistrski študij (FM)\, magistrski
  študij (IŠRM)\, magistrski študij (M)\, 5. letnik (PM)\nIzvajalci: Mat
 jaž Konvalinka\nProstor: 2.02
LOCATION:2.02
ORGANIZER:Matjaž Konvalinka
RELATED-TO:fmf-AFLABS-URNIK:srecanje:17335
X-WR-TIMEZONE:Europe/Ljubljana
END:VEVENT
BEGIN:VEVENT
SUMMARY:Kombinatorika / Kombinatorika 2 (FM-M\, IŠRM-M\, MAT-M\, PM-5)\, 
 Predavanja (P)
DTSTART;TZID=Europe/Ljubljana:20260224T120000
DTEND;TZID=Europe/Ljubljana:20260224T140000
DTSTAMP:20260425T233127Z
UID:fmf-AFLABS-URNIK:premaknjeno-srecanje:248146
ATTENDEE:5. letnik (PM)
ATTENDEE:magistrski študij (FM)
ATTENDEE:magistrski študij (IŠRM)
ATTENDEE:magistrski študij (M)
CATEGORIES:Entry,Standard
COLOR:darkgreen
DESCRIPTION:Predmet: Kombinatorika / Kombinatorika 2 (FM-M\, IŠRM-M\, MAT
 -M\, PM-5)\, Predavanja (P)\nLetniki: magistrski študij (FM)\, magistrski
  študij (IŠRM)\, magistrski študij (M)\, 5. letnik (PM)\nIzvajalci: Mat
 jaž Konvalinka\nProstor: 2.02
LOCATION:2.02
ORGANIZER:Matjaž Konvalinka
RELATED-TO:fmf-AFLABS-URNIK:srecanje:17335
X-WR-TIMEZONE:Europe/Ljubljana
END:VEVENT
BEGIN:VEVENT
SUMMARY:Kombinatorika / Kombinatorika 2 (FM-M\, IŠRM-M\, MAT-M\, PM-5)\, 
 Predavanja (P)
DTSTART;TZID=Europe/Ljubljana:20260303T120000
DTEND;TZID=Europe/Ljubljana:20260303T140000
DTSTAMP:20260425T233127Z
UID:fmf-AFLABS-URNIK:premaknjeno-srecanje:248147
ATTENDEE:5. letnik (PM)
ATTENDEE:magistrski študij (FM)
ATTENDEE:magistrski študij (IŠRM)
ATTENDEE:magistrski študij (M)
CATEGORIES:Entry,Standard
COLOR:darkgreen
DESCRIPTION:Predmet: Kombinatorika / Kombinatorika 2 (FM-M\, IŠRM-M\, MAT
 -M\, PM-5)\, Predavanja (P)\nLetniki: magistrski študij (FM)\, magistrski
  študij (IŠRM)\, magistrski študij (M)\, 5. letnik (PM)\nIzvajalci: Mat
 jaž Konvalinka\nProstor: 2.02
LOCATION:2.02
ORGANIZER:Matjaž Konvalinka
RELATED-TO:fmf-AFLABS-URNIK:srecanje:17335
X-WR-TIMEZONE:Europe/Ljubljana
END:VEVENT
BEGIN:VEVENT
SUMMARY:Kombinatorika / Kombinatorika 2 (FM-M\, IŠRM-M\, MAT-M\, PM-5)\, 
 Predavanja (P)
DTSTART;TZID=Europe/Ljubljana:20260220T080000
DTEND;TZID=Europe/Ljubljana:20260220T100000
DTSTAMP:20260425T233127Z
UID:fmf-AFLABS-URNIK:premaknjeno-srecanje:248103
ATTENDEE:5. letnik (PM)
ATTENDEE:magistrski študij (FM)
ATTENDEE:magistrski študij (IŠRM)
ATTENDEE:magistrski študij (M)
CATEGORIES:Entry,Standard
COLOR:darkgreen
DESCRIPTION:Predmet: Kombinatorika / Kombinatorika 2 (FM-M\, IŠRM-M\, MAT
 -M\, PM-5)\, Predavanja (P)\nLetniki: magistrski študij (FM)\, magistrski
  študij (IŠRM)\, magistrski študij (M)\, 5. letnik (PM)\nIzvajalci: Mat
 jaž Konvalinka\nProstor: 1.01
LOCATION:1.01
ORGANIZER:Matjaž Konvalinka
RELATED-TO:fmf-AFLABS-URNIK:srecanje:17265
X-WR-TIMEZONE:Europe/Ljubljana
END:VEVENT
BEGIN:VEVENT
SUMMARY:Kombinatorika / Kombinatorika 2 (FM-M\, IŠRM-M\, MAT-M\, PM-5)\, 
 Predavanja (P)
DTSTART;TZID=Europe/Ljubljana:20260227T080000
DTEND;TZID=Europe/Ljubljana:20260227T100000
DTSTAMP:20260425T233127Z
UID:fmf-AFLABS-URNIK:premaknjeno-srecanje:248104
ATTENDEE:5. letnik (PM)
ATTENDEE:magistrski študij (FM)
ATTENDEE:magistrski študij (IŠRM)
ATTENDEE:magistrski študij (M)
CATEGORIES:Entry,Standard
COLOR:darkgreen
DESCRIPTION:Predmet: Kombinatorika / Kombinatorika 2 (FM-M\, IŠRM-M\, MAT
 -M\, PM-5)\, Predavanja (P)\nLetniki: magistrski študij (FM)\, magistrski
  študij (IŠRM)\, magistrski študij (M)\, 5. letnik (PM)\nIzvajalci: Mat
 jaž Konvalinka\nProstor: 1.01
LOCATION:1.01
ORGANIZER:Matjaž Konvalinka
RELATED-TO:fmf-AFLABS-URNIK:srecanje:17265
X-WR-TIMEZONE:Europe/Ljubljana
END:VEVENT
BEGIN:VEVENT
SUMMARY:Kombinatorika / Kombinatorika 2 (FM-M\, IŠRM-M\, MAT-M\, PM-5)\, 
 Predavanja (P)
DTSTART;TZID=Europe/Ljubljana:20260306T080000
DTEND;TZID=Europe/Ljubljana:20260306T100000
DTSTAMP:20260425T233127Z
UID:fmf-AFLABS-URNIK:premaknjeno-srecanje:248105
ATTENDEE:5. letnik (PM)
ATTENDEE:magistrski študij (FM)
ATTENDEE:magistrski študij (IŠRM)
ATTENDEE:magistrski študij (M)
CATEGORIES:Entry,Standard
COLOR:darkgreen
DESCRIPTION:Predmet: Kombinatorika / Kombinatorika 2 (FM-M\, IŠRM-M\, MAT
 -M\, PM-5)\, Predavanja (P)\nLetniki: magistrski študij (FM)\, magistrski
  študij (IŠRM)\, magistrski študij (M)\, 5. letnik (PM)\nIzvajalci: Mat
 jaž Konvalinka\nProstor: 1.01
LOCATION:1.01
ORGANIZER:Matjaž Konvalinka
RELATED-TO:fmf-AFLABS-URNIK:srecanje:17265
X-WR-TIMEZONE:Europe/Ljubljana
END:VEVENT
BEGIN:VEVENT
SUMMARY:Slovenščina
DTSTART;TZID=Europe/Ljubljana:20260120T160000
DTEND;TZID=Europe/Ljubljana:20260120T180000
DTSTAMP:20260425T233127Z
UID:fmf-AFLABS-URNIK:rezervacija:26178
CATEGORIES:Reservation
COLOR:royalblue
DESCRIPTION:Predmeti: \nLetniki: \nIzvajalci: Matjaž Konvalinka\nProstori
 : 3.07
LOCATION:3.07
ORGANIZER:Matjaž Konvalinka
X-WR-TIMEZONE:Europe/Ljubljana
END:VEVENT
BEGIN:VEVENT
SUMMARY:Slovenščina
DTSTART;TZID=Europe/Ljubljana:20260127T160000
DTEND;TZID=Europe/Ljubljana:20260127T180000
DTSTAMP:20260425T233127Z
UID:fmf-AFLABS-URNIK:rezervacija:26179
CATEGORIES:Reservation
COLOR:royalblue
DESCRIPTION:Predmeti: \nLetniki: \nIzvajalci: Matjaž Konvalinka\nProstori
 : 3.07
LOCATION:3.07
ORGANIZER:Matjaž Konvalinka
X-WR-TIMEZONE:Europe/Ljubljana
END:VEVENT
BEGIN:VEVENT
SUMMARY:Slovenščina
DTSTART;TZID=Europe/Ljubljana:20260203T160000
DTEND;TZID=Europe/Ljubljana:20260203T180000
DTSTAMP:20260425T233127Z
UID:fmf-AFLABS-URNIK:rezervacija:26180
CATEGORIES:Reservation
COLOR:royalblue
DESCRIPTION:Predmeti: \nLetniki: \nIzvajalci: Matjaž Konvalinka\nProstori
 : 3.07
LOCATION:3.07
ORGANIZER:Matjaž Konvalinka
X-WR-TIMEZONE:Europe/Ljubljana
END:VEVENT
BEGIN:VEVENT
SUMMARY:Slovenščina
DTSTART;TZID=Europe/Ljubljana:20260210T160000
DTEND;TZID=Europe/Ljubljana:20260210T180000
DTSTAMP:20260425T233127Z
UID:fmf-AFLABS-URNIK:rezervacija:26181
CATEGORIES:Reservation
COLOR:royalblue
DESCRIPTION:Predmeti: \nLetniki: \nIzvajalci: Matjaž Konvalinka\nProstori
 : 3.07
LOCATION:3.07
ORGANIZER:Matjaž Konvalinka
X-WR-TIMEZONE:Europe/Ljubljana
END:VEVENT
BEGIN:VEVENT
SUMMARY:Pogovor s študenti
DTSTART;TZID=Europe/Ljubljana:20260127T140000
DTEND;TZID=Europe/Ljubljana:20260127T160000
DTSTAMP:20260425T233127Z
UID:fmf-AFLABS-URNIK:rezervacija:26426
ATTENDEE:4. letnik (PM)
ATTENDEE:5. letnik (PM)
CATEGORIES:Reservation
COLOR:royalblue
DESCRIPTION:Predmeti: Matematika za nadarjene (PM-4\, PM-5)\nLetniki: 4. l
 etnik (PM)\, 5. letnik (PM)\nIzvajalci: Matjaž Konvalinka\nProstori: 3.06
LOCATION:3.06
ORGANIZER:Matjaž Konvalinka
X-WR-TIMEZONE:Europe/Ljubljana
END:VEVENT
END:VCALENDAR
