BEGIN:VCALENDAR
VERSION:2.0
PRODID:-//AFLabs urnik izvoz - fmf//aflabs.si//SI
DTSTAMP:20260422T193838Z
NAME:UL FMF urnik
REFRESH-INTERVAL:PT1H
SOURCE:https://urnik.fmf.uni-lj.si/en/teacher/9?day=2026-04-06&export=1
URL:https://urnik.fmf.uni-lj.si/en/teacher/9?day=2026-04-06&export=1
X-PUBLISHED-TTL:PT1H
X-WR-CALNAME:UL FMF urnik
X-WR-TIMEZONE:Europe/Ljubljana
BEGIN:VTIMEZONE
TZID:Europe/Ljubljana
BEGIN:DAYLIGHT
DTSTART:20260329T020000
RDATE:20260329T020000
RDATE:20270328T020000
TZNAME:CEST
TZOFFSETFROM:+0100
TZOFFSETTO:+0200
END:DAYLIGHT
BEGIN:STANDARD
DTSTART:20261025T030000
RDATE:20261025T030000
RDATE:20271031T030000
TZNAME:CET
TZOFFSETFROM:+0200
TZOFFSETTO:+0100
END:STANDARD
END:VTIMEZONE
BEGIN:VEVENT
SUMMARY:Kombinatorika / Kombinatorika 2 (FM-M\, IŠRM-M\, MAT-M\, PM-5)\, 
 Predavanja (P)
DTSTART;TZID=Europe/Ljubljana:20260217T120000
DTEND;TZID=Europe/Ljubljana:20260217T140000
DTSTAMP:20260422T193838Z
UID:fmf-AFLABS-URNIK:premaknjeno-srecanje:248145
ATTENDEE:5. letnik (PM)
ATTENDEE:magistrski študij (FM)
ATTENDEE:magistrski študij (IŠRM)
ATTENDEE:magistrski študij (M)
CATEGORIES:Entry,Standard
COLOR:darkgreen
DESCRIPTION:Predmet: Kombinatorika / Kombinatorika 2 (FM-M\, IŠRM-M\, MAT
 -M\, PM-5)\, Predavanja (P)\nLetniki: magistrski študij (FM)\, magistrski
  študij (IŠRM)\, magistrski študij (M)\, 5. letnik (PM)\nIzvajalci: Mat
 jaž Konvalinka\nProstor: 2.02
LOCATION:2.02
ORGANIZER:Matjaž Konvalinka
RELATED-TO:fmf-AFLABS-URNIK:srecanje:17335
X-WR-TIMEZONE:Europe/Ljubljana
END:VEVENT
BEGIN:VEVENT
SUMMARY:Kombinatorika / Kombinatorika 2 (FM-M\, IŠRM-M\, MAT-M\, PM-5)\, 
 Predavanja (P)
DTSTART;TZID=Europe/Ljubljana:20260224T120000
DTEND;TZID=Europe/Ljubljana:20260224T140000
DTSTAMP:20260422T193838Z
UID:fmf-AFLABS-URNIK:premaknjeno-srecanje:248146
ATTENDEE:5. letnik (PM)
ATTENDEE:magistrski študij (FM)
ATTENDEE:magistrski študij (IŠRM)
ATTENDEE:magistrski študij (M)
CATEGORIES:Entry,Standard
COLOR:darkgreen
DESCRIPTION:Predmet: Kombinatorika / Kombinatorika 2 (FM-M\, IŠRM-M\, MAT
 -M\, PM-5)\, Predavanja (P)\nLetniki: magistrski študij (FM)\, magistrski
  študij (IŠRM)\, magistrski študij (M)\, 5. letnik (PM)\nIzvajalci: Mat
 jaž Konvalinka\nProstor: 2.02
LOCATION:2.02
ORGANIZER:Matjaž Konvalinka
RELATED-TO:fmf-AFLABS-URNIK:srecanje:17335
X-WR-TIMEZONE:Europe/Ljubljana
END:VEVENT
BEGIN:VEVENT
SUMMARY:Kombinatorika / Kombinatorika 2 (FM-M\, IŠRM-M\, MAT-M\, PM-5)\, 
 Predavanja (P)
DTSTART;TZID=Europe/Ljubljana:20260303T120000
DTEND;TZID=Europe/Ljubljana:20260303T140000
DTSTAMP:20260422T193838Z
UID:fmf-AFLABS-URNIK:premaknjeno-srecanje:248147
ATTENDEE:5. letnik (PM)
ATTENDEE:magistrski študij (FM)
ATTENDEE:magistrski študij (IŠRM)
ATTENDEE:magistrski študij (M)
CATEGORIES:Entry,Standard
COLOR:darkgreen
DESCRIPTION:Predmet: Kombinatorika / Kombinatorika 2 (FM-M\, IŠRM-M\, MAT
 -M\, PM-5)\, Predavanja (P)\nLetniki: magistrski študij (FM)\, magistrski
  študij (IŠRM)\, magistrski študij (M)\, 5. letnik (PM)\nIzvajalci: Mat
 jaž Konvalinka\nProstor: 2.02
LOCATION:2.02
ORGANIZER:Matjaž Konvalinka
RELATED-TO:fmf-AFLABS-URNIK:srecanje:17335
X-WR-TIMEZONE:Europe/Ljubljana
END:VEVENT
BEGIN:VEVENT
SUMMARY:Kombinatorika / Kombinatorika 2 (FM-M\, IŠRM-M\, MAT-M\, PM-5)\, 
 Predavanja (P)
DTSTART;TZID=Europe/Ljubljana:20260310T120000
DTEND;TZID=Europe/Ljubljana:20260310T140000
DTSTAMP:20260422T193838Z
UID:fmf-AFLABS-URNIK:premaknjeno-srecanje:248148
ATTENDEE:5. letnik (PM)
ATTENDEE:magistrski študij (FM)
ATTENDEE:magistrski študij (IŠRM)
ATTENDEE:magistrski študij (M)
CATEGORIES:Entry,Standard
COLOR:darkgreen
DESCRIPTION:Predmet: Kombinatorika / Kombinatorika 2 (FM-M\, IŠRM-M\, MAT
 -M\, PM-5)\, Predavanja (P)\nLetniki: magistrski študij (FM)\, magistrski
  študij (IŠRM)\, magistrski študij (M)\, 5. letnik (PM)\nIzvajalci: Mat
 jaž Konvalinka\nProstor: 2.02
LOCATION:2.02
ORGANIZER:Matjaž Konvalinka
RELATED-TO:fmf-AFLABS-URNIK:srecanje:17335
X-WR-TIMEZONE:Europe/Ljubljana
END:VEVENT
BEGIN:VEVENT
SUMMARY:Kombinatorika / Kombinatorika 2 (FM-M\, IŠRM-M\, MAT-M\, PM-5)\, 
 Predavanja (P)
DTSTART;TZID=Europe/Ljubljana:20260317T120000
DTEND;TZID=Europe/Ljubljana:20260317T140000
DTSTAMP:20260422T193838Z
UID:fmf-AFLABS-URNIK:premaknjeno-srecanje:248149
ATTENDEE:5. letnik (PM)
ATTENDEE:magistrski študij (FM)
ATTENDEE:magistrski študij (IŠRM)
ATTENDEE:magistrski študij (M)
CATEGORIES:Entry,Standard
COLOR:darkgreen
DESCRIPTION:Predmet: Kombinatorika / Kombinatorika 2 (FM-M\, IŠRM-M\, MAT
 -M\, PM-5)\, Predavanja (P)\nLetniki: magistrski študij (FM)\, magistrski
  študij (IŠRM)\, magistrski študij (M)\, 5. letnik (PM)\nIzvajalci: Mat
 jaž Konvalinka\nProstor: 2.02
LOCATION:2.02
ORGANIZER:Matjaž Konvalinka
RELATED-TO:fmf-AFLABS-URNIK:srecanje:17335
X-WR-TIMEZONE:Europe/Ljubljana
END:VEVENT
BEGIN:VEVENT
SUMMARY:Kombinatorika / Kombinatorika 2 (FM-M\, IŠRM-M\, MAT-M\, PM-5)\, 
 Predavanja (P)
DTSTART;TZID=Europe/Ljubljana:20260324T120000
DTEND;TZID=Europe/Ljubljana:20260324T140000
DTSTAMP:20260422T193838Z
UID:fmf-AFLABS-URNIK:premaknjeno-srecanje:248150
ATTENDEE:5. letnik (PM)
ATTENDEE:magistrski študij (FM)
ATTENDEE:magistrski študij (IŠRM)
ATTENDEE:magistrski študij (M)
CATEGORIES:Entry,Standard
COLOR:darkgreen
DESCRIPTION:Predmet: Kombinatorika / Kombinatorika 2 (FM-M\, IŠRM-M\, MAT
 -M\, PM-5)\, Predavanja (P)\nLetniki: magistrski študij (FM)\, magistrski
  študij (IŠRM)\, magistrski študij (M)\, 5. letnik (PM)\nIzvajalci: Mat
 jaž Konvalinka\nProstor: 2.02
LOCATION:2.02
ORGANIZER:Matjaž Konvalinka
RELATED-TO:fmf-AFLABS-URNIK:srecanje:17335
X-WR-TIMEZONE:Europe/Ljubljana
END:VEVENT
BEGIN:VEVENT
SUMMARY:Kombinatorika / Kombinatorika 2 (FM-M\, IŠRM-M\, MAT-M\, PM-5)\, 
 Predavanja (P)
DTSTART;TZID=Europe/Ljubljana:20260331T120000
DTEND;TZID=Europe/Ljubljana:20260331T140000
DTSTAMP:20260422T193838Z
UID:fmf-AFLABS-URNIK:premaknjeno-srecanje:248151
ATTENDEE:5. letnik (PM)
ATTENDEE:magistrski študij (FM)
ATTENDEE:magistrski študij (IŠRM)
ATTENDEE:magistrski študij (M)
CATEGORIES:Entry,Standard
COLOR:darkgreen
DESCRIPTION:Predmet: Kombinatorika / Kombinatorika 2 (FM-M\, IŠRM-M\, MAT
 -M\, PM-5)\, Predavanja (P)\nLetniki: magistrski študij (FM)\, magistrski
  študij (IŠRM)\, magistrski študij (M)\, 5. letnik (PM)\nIzvajalci: Mat
 jaž Konvalinka\nProstor: 2.02
LOCATION:2.02
ORGANIZER:Matjaž Konvalinka
RELATED-TO:fmf-AFLABS-URNIK:srecanje:17335
X-WR-TIMEZONE:Europe/Ljubljana
END:VEVENT
BEGIN:VEVENT
SUMMARY:Kombinatorika / Kombinatorika 2 (FM-M\, IŠRM-M\, MAT-M\, PM-5)\, 
 Predavanja (P)
DTSTART;TZID=Europe/Ljubljana:20260407T120000
DTEND;TZID=Europe/Ljubljana:20260407T140000
DTSTAMP:20260422T193838Z
UID:fmf-AFLABS-URNIK:premaknjeno-srecanje:248152
ATTENDEE:5. letnik (PM)
ATTENDEE:magistrski študij (FM)
ATTENDEE:magistrski študij (IŠRM)
ATTENDEE:magistrski študij (M)
CATEGORIES:Entry,Standard
COLOR:darkgreen
DESCRIPTION:Predmet: Kombinatorika / Kombinatorika 2 (FM-M\, IŠRM-M\, MAT
 -M\, PM-5)\, Predavanja (P)\nLetniki: magistrski študij (FM)\, magistrski
  študij (IŠRM)\, magistrski študij (M)\, 5. letnik (PM)\nIzvajalci: Mat
 jaž Konvalinka\nProstor: 2.02
LOCATION:2.02
ORGANIZER:Matjaž Konvalinka
RELATED-TO:fmf-AFLABS-URNIK:srecanje:17335
X-WR-TIMEZONE:Europe/Ljubljana
END:VEVENT
BEGIN:VEVENT
SUMMARY:Kombinatorika / Kombinatorika 2 (FM-M\, IŠRM-M\, MAT-M\, PM-5)\, 
 Predavanja (P)
DTSTART;TZID=Europe/Ljubljana:20260414T120000
DTEND;TZID=Europe/Ljubljana:20260414T140000
DTSTAMP:20260422T193838Z
UID:fmf-AFLABS-URNIK:premaknjeno-srecanje:248153
ATTENDEE:5. letnik (PM)
ATTENDEE:magistrski študij (FM)
ATTENDEE:magistrski študij (IŠRM)
ATTENDEE:magistrski študij (M)
CATEGORIES:Entry,Standard
COLOR:darkgreen
DESCRIPTION:Predmet: Kombinatorika / Kombinatorika 2 (FM-M\, IŠRM-M\, MAT
 -M\, PM-5)\, Predavanja (P)\nLetniki: magistrski študij (FM)\, magistrski
  študij (IŠRM)\, magistrski študij (M)\, 5. letnik (PM)\nIzvajalci: Mat
 jaž Konvalinka\nProstor: 2.02
LOCATION:2.02
ORGANIZER:Matjaž Konvalinka
RELATED-TO:fmf-AFLABS-URNIK:srecanje:17335
X-WR-TIMEZONE:Europe/Ljubljana
END:VEVENT
BEGIN:VEVENT
SUMMARY:Kombinatorika / Kombinatorika 2 (FM-M\, IŠRM-M\, MAT-M\, PM-5)\, 
 Predavanja (P)
DTSTART;TZID=Europe/Ljubljana:20260421T120000
DTEND;TZID=Europe/Ljubljana:20260421T140000
DTSTAMP:20260422T193838Z
UID:fmf-AFLABS-URNIK:premaknjeno-srecanje:248154
ATTENDEE:5. letnik (PM)
ATTENDEE:magistrski študij (FM)
ATTENDEE:magistrski študij (IŠRM)
ATTENDEE:magistrski študij (M)
CATEGORIES:Entry,Standard
COLOR:darkgreen
DESCRIPTION:Predmet: Kombinatorika / Kombinatorika 2 (FM-M\, IŠRM-M\, MAT
 -M\, PM-5)\, Predavanja (P)\nLetniki: magistrski študij (FM)\, magistrski
  študij (IŠRM)\, magistrski študij (M)\, 5. letnik (PM)\nIzvajalci: Mat
 jaž Konvalinka\nProstor: 2.02
LOCATION:2.02
ORGANIZER:Matjaž Konvalinka
RELATED-TO:fmf-AFLABS-URNIK:srecanje:17335
X-WR-TIMEZONE:Europe/Ljubljana
END:VEVENT
BEGIN:VEVENT
SUMMARY:Kombinatorika / Kombinatorika 2 (FM-M\, IŠRM-M\, MAT-M\, PM-5)\, 
 Predavanja (P)
DTSTART;TZID=Europe/Ljubljana:20260428T120000
DTEND;TZID=Europe/Ljubljana:20260428T140000
DTSTAMP:20260422T193838Z
UID:fmf-AFLABS-URNIK:premaknjeno-srecanje:248155
ATTENDEE:5. letnik (PM)
ATTENDEE:magistrski študij (FM)
ATTENDEE:magistrski študij (IŠRM)
ATTENDEE:magistrski študij (M)
CATEGORIES:Entry,Standard
COLOR:darkgreen
DESCRIPTION:Predmet: Kombinatorika / Kombinatorika 2 (FM-M\, IŠRM-M\, MAT
 -M\, PM-5)\, Predavanja (P)\nLetniki: magistrski študij (FM)\, magistrski
  študij (IŠRM)\, magistrski študij (M)\, 5. letnik (PM)\nIzvajalci: Mat
 jaž Konvalinka\nProstor: 2.02
LOCATION:2.02
ORGANIZER:Matjaž Konvalinka
RELATED-TO:fmf-AFLABS-URNIK:srecanje:17335
X-WR-TIMEZONE:Europe/Ljubljana
END:VEVENT
BEGIN:VEVENT
SUMMARY:Kombinatorika / Kombinatorika 2 (FM-M\, IŠRM-M\, MAT-M\, PM-5)\, 
 Predavanja (P)
DTSTART;TZID=Europe/Ljubljana:20260505T120000
DTEND;TZID=Europe/Ljubljana:20260505T140000
DTSTAMP:20260422T193838Z
UID:fmf-AFLABS-URNIK:premaknjeno-srecanje:248156
ATTENDEE:5. letnik (PM)
ATTENDEE:magistrski študij (FM)
ATTENDEE:magistrski študij (IŠRM)
ATTENDEE:magistrski študij (M)
CATEGORIES:Entry,Standard
COLOR:darkgreen
DESCRIPTION:Predmet: Kombinatorika / Kombinatorika 2 (FM-M\, IŠRM-M\, MAT
 -M\, PM-5)\, Predavanja (P)\nLetniki: magistrski študij (FM)\, magistrski
  študij (IŠRM)\, magistrski študij (M)\, 5. letnik (PM)\nIzvajalci: Mat
 jaž Konvalinka\nProstor: 2.02
LOCATION:2.02
ORGANIZER:Matjaž Konvalinka
RELATED-TO:fmf-AFLABS-URNIK:srecanje:17335
X-WR-TIMEZONE:Europe/Ljubljana
END:VEVENT
BEGIN:VEVENT
SUMMARY:Kombinatorika / Kombinatorika 2 (FM-M\, IŠRM-M\, MAT-M\, PM-5)\, 
 Predavanja (P)
DTSTART;TZID=Europe/Ljubljana:20260512T120000
DTEND;TZID=Europe/Ljubljana:20260512T140000
DTSTAMP:20260422T193838Z
UID:fmf-AFLABS-URNIK:premaknjeno-srecanje:248157
ATTENDEE:5. letnik (PM)
ATTENDEE:magistrski študij (FM)
ATTENDEE:magistrski študij (IŠRM)
ATTENDEE:magistrski študij (M)
CATEGORIES:Entry,Standard
COLOR:darkgreen
DESCRIPTION:Predmet: Kombinatorika / Kombinatorika 2 (FM-M\, IŠRM-M\, MAT
 -M\, PM-5)\, Predavanja (P)\nLetniki: magistrski študij (FM)\, magistrski
  študij (IŠRM)\, magistrski študij (M)\, 5. letnik (PM)\nIzvajalci: Mat
 jaž Konvalinka\nProstor: 2.02
LOCATION:2.02
ORGANIZER:Matjaž Konvalinka
RELATED-TO:fmf-AFLABS-URNIK:srecanje:17335
X-WR-TIMEZONE:Europe/Ljubljana
END:VEVENT
BEGIN:VEVENT
SUMMARY:Kombinatorika / Kombinatorika 2 (FM-M\, IŠRM-M\, MAT-M\, PM-5)\, 
 Predavanja (P)
DTSTART;TZID=Europe/Ljubljana:20260519T120000
DTEND;TZID=Europe/Ljubljana:20260519T140000
DTSTAMP:20260422T193838Z
UID:fmf-AFLABS-URNIK:premaknjeno-srecanje:248158
ATTENDEE:5. letnik (PM)
ATTENDEE:magistrski študij (FM)
ATTENDEE:magistrski študij (IŠRM)
ATTENDEE:magistrski študij (M)
CATEGORIES:Entry,Standard
COLOR:darkgreen
DESCRIPTION:Predmet: Kombinatorika / Kombinatorika 2 (FM-M\, IŠRM-M\, MAT
 -M\, PM-5)\, Predavanja (P)\nLetniki: magistrski študij (FM)\, magistrski
  študij (IŠRM)\, magistrski študij (M)\, 5. letnik (PM)\nIzvajalci: Mat
 jaž Konvalinka\nProstor: 2.02
LOCATION:2.02
ORGANIZER:Matjaž Konvalinka
RELATED-TO:fmf-AFLABS-URNIK:srecanje:17335
X-WR-TIMEZONE:Europe/Ljubljana
END:VEVENT
BEGIN:VEVENT
SUMMARY:Kombinatorika / Kombinatorika 2 (FM-M\, IŠRM-M\, MAT-M\, PM-5)\, 
 Predavanja (P)
DTSTART;TZID=Europe/Ljubljana:20260526T120000
DTEND;TZID=Europe/Ljubljana:20260526T140000
DTSTAMP:20260422T193838Z
UID:fmf-AFLABS-URNIK:premaknjeno-srecanje:248159
ATTENDEE:5. letnik (PM)
ATTENDEE:magistrski študij (FM)
ATTENDEE:magistrski študij (IŠRM)
ATTENDEE:magistrski študij (M)
CATEGORIES:Entry,Standard
COLOR:darkgreen
DESCRIPTION:Predmet: Kombinatorika / Kombinatorika 2 (FM-M\, IŠRM-M\, MAT
 -M\, PM-5)\, Predavanja (P)\nLetniki: magistrski študij (FM)\, magistrski
  študij (IŠRM)\, magistrski študij (M)\, 5. letnik (PM)\nIzvajalci: Mat
 jaž Konvalinka\nProstor: 2.02
LOCATION:2.02
ORGANIZER:Matjaž Konvalinka
RELATED-TO:fmf-AFLABS-URNIK:srecanje:17335
X-WR-TIMEZONE:Europe/Ljubljana
END:VEVENT
BEGIN:VEVENT
SUMMARY:Kombinatorika / Kombinatorika 2 (FM-M\, IŠRM-M\, MAT-M\, PM-5)\, 
 Predavanja (P)
DTSTART;TZID=Europe/Ljubljana:20260602T120000
DTEND;TZID=Europe/Ljubljana:20260602T140000
DTSTAMP:20260422T193838Z
UID:fmf-AFLABS-URNIK:premaknjeno-srecanje:248160
ATTENDEE:5. letnik (PM)
ATTENDEE:magistrski študij (FM)
ATTENDEE:magistrski študij (IŠRM)
ATTENDEE:magistrski študij (M)
CATEGORIES:Entry,Standard
COLOR:darkgreen
DESCRIPTION:Predmet: Kombinatorika / Kombinatorika 2 (FM-M\, IŠRM-M\, MAT
 -M\, PM-5)\, Predavanja (P)\nLetniki: magistrski študij (FM)\, magistrski
  študij (IŠRM)\, magistrski študij (M)\, 5. letnik (PM)\nIzvajalci: Mat
 jaž Konvalinka\nProstor: 2.02
LOCATION:2.02
ORGANIZER:Matjaž Konvalinka
RELATED-TO:fmf-AFLABS-URNIK:srecanje:17335
X-WR-TIMEZONE:Europe/Ljubljana
END:VEVENT
BEGIN:VEVENT
SUMMARY:Kombinatorika / Kombinatorika 2 (FM-M\, IŠRM-M\, MAT-M\, PM-5)\, 
 Predavanja (P)
DTSTART;TZID=Europe/Ljubljana:20260220T080000
DTEND;TZID=Europe/Ljubljana:20260220T100000
DTSTAMP:20260422T193838Z
UID:fmf-AFLABS-URNIK:premaknjeno-srecanje:248103
ATTENDEE:5. letnik (PM)
ATTENDEE:magistrski študij (FM)
ATTENDEE:magistrski študij (IŠRM)
ATTENDEE:magistrski študij (M)
CATEGORIES:Entry,Standard
COLOR:darkgreen
DESCRIPTION:Predmet: Kombinatorika / Kombinatorika 2 (FM-M\, IŠRM-M\, MAT
 -M\, PM-5)\, Predavanja (P)\nLetniki: magistrski študij (FM)\, magistrski
  študij (IŠRM)\, magistrski študij (M)\, 5. letnik (PM)\nIzvajalci: Mat
 jaž Konvalinka\nProstor: 1.01
LOCATION:1.01
ORGANIZER:Matjaž Konvalinka
RELATED-TO:fmf-AFLABS-URNIK:srecanje:17265
X-WR-TIMEZONE:Europe/Ljubljana
END:VEVENT
BEGIN:VEVENT
SUMMARY:Kombinatorika / Kombinatorika 2 (FM-M\, IŠRM-M\, MAT-M\, PM-5)\, 
 Predavanja (P)
DTSTART;TZID=Europe/Ljubljana:20260227T080000
DTEND;TZID=Europe/Ljubljana:20260227T100000
DTSTAMP:20260422T193838Z
UID:fmf-AFLABS-URNIK:premaknjeno-srecanje:248104
ATTENDEE:5. letnik (PM)
ATTENDEE:magistrski študij (FM)
ATTENDEE:magistrski študij (IŠRM)
ATTENDEE:magistrski študij (M)
CATEGORIES:Entry,Standard
COLOR:darkgreen
DESCRIPTION:Predmet: Kombinatorika / Kombinatorika 2 (FM-M\, IŠRM-M\, MAT
 -M\, PM-5)\, Predavanja (P)\nLetniki: magistrski študij (FM)\, magistrski
  študij (IŠRM)\, magistrski študij (M)\, 5. letnik (PM)\nIzvajalci: Mat
 jaž Konvalinka\nProstor: 1.01
LOCATION:1.01
ORGANIZER:Matjaž Konvalinka
RELATED-TO:fmf-AFLABS-URNIK:srecanje:17265
X-WR-TIMEZONE:Europe/Ljubljana
END:VEVENT
BEGIN:VEVENT
SUMMARY:Kombinatorika / Kombinatorika 2 (FM-M\, IŠRM-M\, MAT-M\, PM-5)\, 
 Predavanja (P)
DTSTART;TZID=Europe/Ljubljana:20260306T080000
DTEND;TZID=Europe/Ljubljana:20260306T100000
DTSTAMP:20260422T193838Z
UID:fmf-AFLABS-URNIK:premaknjeno-srecanje:248105
ATTENDEE:5. letnik (PM)
ATTENDEE:magistrski študij (FM)
ATTENDEE:magistrski študij (IŠRM)
ATTENDEE:magistrski študij (M)
CATEGORIES:Entry,Standard
COLOR:darkgreen
DESCRIPTION:Predmet: Kombinatorika / Kombinatorika 2 (FM-M\, IŠRM-M\, MAT
 -M\, PM-5)\, Predavanja (P)\nLetniki: magistrski študij (FM)\, magistrski
  študij (IŠRM)\, magistrski študij (M)\, 5. letnik (PM)\nIzvajalci: Mat
 jaž Konvalinka\nProstor: 1.01
LOCATION:1.01
ORGANIZER:Matjaž Konvalinka
RELATED-TO:fmf-AFLABS-URNIK:srecanje:17265
X-WR-TIMEZONE:Europe/Ljubljana
END:VEVENT
BEGIN:VEVENT
SUMMARY:Kombinatorika / Kombinatorika 2 (FM-M\, IŠRM-M\, MAT-M\, PM-5)\, 
 Predavanja (P)
DTSTART;TZID=Europe/Ljubljana:20260313T080000
DTEND;TZID=Europe/Ljubljana:20260313T100000
DTSTAMP:20260422T193838Z
UID:fmf-AFLABS-URNIK:premaknjeno-srecanje:248106
ATTENDEE:5. letnik (PM)
ATTENDEE:magistrski študij (FM)
ATTENDEE:magistrski študij (IŠRM)
ATTENDEE:magistrski študij (M)
CATEGORIES:Entry,Standard
COLOR:darkgreen
DESCRIPTION:Predmet: Kombinatorika / Kombinatorika 2 (FM-M\, IŠRM-M\, MAT
 -M\, PM-5)\, Predavanja (P)\nLetniki: magistrski študij (FM)\, magistrski
  študij (IŠRM)\, magistrski študij (M)\, 5. letnik (PM)\nIzvajalci: Mat
 jaž Konvalinka\nProstor: 1.01
LOCATION:1.01
ORGANIZER:Matjaž Konvalinka
RELATED-TO:fmf-AFLABS-URNIK:srecanje:17265
X-WR-TIMEZONE:Europe/Ljubljana
END:VEVENT
BEGIN:VEVENT
SUMMARY:Kombinatorika / Kombinatorika 2 (FM-M\, IŠRM-M\, MAT-M\, PM-5)\, 
 Predavanja (P)
DTSTART;TZID=Europe/Ljubljana:20260320T080000
DTEND;TZID=Europe/Ljubljana:20260320T100000
DTSTAMP:20260422T193838Z
UID:fmf-AFLABS-URNIK:premaknjeno-srecanje:248107
ATTENDEE:5. letnik (PM)
ATTENDEE:magistrski študij (FM)
ATTENDEE:magistrski študij (IŠRM)
ATTENDEE:magistrski študij (M)
CATEGORIES:Entry,Standard
COLOR:darkgreen
DESCRIPTION:Predmet: Kombinatorika / Kombinatorika 2 (FM-M\, IŠRM-M\, MAT
 -M\, PM-5)\, Predavanja (P)\nLetniki: magistrski študij (FM)\, magistrski
  študij (IŠRM)\, magistrski študij (M)\, 5. letnik (PM)\nIzvajalci: Mat
 jaž Konvalinka\nProstor: 1.01
LOCATION:1.01
ORGANIZER:Matjaž Konvalinka
RELATED-TO:fmf-AFLABS-URNIK:srecanje:17265
X-WR-TIMEZONE:Europe/Ljubljana
END:VEVENT
BEGIN:VEVENT
SUMMARY:Kombinatorika / Kombinatorika 2 (FM-M\, IŠRM-M\, MAT-M\, PM-5)\, 
 Predavanja (P)
DTSTART;TZID=Europe/Ljubljana:20260327T080000
DTEND;TZID=Europe/Ljubljana:20260327T100000
DTSTAMP:20260422T193838Z
UID:fmf-AFLABS-URNIK:premaknjeno-srecanje:248108
ATTENDEE:5. letnik (PM)
ATTENDEE:magistrski študij (FM)
ATTENDEE:magistrski študij (IŠRM)
ATTENDEE:magistrski študij (M)
CATEGORIES:Entry,Standard
COLOR:darkgreen
DESCRIPTION:Predmet: Kombinatorika / Kombinatorika 2 (FM-M\, IŠRM-M\, MAT
 -M\, PM-5)\, Predavanja (P)\nLetniki: magistrski študij (FM)\, magistrski
  študij (IŠRM)\, magistrski študij (M)\, 5. letnik (PM)\nIzvajalci: Mat
 jaž Konvalinka\nProstor: 1.01
LOCATION:1.01
ORGANIZER:Matjaž Konvalinka
RELATED-TO:fmf-AFLABS-URNIK:srecanje:17265
X-WR-TIMEZONE:Europe/Ljubljana
END:VEVENT
BEGIN:VEVENT
SUMMARY:Kombinatorika / Kombinatorika 2 (FM-M\, IŠRM-M\, MAT-M\, PM-5)\, 
 Predavanja (P)
DTSTART;TZID=Europe/Ljubljana:20260403T080000
DTEND;TZID=Europe/Ljubljana:20260403T100000
DTSTAMP:20260422T193838Z
UID:fmf-AFLABS-URNIK:premaknjeno-srecanje:248109
ATTENDEE:5. letnik (PM)
ATTENDEE:magistrski študij (FM)
ATTENDEE:magistrski študij (IŠRM)
ATTENDEE:magistrski študij (M)
CATEGORIES:Entry,Standard
COLOR:darkgreen
DESCRIPTION:Predmet: Kombinatorika / Kombinatorika 2 (FM-M\, IŠRM-M\, MAT
 -M\, PM-5)\, Predavanja (P)\nLetniki: magistrski študij (FM)\, magistrski
  študij (IŠRM)\, magistrski študij (M)\, 5. letnik (PM)\nIzvajalci: Mat
 jaž Konvalinka\nProstor: 1.01
LOCATION:1.01
ORGANIZER:Matjaž Konvalinka
RELATED-TO:fmf-AFLABS-URNIK:srecanje:17265
X-WR-TIMEZONE:Europe/Ljubljana
END:VEVENT
BEGIN:VEVENT
SUMMARY:Kombinatorika / Kombinatorika 2 (FM-M\, IŠRM-M\, MAT-M\, PM-5)\, 
 Predavanja (P)
DTSTART;TZID=Europe/Ljubljana:20260410T080000
DTEND;TZID=Europe/Ljubljana:20260410T100000
DTSTAMP:20260422T193838Z
UID:fmf-AFLABS-URNIK:premaknjeno-srecanje:248110
ATTENDEE:5. letnik (PM)
ATTENDEE:magistrski študij (FM)
ATTENDEE:magistrski študij (IŠRM)
ATTENDEE:magistrski študij (M)
CATEGORIES:Entry,Standard
COLOR:darkgreen
DESCRIPTION:Predmet: Kombinatorika / Kombinatorika 2 (FM-M\, IŠRM-M\, MAT
 -M\, PM-5)\, Predavanja (P)\nLetniki: magistrski študij (FM)\, magistrski
  študij (IŠRM)\, magistrski študij (M)\, 5. letnik (PM)\nIzvajalci: Mat
 jaž Konvalinka\nProstor: 1.01
LOCATION:1.01
ORGANIZER:Matjaž Konvalinka
RELATED-TO:fmf-AFLABS-URNIK:srecanje:17265
X-WR-TIMEZONE:Europe/Ljubljana
END:VEVENT
BEGIN:VEVENT
SUMMARY:Kombinatorika / Kombinatorika 2 (FM-M\, IŠRM-M\, MAT-M\, PM-5)\, 
 Predavanja (P)
DTSTART;TZID=Europe/Ljubljana:20260417T080000
DTEND;TZID=Europe/Ljubljana:20260417T100000
DTSTAMP:20260422T193838Z
UID:fmf-AFLABS-URNIK:premaknjeno-srecanje:248111
ATTENDEE:5. letnik (PM)
ATTENDEE:magistrski študij (FM)
ATTENDEE:magistrski študij (IŠRM)
ATTENDEE:magistrski študij (M)
CATEGORIES:Entry,Standard
COLOR:darkgreen
DESCRIPTION:Predmet: Kombinatorika / Kombinatorika 2 (FM-M\, IŠRM-M\, MAT
 -M\, PM-5)\, Predavanja (P)\nLetniki: magistrski študij (FM)\, magistrski
  študij (IŠRM)\, magistrski študij (M)\, 5. letnik (PM)\nIzvajalci: Mat
 jaž Konvalinka\nProstor: 1.01
LOCATION:1.01
ORGANIZER:Matjaž Konvalinka
RELATED-TO:fmf-AFLABS-URNIK:srecanje:17265
X-WR-TIMEZONE:Europe/Ljubljana
END:VEVENT
BEGIN:VEVENT
SUMMARY:Kombinatorika / Kombinatorika 2 (FM-M\, IŠRM-M\, MAT-M\, PM-5)\, 
 Predavanja (P)
DTSTART;TZID=Europe/Ljubljana:20260424T080000
DTEND;TZID=Europe/Ljubljana:20260424T100000
DTSTAMP:20260422T193838Z
UID:fmf-AFLABS-URNIK:premaknjeno-srecanje:248112
ATTENDEE:5. letnik (PM)
ATTENDEE:magistrski študij (FM)
ATTENDEE:magistrski študij (IŠRM)
ATTENDEE:magistrski študij (M)
CATEGORIES:Entry,Standard
COLOR:darkgreen
DESCRIPTION:Predmet: Kombinatorika / Kombinatorika 2 (FM-M\, IŠRM-M\, MAT
 -M\, PM-5)\, Predavanja (P)\nLetniki: magistrski študij (FM)\, magistrski
  študij (IŠRM)\, magistrski študij (M)\, 5. letnik (PM)\nIzvajalci: Mat
 jaž Konvalinka\nProstor: 1.01
LOCATION:1.01
ORGANIZER:Matjaž Konvalinka
RELATED-TO:fmf-AFLABS-URNIK:srecanje:17265
X-WR-TIMEZONE:Europe/Ljubljana
END:VEVENT
BEGIN:VEVENT
SUMMARY:Kombinatorika / Kombinatorika 2 (FM-M\, IŠRM-M\, MAT-M\, PM-5)\, 
 Predavanja (P)
DTSTART;TZID=Europe/Ljubljana:20260508T080000
DTEND;TZID=Europe/Ljubljana:20260508T100000
DTSTAMP:20260422T193838Z
UID:fmf-AFLABS-URNIK:premaknjeno-srecanje:248113
ATTENDEE:5. letnik (PM)
ATTENDEE:magistrski študij (FM)
ATTENDEE:magistrski študij (IŠRM)
ATTENDEE:magistrski študij (M)
CATEGORIES:Entry,Standard
COLOR:darkgreen
DESCRIPTION:Predmet: Kombinatorika / Kombinatorika 2 (FM-M\, IŠRM-M\, MAT
 -M\, PM-5)\, Predavanja (P)\nLetniki: magistrski študij (FM)\, magistrski
  študij (IŠRM)\, magistrski študij (M)\, 5. letnik (PM)\nIzvajalci: Mat
 jaž Konvalinka\nProstor: 1.01
LOCATION:1.01
ORGANIZER:Matjaž Konvalinka
RELATED-TO:fmf-AFLABS-URNIK:srecanje:17265
X-WR-TIMEZONE:Europe/Ljubljana
END:VEVENT
BEGIN:VEVENT
SUMMARY:Kombinatorika / Kombinatorika 2 (FM-M\, IŠRM-M\, MAT-M\, PM-5)\, 
 Predavanja (P)
DTSTART;TZID=Europe/Ljubljana:20260515T080000
DTEND;TZID=Europe/Ljubljana:20260515T100000
DTSTAMP:20260422T193838Z
UID:fmf-AFLABS-URNIK:premaknjeno-srecanje:248114
ATTENDEE:5. letnik (PM)
ATTENDEE:magistrski študij (FM)
ATTENDEE:magistrski študij (IŠRM)
ATTENDEE:magistrski študij (M)
CATEGORIES:Entry,Standard
COLOR:darkgreen
DESCRIPTION:Predmet: Kombinatorika / Kombinatorika 2 (FM-M\, IŠRM-M\, MAT
 -M\, PM-5)\, Predavanja (P)\nLetniki: magistrski študij (FM)\, magistrski
  študij (IŠRM)\, magistrski študij (M)\, 5. letnik (PM)\nIzvajalci: Mat
 jaž Konvalinka\nProstor: 1.01
LOCATION:1.01
ORGANIZER:Matjaž Konvalinka
RELATED-TO:fmf-AFLABS-URNIK:srecanje:17265
X-WR-TIMEZONE:Europe/Ljubljana
END:VEVENT
BEGIN:VEVENT
SUMMARY:Kombinatorika / Kombinatorika 2 (FM-M\, IŠRM-M\, MAT-M\, PM-5)\, 
 Predavanja (P)
DTSTART;TZID=Europe/Ljubljana:20260522T080000
DTEND;TZID=Europe/Ljubljana:20260522T100000
DTSTAMP:20260422T193838Z
UID:fmf-AFLABS-URNIK:premaknjeno-srecanje:248115
ATTENDEE:5. letnik (PM)
ATTENDEE:magistrski študij (FM)
ATTENDEE:magistrski študij (IŠRM)
ATTENDEE:magistrski študij (M)
CATEGORIES:Entry,Standard
COLOR:darkgreen
DESCRIPTION:Predmet: Kombinatorika / Kombinatorika 2 (FM-M\, IŠRM-M\, MAT
 -M\, PM-5)\, Predavanja (P)\nLetniki: magistrski študij (FM)\, magistrski
  študij (IŠRM)\, magistrski študij (M)\, 5. letnik (PM)\nIzvajalci: Mat
 jaž Konvalinka\nProstor: 1.01
LOCATION:1.01
ORGANIZER:Matjaž Konvalinka
RELATED-TO:fmf-AFLABS-URNIK:srecanje:17265
X-WR-TIMEZONE:Europe/Ljubljana
END:VEVENT
BEGIN:VEVENT
SUMMARY:Kombinatorika / Kombinatorika 2 (FM-M\, IŠRM-M\, MAT-M\, PM-5)\, 
 Predavanja (P)
DTSTART;TZID=Europe/Ljubljana:20260529T080000
DTEND;TZID=Europe/Ljubljana:20260529T100000
DTSTAMP:20260422T193838Z
UID:fmf-AFLABS-URNIK:premaknjeno-srecanje:248116
ATTENDEE:5. letnik (PM)
ATTENDEE:magistrski študij (FM)
ATTENDEE:magistrski študij (IŠRM)
ATTENDEE:magistrski študij (M)
CATEGORIES:Entry,Standard
COLOR:darkgreen
DESCRIPTION:Predmet: Kombinatorika / Kombinatorika 2 (FM-M\, IŠRM-M\, MAT
 -M\, PM-5)\, Predavanja (P)\nLetniki: magistrski študij (FM)\, magistrski
  študij (IŠRM)\, magistrski študij (M)\, 5. letnik (PM)\nIzvajalci: Mat
 jaž Konvalinka\nProstor: 1.01
LOCATION:1.01
ORGANIZER:Matjaž Konvalinka
RELATED-TO:fmf-AFLABS-URNIK:srecanje:17265
X-WR-TIMEZONE:Europe/Ljubljana
END:VEVENT
BEGIN:VEVENT
SUMMARY:Delitev dela DM + RM
DTSTART;TZID=Europe/Ljubljana:20260318T120000
DTEND;TZID=Europe/Ljubljana:20260318T140000
DTSTAMP:20260422T193838Z
UID:fmf-AFLABS-URNIK:rezervacija:27609
CATEGORIES:Reservation
COLOR:royalblue
DESCRIPTION:Predmeti: \nLetniki: \nIzvajalci: Matjaž Konvalinka\nProstori
 : P.02
LOCATION:P.02
ORGANIZER:Matjaž Konvalinka
X-WR-TIMEZONE:Europe/Ljubljana
END:VEVENT
BEGIN:VEVENT
SUMMARY:Kolokvij
DTSTART;TZID=Europe/Ljubljana:20260331T160000
DTEND;TZID=Europe/Ljubljana:20260331T180000
DTSTAMP:20260422T193838Z
UID:fmf-AFLABS-URNIK:rezervacija:27877
ATTENDEE:5. letnik (PM)
ATTENDEE:magistrski študij (FM)
ATTENDEE:magistrski študij (IŠRM)
ATTENDEE:magistrski študij (M)
CATEGORIES:Reservation
COLOR:royalblue
DESCRIPTION:Predmeti: Kombinatorika / Kombinatorika 2 (FM-M\, IŠRM-M\, MA
 T-M\, PM-5)\nLetniki: magistrski študij (FM)\, magistrski študij (IŠRM)
 \, magistrski študij (M)\, 5. letnik (PM)\nIzvajalci: Matjaž Konvalinka\
 nProstori: 2.05
LOCATION:2.05
ORGANIZER:Matjaž Konvalinka
X-WR-TIMEZONE:Europe/Ljubljana
END:VEVENT
BEGIN:VEVENT
SUMMARY:Kolokvij
DTSTART;TZID=Europe/Ljubljana:20260505T160000
DTEND;TZID=Europe/Ljubljana:20260505T190000
DTSTAMP:20260422T193838Z
UID:fmf-AFLABS-URNIK:rezervacija:28154
ATTENDEE:5. letnik (PM)
ATTENDEE:magistrski študij (FM)
ATTENDEE:magistrski študij (IŠRM)
ATTENDEE:magistrski študij (M)
CATEGORIES:Reservation
COLOR:royalblue
DESCRIPTION:Predmeti: Kombinatorika / Kombinatorika 2 (FM-M\, IŠRM-M\, MA
 T-M\, PM-5)\nLetniki: magistrski študij (FM)\, magistrski študij (IŠRM)
 \, magistrski študij (M)\, 5. letnik (PM)\nIzvajalci: Hans Höngesberg\, 
 Matjaž Konvalinka\nProstori: 2.05
LOCATION:2.05
ORGANIZER:Hans Höngesberg, Matjaž Konvalinka
X-WR-TIMEZONE:Europe/Ljubljana
END:VEVENT
END:VCALENDAR
