BEGIN:VCALENDAR
VERSION:2.0
PRODID:-//AFLabs urnik izvoz - fmf//aflabs.si//SI
DTSTAMP:20260426T012635Z
NAME:UL FMF urnik
REFRESH-INTERVAL:PT1H
SOURCE:https://urnik.fmf.uni-lj.si/teacher/100?day=2026-06-15&export=1
URL:https://urnik.fmf.uni-lj.si/teacher/100?day=2026-06-15&export=1
X-PUBLISHED-TTL:PT1H
X-WR-CALNAME:UL FMF urnik
X-WR-TIMEZONE:Europe/Ljubljana
BEGIN:VTIMEZONE
TZID:Europe/Ljubljana
BEGIN:DAYLIGHT
DTSTART:20260329T020000
RDATE:20260329T020000
RDATE:20270328T020000
TZNAME:CEST
TZOFFSETFROM:+0100
TZOFFSETTO:+0200
END:DAYLIGHT
BEGIN:STANDARD
DTSTART:20261025T030000
RDATE:20261025T030000
RDATE:20271031T030000
TZNAME:CET
TZOFFSETFROM:+0200
TZOFFSETTO:+0100
END:STANDARD
END:VTIMEZONE
BEGIN:VEVENT
SUMMARY:Elektronski praktikum (FIZ-2)\, Vaje (V)
DTSTART;TZID=Europe/Ljubljana:20260513T150000
DTEND;TZID=Europe/Ljubljana:20260513T180000
DTSTAMP:20260426T012635Z
UID:fmf-AFLABS-URNIK:premaknjeno-srecanje:244775
ATTENDEE:2. letnik (Fizika, 1. stopnja)
CATEGORIES:Entry,Standard
COLOR:darkgreen
DESCRIPTION:Predmet: Elektronski praktikum (FIZ-2)\, Vaje (V)\nLetniki: 2.
  letnik (Fizika\, 1. stopnja)\nIzvajalci: Dušan Ponikvar\nProstor: EP
LOCATION:EP
ORGANIZER:Dušan Ponikvar
RELATED-TO:fmf-AFLABS-URNIK:srecanje:17111
X-WR-TIMEZONE:Europe/Ljubljana
END:VEVENT
BEGIN:VEVENT
SUMMARY:Elektronski praktikum (FIZ-2)\, Vaje (V)
DTSTART;TZID=Europe/Ljubljana:20260520T150000
DTEND;TZID=Europe/Ljubljana:20260520T180000
DTSTAMP:20260426T012635Z
UID:fmf-AFLABS-URNIK:premaknjeno-srecanje:244776
ATTENDEE:2. letnik (Fizika, 1. stopnja)
CATEGORIES:Entry,Standard
COLOR:darkgreen
DESCRIPTION:Predmet: Elektronski praktikum (FIZ-2)\, Vaje (V)\nLetniki: 2.
  letnik (Fizika\, 1. stopnja)\nIzvajalci: Dušan Ponikvar\nProstor: EP
LOCATION:EP
ORGANIZER:Dušan Ponikvar
RELATED-TO:fmf-AFLABS-URNIK:srecanje:17111
X-WR-TIMEZONE:Europe/Ljubljana
END:VEVENT
BEGIN:VEVENT
SUMMARY:Elektronski praktikum (FIZ-2)\, Vaje (V)
DTSTART;TZID=Europe/Ljubljana:20260527T150000
DTEND;TZID=Europe/Ljubljana:20260527T180000
DTSTAMP:20260426T012635Z
UID:fmf-AFLABS-URNIK:premaknjeno-srecanje:244777
ATTENDEE:2. letnik (Fizika, 1. stopnja)
CATEGORIES:Entry,Standard
COLOR:darkgreen
DESCRIPTION:Predmet: Elektronski praktikum (FIZ-2)\, Vaje (V)\nLetniki: 2.
  letnik (Fizika\, 1. stopnja)\nIzvajalci: Dušan Ponikvar\nProstor: EP
LOCATION:EP
ORGANIZER:Dušan Ponikvar
RELATED-TO:fmf-AFLABS-URNIK:srecanje:17111
X-WR-TIMEZONE:Europe/Ljubljana
END:VEVENT
BEGIN:VEVENT
SUMMARY:Elektronski praktikum (FIZ-2)\, Vaje (V)
DTSTART;TZID=Europe/Ljubljana:20260603T150000
DTEND;TZID=Europe/Ljubljana:20260603T180000
DTSTAMP:20260426T012635Z
UID:fmf-AFLABS-URNIK:premaknjeno-srecanje:244778
ATTENDEE:2. letnik (Fizika, 1. stopnja)
CATEGORIES:Entry,Standard
COLOR:darkgreen
DESCRIPTION:Predmet: Elektronski praktikum (FIZ-2)\, Vaje (V)\nLetniki: 2.
  letnik (Fizika\, 1. stopnja)\nIzvajalci: Dušan Ponikvar\nProstor: EP
LOCATION:EP
ORGANIZER:Dušan Ponikvar
RELATED-TO:fmf-AFLABS-URNIK:srecanje:17111
X-WR-TIMEZONE:Europe/Ljubljana
END:VEVENT
BEGIN:VEVENT
SUMMARY:Elektronika II (FIZ-2)\, Predavanja (P)
DTSTART;TZID=Europe/Ljubljana:20260514T080000
DTEND;TZID=Europe/Ljubljana:20260514T100000
DTSTAMP:20260426T012635Z
UID:fmf-AFLABS-URNIK:premaknjeno-srecanje:240341
ATTENDEE:2. letnik (Fizika, 1. stopnja)
CATEGORIES:Entry,Standard
COLOR:darkgreen
DESCRIPTION:Predmet: Elektronika II (FIZ-2)\, Predavanja (P)\nLetniki: 2. 
 letnik (Fizika\, 1. stopnja)\nIzvajalci: Dušan Ponikvar\nProstor: F1
LOCATION:F1
ORGANIZER:Dušan Ponikvar
RELATED-TO:fmf-AFLABS-URNIK:srecanje:17071
X-WR-TIMEZONE:Europe/Ljubljana
END:VEVENT
BEGIN:VEVENT
SUMMARY:Elektronika II (FIZ-2)\, Predavanja (P)
DTSTART;TZID=Europe/Ljubljana:20260521T080000
DTEND;TZID=Europe/Ljubljana:20260521T100000
DTSTAMP:20260426T012635Z
UID:fmf-AFLABS-URNIK:premaknjeno-srecanje:240342
ATTENDEE:2. letnik (Fizika, 1. stopnja)
CATEGORIES:Entry,Standard
COLOR:darkgreen
DESCRIPTION:Predmet: Elektronika II (FIZ-2)\, Predavanja (P)\nLetniki: 2. 
 letnik (Fizika\, 1. stopnja)\nIzvajalci: Dušan Ponikvar\nProstor: F1
LOCATION:F1
ORGANIZER:Dušan Ponikvar
RELATED-TO:fmf-AFLABS-URNIK:srecanje:17071
X-WR-TIMEZONE:Europe/Ljubljana
END:VEVENT
BEGIN:VEVENT
SUMMARY:Elektronika II (FIZ-2)\, Predavanja (P)
DTSTART;TZID=Europe/Ljubljana:20260528T080000
DTEND;TZID=Europe/Ljubljana:20260528T100000
DTSTAMP:20260426T012635Z
UID:fmf-AFLABS-URNIK:premaknjeno-srecanje:240343
ATTENDEE:2. letnik (Fizika, 1. stopnja)
CATEGORIES:Entry,Standard
COLOR:darkgreen
DESCRIPTION:Predmet: Elektronika II (FIZ-2)\, Predavanja (P)\nLetniki: 2. 
 letnik (Fizika\, 1. stopnja)\nIzvajalci: Dušan Ponikvar\nProstor: F1
LOCATION:F1
ORGANIZER:Dušan Ponikvar
RELATED-TO:fmf-AFLABS-URNIK:srecanje:17071
X-WR-TIMEZONE:Europe/Ljubljana
END:VEVENT
BEGIN:VEVENT
SUMMARY:Elektronika v fiziki (APF-2)\, Predavanja (P)
DTSTART;TZID=Europe/Ljubljana:20260515T080000
DTEND;TZID=Europe/Ljubljana:20260515T110000
DTSTAMP:20260426T012635Z
UID:fmf-AFLABS-URNIK:premaknjeno-srecanje:250721
ATTENDEE:2. letnik (Aplikativna fizika)
CATEGORIES:Entry,Standard
COLOR:darkgreen
DESCRIPTION:Predmet: Elektronika v fiziki (APF-2)\, Predavanja (P)\nLetnik
 i: 2. letnik (Aplikativna fizika)\nIzvajalci: Dušan Ponikvar\nProstor: F7
LOCATION:F7
ORGANIZER:Dušan Ponikvar
RELATED-TO:fmf-AFLABS-URNIK:srecanje:17032
X-WR-TIMEZONE:Europe/Ljubljana
END:VEVENT
BEGIN:VEVENT
SUMMARY:Elektronika v fiziki (APF-2)\, Predavanja (P)
DTSTART;TZID=Europe/Ljubljana:20260522T080000
DTEND;TZID=Europe/Ljubljana:20260522T110000
DTSTAMP:20260426T012635Z
UID:fmf-AFLABS-URNIK:premaknjeno-srecanje:250722
ATTENDEE:2. letnik (Aplikativna fizika)
CATEGORIES:Entry,Standard
COLOR:darkgreen
DESCRIPTION:Predmet: Elektronika v fiziki (APF-2)\, Predavanja (P)\nLetnik
 i: 2. letnik (Aplikativna fizika)\nIzvajalci: Dušan Ponikvar\nProstor: F7
LOCATION:F7
ORGANIZER:Dušan Ponikvar
RELATED-TO:fmf-AFLABS-URNIK:srecanje:17032
X-WR-TIMEZONE:Europe/Ljubljana
END:VEVENT
BEGIN:VEVENT
SUMMARY:Elektronika v fiziki (APF-2)\, Predavanja (P)
DTSTART;TZID=Europe/Ljubljana:20260529T080000
DTEND;TZID=Europe/Ljubljana:20260529T110000
DTSTAMP:20260426T012635Z
UID:fmf-AFLABS-URNIK:premaknjeno-srecanje:250723
ATTENDEE:2. letnik (Aplikativna fizika)
CATEGORIES:Entry,Standard
COLOR:darkgreen
DESCRIPTION:Predmet: Elektronika v fiziki (APF-2)\, Predavanja (P)\nLetnik
 i: 2. letnik (Aplikativna fizika)\nIzvajalci: Dušan Ponikvar\nProstor: F7
LOCATION:F7
ORGANIZER:Dušan Ponikvar
RELATED-TO:fmf-AFLABS-URNIK:srecanje:17032
X-WR-TIMEZONE:Europe/Ljubljana
END:VEVENT
END:VCALENDAR
