BEGIN:VCALENDAR
VERSION:2.0
PRODID:-//AFLabs urnik izvoz - fmf//aflabs.si//SI
DTSTAMP:20260423T183243Z
NAME:UL FMF urnik
REFRESH-INTERVAL:PT1H
SOURCE:https://urnik.fmf.uni-lj.si/teacher/103?day=2022-09-05&export=1
URL:https://urnik.fmf.uni-lj.si/teacher/103?day=2022-09-05&export=1
X-PUBLISHED-TTL:PT1H
X-WR-CALNAME:UL FMF urnik
X-WR-TIMEZONE:Europe/Ljubljana
BEGIN:VTIMEZONE
TZID:Europe/Ljubljana
BEGIN:DAYLIGHT
DTSTART:20260329T020000
RDATE:20260329T020000
RDATE:20270328T020000
TZNAME:CEST
TZOFFSETFROM:+0100
TZOFFSETTO:+0200
END:DAYLIGHT
BEGIN:STANDARD
DTSTART:20261025T030000
RDATE:20261025T030000
RDATE:20271031T030000
TZNAME:CET
TZOFFSETFROM:+0200
TZOFFSETTO:+0100
END:STANDARD
END:VTIMEZONE
BEGIN:VEVENT
SUMMARY:Meteorološki seminar (FIZ-M1\, FIZ-M2)\, Seminar (S)
DTSTART;TZID=Europe/Ljubljana:20221005T160000
DTEND;TZID=Europe/Ljubljana:20221005T170000
DTSTAMP:20260423T183243Z
UID:fmf-AFLABS-URNIK:premaknjeno-srecanje:72169
ATTENDEE:1. letnik (Fizika, 2. stopnja)
ATTENDEE:2. letnik (Fizika, 2. stopnja)
CATEGORIES:Entry,Standard
COLOR:darkgreen
DESCRIPTION:Predmet: Meteorološki seminar (FIZ-M1\, FIZ-M2)\, Seminar (S)
 \nLetniki: 1. letnik (Fizika\, 2. stopnja)\, 2. letnik (Fizika\, 2. stopnj
 a)\nIzvajalci: Gregor Skok\nProstor: F6
LOCATION:F6
ORGANIZER:Gregor Skok
RELATED-TO:fmf-AFLABS-URNIK:srecanje:8112
X-WR-TIMEZONE:Europe/Ljubljana
END:VEVENT
BEGIN:VEVENT
SUMMARY:Uvod v fiziko atmosfere (FIZ-2\, FIZ-3\, PEF-1\, PEF-2)\, Predavan
 ja (P)
DTSTART;TZID=Europe/Ljubljana:20221005T120000
DTEND;TZID=Europe/Ljubljana:20221005T140000
DTSTAMP:20260423T183243Z
UID:fmf-AFLABS-URNIK:premaknjeno-srecanje:116038
ATTENDEE:1. letnik (Pedagoška fizika, 2. stopnja)
ATTENDEE:2. letnik (Fizika, 1. stopnja)
ATTENDEE:2. letnik (Pedagoška fizika, 2. stopnja)
ATTENDEE:3. letnik (Fizika, 1. stopnja)
CATEGORIES:Entry,Standard
COLOR:darkgreen
DESCRIPTION:Predmet: Uvod v fiziko atmosfere (FIZ-2\, FIZ-3\, PEF-1\, PEF-
 2)\, Predavanja (P)\nLetniki: 2. letnik (Fizika\, 1. stopnja)\, 3. letnik 
 (Fizika\, 1. stopnja)\, 1. letnik (Pedagoška fizika\, 2. stopnja)\, 2. le
 tnik (Pedagoška fizika\, 2. stopnja)\nIzvajalci: Gregor Skok\nProstor: F4
LOCATION:F4
ORGANIZER:Gregor Skok
RELATED-TO:fmf-AFLABS-URNIK:srecanje:8071
X-WR-TIMEZONE:Europe/Ljubljana
END:VEVENT
BEGIN:VEVENT
SUMMARY:Meteorologija za geografe (FF) ()\, Predavanja (P)
DTSTART;TZID=Europe/Ljubljana:20221006T150000
DTEND;TZID=Europe/Ljubljana:20221006T180000
DTSTAMP:20260423T183243Z
UID:fmf-AFLABS-URNIK:premaknjeno-srecanje:71952
CATEGORIES:Entry,Standard
COLOR:darkgreen
DESCRIPTION:Predmet: Meteorologija za geografe (FF) ()\, Predavanja (P)\nL
 etniki: \nIzvajalci: Gregor Skok\nProstor: FF
LOCATION:FF
ORGANIZER:Gregor Skok
RELATED-TO:fmf-AFLABS-URNIK:srecanje:7829
X-WR-TIMEZONE:Europe/Ljubljana
END:VEVENT
BEGIN:VEVENT
SUMMARY:Osnove meteorologije (FGG) ()\, Ostalo (O)
DTSTART;TZID=Europe/Ljubljana:20221006T080000
DTEND;TZID=Europe/Ljubljana:20221006T120000
DTSTAMP:20260423T183243Z
UID:fmf-AFLABS-URNIK:premaknjeno-srecanje:81337
CATEGORIES:Entry,Standard
COLOR:darkgreen
DESCRIPTION:Predmet: Osnove meteorologije (FGG) ()\, Ostalo (O)\nLetniki: 
 \nIzvajalci: Katarina Kosovelj\, Gregor Skok\nProstor: FGG
LOCATION:FGG
ORGANIZER:Katarina Kosovelj, Gregor Skok
RELATED-TO:fmf-AFLABS-URNIK:srecanje:7874
X-WR-TIMEZONE:Europe/Ljubljana
END:VEVENT
BEGIN:VEVENT
SUMMARY:Ozračje in njegova onesnaženost (ZF) ()\, Predavanja (P)
DTSTART;TZID=Europe/Ljubljana:20221007T080000
DTEND;TZID=Europe/Ljubljana:20221007T110000
DTSTAMP:20260423T183243Z
UID:fmf-AFLABS-URNIK:premaknjeno-srecanje:81650
CATEGORIES:Entry,Standard
COLOR:darkgreen
DESCRIPTION:Predmet: Ozračje in njegova onesnaženost (ZF) ()\, Predavanj
 a (P)\nLetniki: \nIzvajalci: Gregor Skok\nProstor: ZF
LOCATION:ZF
ORGANIZER:Gregor Skok
RELATED-TO:fmf-AFLABS-URNIK:srecanje:7875
X-WR-TIMEZONE:Europe/Ljubljana
END:VEVENT
BEGIN:VEVENT
SUMMARY:Rezervacija
DTSTART;TZID=Europe/Ljubljana:20220830T100000
DTEND;TZID=Europe/Ljubljana:20220830T110000
DTSTAMP:20260423T183243Z
UID:fmf-AFLABS-URNIK:rezervacija:10023
CATEGORIES:Reservation
COLOR:royalblue
DESCRIPTION:Predmeti: \nLetniki: \nIzvajalci: Gregor Skok\nProstori: F3
LOCATION:F3
ORGANIZER:Gregor Skok
X-WR-TIMEZONE:Europe/Ljubljana
END:VEVENT
END:VCALENDAR
