BEGIN:VCALENDAR
VERSION:2.0
PRODID:-//AFLabs urnik izvoz - fmf//aflabs.si//SI
DTSTAMP:20260423T074139Z
NAME:UL FMF urnik
REFRESH-INTERVAL:PT1H
SOURCE:https://urnik.fmf.uni-lj.si/teacher/103?day=2023-02-06&export=1
URL:https://urnik.fmf.uni-lj.si/teacher/103?day=2023-02-06&export=1
X-PUBLISHED-TTL:PT1H
X-WR-CALNAME:UL FMF urnik
X-WR-TIMEZONE:Europe/Ljubljana
BEGIN:VTIMEZONE
TZID:Europe/Ljubljana
BEGIN:DAYLIGHT
DTSTART:20260329T020000
RDATE:20260329T020000
RDATE:20270328T020000
TZNAME:CEST
TZOFFSETFROM:+0100
TZOFFSETTO:+0200
END:DAYLIGHT
BEGIN:STANDARD
DTSTART:20261025T030000
RDATE:20261025T030000
RDATE:20271031T030000
TZNAME:CET
TZOFFSETFROM:+0200
TZOFFSETTO:+0100
END:STANDARD
END:VTIMEZONE
BEGIN:VEVENT
SUMMARY:Meteorološki seminar (FIZ-M1\, FIZ-M2)\, Seminar (S)
DTSTART;TZID=Europe/Ljubljana:20230104T160000
DTEND;TZID=Europe/Ljubljana:20230104T170000
DTSTAMP:20260423T074139Z
UID:fmf-AFLABS-URNIK:premaknjeno-srecanje:72182
ATTENDEE:1. letnik (Fizika, 2. stopnja)
ATTENDEE:2. letnik (Fizika, 2. stopnja)
CATEGORIES:Entry,Standard
COLOR:darkgreen
DESCRIPTION:Predmet: Meteorološki seminar (FIZ-M1\, FIZ-M2)\, Seminar (S)
 \nLetniki: 1. letnik (Fizika\, 2. stopnja)\, 2. letnik (Fizika\, 2. stopnj
 a)\nIzvajalci: Gregor Skok\nProstor: F6
LOCATION:F6
ORGANIZER:Gregor Skok
RELATED-TO:fmf-AFLABS-URNIK:srecanje:8112
X-WR-TIMEZONE:Europe/Ljubljana
END:VEVENT
BEGIN:VEVENT
SUMMARY:Meteorološki seminar (FIZ-M1\, FIZ-M2)\, Seminar (S)
DTSTART;TZID=Europe/Ljubljana:20230111T160000
DTEND;TZID=Europe/Ljubljana:20230111T170000
DTSTAMP:20260423T074139Z
UID:fmf-AFLABS-URNIK:premaknjeno-srecanje:72183
ATTENDEE:1. letnik (Fizika, 2. stopnja)
ATTENDEE:2. letnik (Fizika, 2. stopnja)
CATEGORIES:Entry,Standard
COLOR:darkgreen
DESCRIPTION:Predmet: Meteorološki seminar (FIZ-M1\, FIZ-M2)\, Seminar (S)
 \nLetniki: 1. letnik (Fizika\, 2. stopnja)\, 2. letnik (Fizika\, 2. stopnj
 a)\nIzvajalci: Gregor Skok\nProstor: F6
LOCATION:F6
ORGANIZER:Gregor Skok
RELATED-TO:fmf-AFLABS-URNIK:srecanje:8112
X-WR-TIMEZONE:Europe/Ljubljana
END:VEVENT
BEGIN:VEVENT
SUMMARY:Uvod v fiziko atmosfere (FIZ-2\, FIZ-3\, PEF-1\, PEF-2)\, Predavan
 ja (P)
DTSTART;TZID=Europe/Ljubljana:20230104T120000
DTEND;TZID=Europe/Ljubljana:20230104T140000
DTSTAMP:20260423T074139Z
UID:fmf-AFLABS-URNIK:premaknjeno-srecanje:116051
ATTENDEE:1. letnik (Pedagoška fizika, 2. stopnja)
ATTENDEE:2. letnik (Fizika, 1. stopnja)
ATTENDEE:2. letnik (Pedagoška fizika, 2. stopnja)
ATTENDEE:3. letnik (Fizika, 1. stopnja)
CATEGORIES:Entry,Standard
COLOR:darkgreen
DESCRIPTION:Predmet: Uvod v fiziko atmosfere (FIZ-2\, FIZ-3\, PEF-1\, PEF-
 2)\, Predavanja (P)\nLetniki: 2. letnik (Fizika\, 1. stopnja)\, 3. letnik 
 (Fizika\, 1. stopnja)\, 1. letnik (Pedagoška fizika\, 2. stopnja)\, 2. le
 tnik (Pedagoška fizika\, 2. stopnja)\nIzvajalci: Gregor Skok\nProstor: F4
LOCATION:F4
ORGANIZER:Gregor Skok
RELATED-TO:fmf-AFLABS-URNIK:srecanje:8071
X-WR-TIMEZONE:Europe/Ljubljana
END:VEVENT
BEGIN:VEVENT
SUMMARY:Uvod v fiziko atmosfere (FIZ-2\, FIZ-3\, PEF-1\, PEF-2)\, Predavan
 ja (P)
DTSTART;TZID=Europe/Ljubljana:20230111T120000
DTEND;TZID=Europe/Ljubljana:20230111T140000
DTSTAMP:20260423T074139Z
UID:fmf-AFLABS-URNIK:premaknjeno-srecanje:116052
ATTENDEE:1. letnik (Pedagoška fizika, 2. stopnja)
ATTENDEE:2. letnik (Fizika, 1. stopnja)
ATTENDEE:2. letnik (Pedagoška fizika, 2. stopnja)
ATTENDEE:3. letnik (Fizika, 1. stopnja)
CATEGORIES:Entry,Standard
COLOR:darkgreen
DESCRIPTION:Predmet: Uvod v fiziko atmosfere (FIZ-2\, FIZ-3\, PEF-1\, PEF-
 2)\, Predavanja (P)\nLetniki: 2. letnik (Fizika\, 1. stopnja)\, 3. letnik 
 (Fizika\, 1. stopnja)\, 1. letnik (Pedagoška fizika\, 2. stopnja)\, 2. le
 tnik (Pedagoška fizika\, 2. stopnja)\nIzvajalci: Gregor Skok\nProstor: F4
LOCATION:F4
ORGANIZER:Gregor Skok
RELATED-TO:fmf-AFLABS-URNIK:srecanje:8071
X-WR-TIMEZONE:Europe/Ljubljana
END:VEVENT
BEGIN:VEVENT
SUMMARY:Meteorologija za geografe (FF) ()\, Predavanja (P)
DTSTART;TZID=Europe/Ljubljana:20230105T150000
DTEND;TZID=Europe/Ljubljana:20230105T180000
DTSTAMP:20260423T074139Z
UID:fmf-AFLABS-URNIK:premaknjeno-srecanje:71965
CATEGORIES:Entry,Standard
COLOR:darkgreen
DESCRIPTION:Predmet: Meteorologija za geografe (FF) ()\, Predavanja (P)\nL
 etniki: \nIzvajalci: Gregor Skok\nProstor: FF
LOCATION:FF
ORGANIZER:Gregor Skok
RELATED-TO:fmf-AFLABS-URNIK:srecanje:7829
X-WR-TIMEZONE:Europe/Ljubljana
END:VEVENT
BEGIN:VEVENT
SUMMARY:Meteorologija za geografe (FF) ()\, Predavanja (P)
DTSTART;TZID=Europe/Ljubljana:20230112T150000
DTEND;TZID=Europe/Ljubljana:20230112T180000
DTSTAMP:20260423T074139Z
UID:fmf-AFLABS-URNIK:premaknjeno-srecanje:71966
CATEGORIES:Entry,Standard
COLOR:darkgreen
DESCRIPTION:Predmet: Meteorologija za geografe (FF) ()\, Predavanja (P)\nL
 etniki: \nIzvajalci: Gregor Skok\nProstor: FF
LOCATION:FF
ORGANIZER:Gregor Skok
RELATED-TO:fmf-AFLABS-URNIK:srecanje:7829
X-WR-TIMEZONE:Europe/Ljubljana
END:VEVENT
BEGIN:VEVENT
SUMMARY:Osnove meteorologije (FGG) ()\, Ostalo (O)
DTSTART;TZID=Europe/Ljubljana:20230105T080000
DTEND;TZID=Europe/Ljubljana:20230105T120000
DTSTAMP:20260423T074139Z
UID:fmf-AFLABS-URNIK:premaknjeno-srecanje:81350
CATEGORIES:Entry,Standard
COLOR:darkgreen
DESCRIPTION:Predmet: Osnove meteorologije (FGG) ()\, Ostalo (O)\nLetniki: 
 \nIzvajalci: Katarina Kosovelj\, Gregor Skok\nProstor: FGG
LOCATION:FGG
ORGANIZER:Katarina Kosovelj, Gregor Skok
RELATED-TO:fmf-AFLABS-URNIK:srecanje:7874
X-WR-TIMEZONE:Europe/Ljubljana
END:VEVENT
BEGIN:VEVENT
SUMMARY:Osnove meteorologije (FGG) ()\, Ostalo (O)
DTSTART;TZID=Europe/Ljubljana:20230112T080000
DTEND;TZID=Europe/Ljubljana:20230112T120000
DTSTAMP:20260423T074139Z
UID:fmf-AFLABS-URNIK:premaknjeno-srecanje:81351
CATEGORIES:Entry,Standard
COLOR:darkgreen
DESCRIPTION:Predmet: Osnove meteorologije (FGG) ()\, Ostalo (O)\nLetniki: 
 \nIzvajalci: Katarina Kosovelj\, Gregor Skok\nProstor: FGG
LOCATION:FGG
ORGANIZER:Katarina Kosovelj, Gregor Skok
RELATED-TO:fmf-AFLABS-URNIK:srecanje:7874
X-WR-TIMEZONE:Europe/Ljubljana
END:VEVENT
BEGIN:VEVENT
SUMMARY:Ozračje in njegova onesnaženost (ZF) ()\, Predavanja (P)
DTSTART;TZID=Europe/Ljubljana:20230106T080000
DTEND;TZID=Europe/Ljubljana:20230106T110000
DTSTAMP:20260423T074139Z
UID:fmf-AFLABS-URNIK:premaknjeno-srecanje:81663
CATEGORIES:Entry,Standard
COLOR:darkgreen
DESCRIPTION:Predmet: Ozračje in njegova onesnaženost (ZF) ()\, Predavanj
 a (P)\nLetniki: \nIzvajalci: Gregor Skok\nProstor: ZF
LOCATION:ZF
ORGANIZER:Gregor Skok
RELATED-TO:fmf-AFLABS-URNIK:srecanje:7875
X-WR-TIMEZONE:Europe/Ljubljana
END:VEVENT
BEGIN:VEVENT
SUMMARY:Ozračje in njegova onesnaženost (ZF) ()\, Predavanja (P)
DTSTART;TZID=Europe/Ljubljana:20230113T080000
DTEND;TZID=Europe/Ljubljana:20230113T110000
DTSTAMP:20260423T074139Z
UID:fmf-AFLABS-URNIK:premaknjeno-srecanje:81664
CATEGORIES:Entry,Standard
COLOR:darkgreen
DESCRIPTION:Predmet: Ozračje in njegova onesnaženost (ZF) ()\, Predavanj
 a (P)\nLetniki: \nIzvajalci: Gregor Skok\nProstor: ZF
LOCATION:ZF
ORGANIZER:Gregor Skok
RELATED-TO:fmf-AFLABS-URNIK:srecanje:7875
X-WR-TIMEZONE:Europe/Ljubljana
END:VEVENT
BEGIN:VEVENT
SUMMARY:Letalska meteorologija (FS) ()\, Predavanja (P)
DTSTART;TZID=Europe/Ljubljana:20230216T110000
DTEND;TZID=Europe/Ljubljana:20230216T150000
DTSTAMP:20260423T074139Z
UID:fmf-AFLABS-URNIK:premaknjeno-srecanje:56402
CATEGORIES:Entry,Standard
COLOR:darkgreen
DESCRIPTION:Predmet: Letalska meteorologija (FS) ()\, Predavanja (P)\nLetn
 iki: \nIzvajalci: Gregor Skok\nProstor: FS
LOCATION:FS
ORGANIZER:Gregor Skok
RELATED-TO:fmf-AFLABS-URNIK:srecanje:8489
X-WR-TIMEZONE:Europe/Ljubljana
END:VEVENT
BEGIN:VEVENT
SUMMARY:Letalska meteorologija (FS) ()\, Predavanja (P)
DTSTART;TZID=Europe/Ljubljana:20230223T110000
DTEND;TZID=Europe/Ljubljana:20230223T150000
DTSTAMP:20260423T074139Z
UID:fmf-AFLABS-URNIK:premaknjeno-srecanje:56403
CATEGORIES:Entry,Standard
COLOR:darkgreen
DESCRIPTION:Predmet: Letalska meteorologija (FS) ()\, Predavanja (P)\nLetn
 iki: \nIzvajalci: Gregor Skok\nProstor: FS
LOCATION:FS
ORGANIZER:Gregor Skok
RELATED-TO:fmf-AFLABS-URNIK:srecanje:8489
X-WR-TIMEZONE:Europe/Ljubljana
END:VEVENT
BEGIN:VEVENT
SUMMARY:Letalska meteorologija (FS) ()\, Predavanja (P)
DTSTART;TZID=Europe/Ljubljana:20230302T110000
DTEND;TZID=Europe/Ljubljana:20230302T150000
DTSTAMP:20260423T074139Z
UID:fmf-AFLABS-URNIK:premaknjeno-srecanje:56404
CATEGORIES:Entry,Standard
COLOR:darkgreen
DESCRIPTION:Predmet: Letalska meteorologija (FS) ()\, Predavanja (P)\nLetn
 iki: \nIzvajalci: Gregor Skok\nProstor: FS
LOCATION:FS
ORGANIZER:Gregor Skok
RELATED-TO:fmf-AFLABS-URNIK:srecanje:8489
X-WR-TIMEZONE:Europe/Ljubljana
END:VEVENT
BEGIN:VEVENT
SUMMARY:Letalska meteorologija (FS) ()\, Predavanja (P)
DTSTART;TZID=Europe/Ljubljana:20230309T110000
DTEND;TZID=Europe/Ljubljana:20230309T150000
DTSTAMP:20260423T074139Z
UID:fmf-AFLABS-URNIK:premaknjeno-srecanje:56405
CATEGORIES:Entry,Standard
COLOR:darkgreen
DESCRIPTION:Predmet: Letalska meteorologija (FS) ()\, Predavanja (P)\nLetn
 iki: \nIzvajalci: Gregor Skok\nProstor: FS
LOCATION:FS
ORGANIZER:Gregor Skok
RELATED-TO:fmf-AFLABS-URNIK:srecanje:8489
X-WR-TIMEZONE:Europe/Ljubljana
END:VEVENT
BEGIN:VEVENT
SUMMARY:Meteorološka opazovanja in inštrumenti (FIZ-2)\, Predavanja (P)
DTSTART;TZID=Europe/Ljubljana:20230217T110000
DTEND;TZID=Europe/Ljubljana:20230217T120000
DTSTAMP:20260423T074139Z
UID:fmf-AFLABS-URNIK:premaknjeno-srecanje:72029
ATTENDEE:2. letnik (Fizika, 1. stopnja)
CATEGORIES:Entry,Standard
COLOR:darkgreen
DESCRIPTION:Predmet: Meteorološka opazovanja in inštrumenti (FIZ-2)\, Pr
 edavanja (P)\nLetniki: 2. letnik (Fizika\, 1. stopnja)\nIzvajalci: Gregor 
 Skok\nProstor: F5
LOCATION:F5
ORGANIZER:Gregor Skok
RELATED-TO:fmf-AFLABS-URNIK:srecanje:8260
X-WR-TIMEZONE:Europe/Ljubljana
END:VEVENT
BEGIN:VEVENT
SUMMARY:Meteorološka opazovanja in inštrumenti (FIZ-2)\, Predavanja (P)
DTSTART;TZID=Europe/Ljubljana:20230224T110000
DTEND;TZID=Europe/Ljubljana:20230224T120000
DTSTAMP:20260423T074139Z
UID:fmf-AFLABS-URNIK:premaknjeno-srecanje:72030
ATTENDEE:2. letnik (Fizika, 1. stopnja)
CATEGORIES:Entry,Standard
COLOR:darkgreen
DESCRIPTION:Predmet: Meteorološka opazovanja in inštrumenti (FIZ-2)\, Pr
 edavanja (P)\nLetniki: 2. letnik (Fizika\, 1. stopnja)\nIzvajalci: Gregor 
 Skok\nProstor: F5
LOCATION:F5
ORGANIZER:Gregor Skok
RELATED-TO:fmf-AFLABS-URNIK:srecanje:8260
X-WR-TIMEZONE:Europe/Ljubljana
END:VEVENT
BEGIN:VEVENT
SUMMARY:Meteorološka opazovanja in inštrumenti (FIZ-2)\, Predavanja (P)
DTSTART;TZID=Europe/Ljubljana:20230303T110000
DTEND;TZID=Europe/Ljubljana:20230303T120000
DTSTAMP:20260423T074139Z
UID:fmf-AFLABS-URNIK:premaknjeno-srecanje:72031
ATTENDEE:2. letnik (Fizika, 1. stopnja)
CATEGORIES:Entry,Standard
COLOR:darkgreen
DESCRIPTION:Predmet: Meteorološka opazovanja in inštrumenti (FIZ-2)\, Pr
 edavanja (P)\nLetniki: 2. letnik (Fizika\, 1. stopnja)\nIzvajalci: Gregor 
 Skok\nProstor: F5
LOCATION:F5
ORGANIZER:Gregor Skok
RELATED-TO:fmf-AFLABS-URNIK:srecanje:8260
X-WR-TIMEZONE:Europe/Ljubljana
END:VEVENT
BEGIN:VEVENT
SUMMARY:Meteorološka opazovanja in inštrumenti (FIZ-2)\, Predavanja (P)
DTSTART;TZID=Europe/Ljubljana:20230310T110000
DTEND;TZID=Europe/Ljubljana:20230310T120000
DTSTAMP:20260423T074139Z
UID:fmf-AFLABS-URNIK:premaknjeno-srecanje:72032
ATTENDEE:2. letnik (Fizika, 1. stopnja)
CATEGORIES:Entry,Standard
COLOR:darkgreen
DESCRIPTION:Predmet: Meteorološka opazovanja in inštrumenti (FIZ-2)\, Pr
 edavanja (P)\nLetniki: 2. letnik (Fizika\, 1. stopnja)\nIzvajalci: Gregor 
 Skok\nProstor: F5
LOCATION:F5
ORGANIZER:Gregor Skok
RELATED-TO:fmf-AFLABS-URNIK:srecanje:8260
X-WR-TIMEZONE:Europe/Ljubljana
END:VEVENT
BEGIN:VEVENT
SUMMARY:Rezervacija
DTSTART;TZID=Europe/Ljubljana:20230124T090000
DTEND;TZID=Europe/Ljubljana:20230124T150000
DTSTAMP:20260423T074139Z
UID:fmf-AFLABS-URNIK:rezervacija:11004
CATEGORIES:Reservation
COLOR:royalblue
DESCRIPTION:Predmeti: \nLetniki: \nIzvajalci: Gregor Skok\nProstori: F5
LOCATION:F5
ORGANIZER:Gregor Skok
X-WR-TIMEZONE:Europe/Ljubljana
END:VEVENT
BEGIN:VEVENT
SUMMARY:Rezervacija
DTSTART;TZID=Europe/Ljubljana:20230125T090000
DTEND;TZID=Europe/Ljubljana:20230125T180000
DTSTAMP:20260423T074139Z
UID:fmf-AFLABS-URNIK:rezervacija:11016
CATEGORIES:Reservation
COLOR:royalblue
DESCRIPTION:Predmeti: \nLetniki: \nIzvajalci: Gregor Skok\nProstori: F5
LOCATION:F5
ORGANIZER:Gregor Skok
X-WR-TIMEZONE:Europe/Ljubljana
END:VEVENT
BEGIN:VEVENT
SUMMARY:Rezervacija
DTSTART;TZID=Europe/Ljubljana:20230202T090000
DTEND;TZID=Europe/Ljubljana:20230202T160000
DTSTAMP:20260423T074139Z
UID:fmf-AFLABS-URNIK:rezervacija:11135
CATEGORIES:Reservation
COLOR:royalblue
DESCRIPTION:Predmeti: \nLetniki: \nIzvajalci: Gregor Skok\nProstori: F6
LOCATION:F6
ORGANIZER:Gregor Skok
X-WR-TIMEZONE:Europe/Ljubljana
END:VEVENT
BEGIN:VEVENT
SUMMARY:Rezervacija
DTSTART;TZID=Europe/Ljubljana:20230207T090000
DTEND;TZID=Europe/Ljubljana:20230207T160000
DTSTAMP:20260423T074139Z
UID:fmf-AFLABS-URNIK:rezervacija:11199
CATEGORIES:Reservation
COLOR:royalblue
DESCRIPTION:Predmeti: \nLetniki: \nIzvajalci: Gregor Skok\nProstori: F6
LOCATION:F6
ORGANIZER:Gregor Skok
X-WR-TIMEZONE:Europe/Ljubljana
END:VEVENT
BEGIN:VEVENT
SUMMARY:Rezervacija
DTSTART;TZID=Europe/Ljubljana:20230209T080000
DTEND;TZID=Europe/Ljubljana:20230209T110000
DTSTAMP:20260423T074139Z
UID:fmf-AFLABS-URNIK:rezervacija:11214
CATEGORIES:Reservation
COLOR:royalblue
DESCRIPTION:Predmeti: \nLetniki: \nIzvajalci: Gregor Skok\nProstori: F5
LOCATION:F5
ORGANIZER:Gregor Skok
X-WR-TIMEZONE:Europe/Ljubljana
END:VEVENT
BEGIN:VEVENT
SUMMARY:Rezervacija
DTSTART;TZID=Europe/Ljubljana:20230216T090000
DTEND;TZID=Europe/Ljubljana:20230216T120000
DTSTAMP:20260423T074139Z
UID:fmf-AFLABS-URNIK:rezervacija:11269
CATEGORIES:Reservation
COLOR:royalblue
DESCRIPTION:Predmeti: \nLetniki: \nIzvajalci: Gregor Skok\nProstori: Kuš
 čerjev seminar
LOCATION:Kuščerjev seminar
ORGANIZER:Gregor Skok
X-WR-TIMEZONE:Europe/Ljubljana
END:VEVENT
END:VCALENDAR
