BEGIN:VCALENDAR
VERSION:2.0
PRODID:-//AFLabs urnik izvoz - fmf//aflabs.si//SI
DTSTAMP:20260423T083138Z
NAME:UL FMF urnik
REFRESH-INTERVAL:PT1H
SOURCE:https://urnik.fmf.uni-lj.si/teacher/103?day=2023-04-24&export=1
URL:https://urnik.fmf.uni-lj.si/teacher/103?day=2023-04-24&export=1
X-PUBLISHED-TTL:PT1H
X-WR-CALNAME:UL FMF urnik
X-WR-TIMEZONE:Europe/Ljubljana
BEGIN:VTIMEZONE
TZID:Europe/Ljubljana
BEGIN:DAYLIGHT
DTSTART:20260329T020000
RDATE:20260329T020000
RDATE:20270328T020000
TZNAME:CEST
TZOFFSETFROM:+0100
TZOFFSETTO:+0200
END:DAYLIGHT
BEGIN:STANDARD
DTSTART:20261025T030000
RDATE:20261025T030000
RDATE:20271031T030000
TZNAME:CET
TZOFFSETFROM:+0200
TZOFFSETTO:+0100
END:STANDARD
END:VTIMEZONE
BEGIN:VEVENT
SUMMARY:Letalska meteorologija (FS) ()\, Predavanja (P)
DTSTART;TZID=Europe/Ljubljana:20230216T110000
DTEND;TZID=Europe/Ljubljana:20230216T150000
DTSTAMP:20260423T083138Z
UID:fmf-AFLABS-URNIK:premaknjeno-srecanje:56402
CATEGORIES:Entry,Standard
COLOR:darkgreen
DESCRIPTION:Predmet: Letalska meteorologija (FS) ()\, Predavanja (P)\nLetn
 iki: \nIzvajalci: Gregor Skok\nProstor: FS
LOCATION:FS
ORGANIZER:Gregor Skok
RELATED-TO:fmf-AFLABS-URNIK:srecanje:8489
X-WR-TIMEZONE:Europe/Ljubljana
END:VEVENT
BEGIN:VEVENT
SUMMARY:Letalska meteorologija (FS) ()\, Predavanja (P)
DTSTART;TZID=Europe/Ljubljana:20230223T110000
DTEND;TZID=Europe/Ljubljana:20230223T150000
DTSTAMP:20260423T083138Z
UID:fmf-AFLABS-URNIK:premaknjeno-srecanje:56403
CATEGORIES:Entry,Standard
COLOR:darkgreen
DESCRIPTION:Predmet: Letalska meteorologija (FS) ()\, Predavanja (P)\nLetn
 iki: \nIzvajalci: Gregor Skok\nProstor: FS
LOCATION:FS
ORGANIZER:Gregor Skok
RELATED-TO:fmf-AFLABS-URNIK:srecanje:8489
X-WR-TIMEZONE:Europe/Ljubljana
END:VEVENT
BEGIN:VEVENT
SUMMARY:Letalska meteorologija (FS) ()\, Predavanja (P)
DTSTART;TZID=Europe/Ljubljana:20230302T110000
DTEND;TZID=Europe/Ljubljana:20230302T150000
DTSTAMP:20260423T083138Z
UID:fmf-AFLABS-URNIK:premaknjeno-srecanje:56404
CATEGORIES:Entry,Standard
COLOR:darkgreen
DESCRIPTION:Predmet: Letalska meteorologija (FS) ()\, Predavanja (P)\nLetn
 iki: \nIzvajalci: Gregor Skok\nProstor: FS
LOCATION:FS
ORGANIZER:Gregor Skok
RELATED-TO:fmf-AFLABS-URNIK:srecanje:8489
X-WR-TIMEZONE:Europe/Ljubljana
END:VEVENT
BEGIN:VEVENT
SUMMARY:Letalska meteorologija (FS) ()\, Predavanja (P)
DTSTART;TZID=Europe/Ljubljana:20230309T110000
DTEND;TZID=Europe/Ljubljana:20230309T150000
DTSTAMP:20260423T083138Z
UID:fmf-AFLABS-URNIK:premaknjeno-srecanje:56405
CATEGORIES:Entry,Standard
COLOR:darkgreen
DESCRIPTION:Predmet: Letalska meteorologija (FS) ()\, Predavanja (P)\nLetn
 iki: \nIzvajalci: Gregor Skok\nProstor: FS
LOCATION:FS
ORGANIZER:Gregor Skok
RELATED-TO:fmf-AFLABS-URNIK:srecanje:8489
X-WR-TIMEZONE:Europe/Ljubljana
END:VEVENT
BEGIN:VEVENT
SUMMARY:Letalska meteorologija (FS) ()\, Predavanja (P)
DTSTART;TZID=Europe/Ljubljana:20230316T110000
DTEND;TZID=Europe/Ljubljana:20230316T150000
DTSTAMP:20260423T083138Z
UID:fmf-AFLABS-URNIK:premaknjeno-srecanje:56406
CATEGORIES:Entry,Standard
COLOR:darkgreen
DESCRIPTION:Predmet: Letalska meteorologija (FS) ()\, Predavanja (P)\nLetn
 iki: \nIzvajalci: Gregor Skok\nProstor: FS
LOCATION:FS
ORGANIZER:Gregor Skok
RELATED-TO:fmf-AFLABS-URNIK:srecanje:8489
X-WR-TIMEZONE:Europe/Ljubljana
END:VEVENT
BEGIN:VEVENT
SUMMARY:Letalska meteorologija (FS) ()\, Predavanja (P)
DTSTART;TZID=Europe/Ljubljana:20230323T110000
DTEND;TZID=Europe/Ljubljana:20230323T150000
DTSTAMP:20260423T083138Z
UID:fmf-AFLABS-URNIK:premaknjeno-srecanje:56407
CATEGORIES:Entry,Standard
COLOR:darkgreen
DESCRIPTION:Predmet: Letalska meteorologija (FS) ()\, Predavanja (P)\nLetn
 iki: \nIzvajalci: Gregor Skok\nProstor: FS
LOCATION:FS
ORGANIZER:Gregor Skok
RELATED-TO:fmf-AFLABS-URNIK:srecanje:8489
X-WR-TIMEZONE:Europe/Ljubljana
END:VEVENT
BEGIN:VEVENT
SUMMARY:Letalska meteorologija (FS) ()\, Predavanja (P)
DTSTART;TZID=Europe/Ljubljana:20230330T110000
DTEND;TZID=Europe/Ljubljana:20230330T150000
DTSTAMP:20260423T083138Z
UID:fmf-AFLABS-URNIK:premaknjeno-srecanje:56408
CATEGORIES:Entry,Standard
COLOR:darkgreen
DESCRIPTION:Predmet: Letalska meteorologija (FS) ()\, Predavanja (P)\nLetn
 iki: \nIzvajalci: Gregor Skok\nProstor: FS
LOCATION:FS
ORGANIZER:Gregor Skok
RELATED-TO:fmf-AFLABS-URNIK:srecanje:8489
X-WR-TIMEZONE:Europe/Ljubljana
END:VEVENT
BEGIN:VEVENT
SUMMARY:Letalska meteorologija (FS) ()\, Predavanja (P)
DTSTART;TZID=Europe/Ljubljana:20230406T110000
DTEND;TZID=Europe/Ljubljana:20230406T150000
DTSTAMP:20260423T083138Z
UID:fmf-AFLABS-URNIK:premaknjeno-srecanje:56409
CATEGORIES:Entry,Standard
COLOR:darkgreen
DESCRIPTION:Predmet: Letalska meteorologija (FS) ()\, Predavanja (P)\nLetn
 iki: \nIzvajalci: Gregor Skok\nProstor: FS
LOCATION:FS
ORGANIZER:Gregor Skok
RELATED-TO:fmf-AFLABS-URNIK:srecanje:8489
X-WR-TIMEZONE:Europe/Ljubljana
END:VEVENT
BEGIN:VEVENT
SUMMARY:Letalska meteorologija (FS) ()\, Predavanja (P)
DTSTART;TZID=Europe/Ljubljana:20230413T110000
DTEND;TZID=Europe/Ljubljana:20230413T150000
DTSTAMP:20260423T083138Z
UID:fmf-AFLABS-URNIK:premaknjeno-srecanje:56410
CATEGORIES:Entry,Standard
COLOR:darkgreen
DESCRIPTION:Predmet: Letalska meteorologija (FS) ()\, Predavanja (P)\nLetn
 iki: \nIzvajalci: Gregor Skok\nProstor: FS
LOCATION:FS
ORGANIZER:Gregor Skok
RELATED-TO:fmf-AFLABS-URNIK:srecanje:8489
X-WR-TIMEZONE:Europe/Ljubljana
END:VEVENT
BEGIN:VEVENT
SUMMARY:Letalska meteorologija (FS) ()\, Predavanja (P)
DTSTART;TZID=Europe/Ljubljana:20230420T110000
DTEND;TZID=Europe/Ljubljana:20230420T150000
DTSTAMP:20260423T083138Z
UID:fmf-AFLABS-URNIK:premaknjeno-srecanje:56411
CATEGORIES:Entry,Standard
COLOR:darkgreen
DESCRIPTION:Predmet: Letalska meteorologija (FS) ()\, Predavanja (P)\nLetn
 iki: \nIzvajalci: Gregor Skok\nProstor: FS
LOCATION:FS
ORGANIZER:Gregor Skok
RELATED-TO:fmf-AFLABS-URNIK:srecanje:8489
X-WR-TIMEZONE:Europe/Ljubljana
END:VEVENT
BEGIN:VEVENT
SUMMARY:Letalska meteorologija (FS) ()\, Predavanja (P)
DTSTART;TZID=Europe/Ljubljana:20230427T110000
DTEND;TZID=Europe/Ljubljana:20230427T150000
DTSTAMP:20260423T083138Z
UID:fmf-AFLABS-URNIK:premaknjeno-srecanje:56412
CATEGORIES:Entry,Standard
COLOR:darkgreen
DESCRIPTION:Predmet: Letalska meteorologija (FS) ()\, Predavanja (P)\nLetn
 iki: \nIzvajalci: Gregor Skok\nProstor: FS
LOCATION:FS
ORGANIZER:Gregor Skok
RELATED-TO:fmf-AFLABS-URNIK:srecanje:8489
X-WR-TIMEZONE:Europe/Ljubljana
END:VEVENT
BEGIN:VEVENT
SUMMARY:Letalska meteorologija (FS) ()\, Predavanja (P)
DTSTART;TZID=Europe/Ljubljana:20230504T110000
DTEND;TZID=Europe/Ljubljana:20230504T150000
DTSTAMP:20260423T083138Z
UID:fmf-AFLABS-URNIK:premaknjeno-srecanje:56413
CATEGORIES:Entry,Standard
COLOR:darkgreen
DESCRIPTION:Predmet: Letalska meteorologija (FS) ()\, Predavanja (P)\nLetn
 iki: \nIzvajalci: Gregor Skok\nProstor: FS
LOCATION:FS
ORGANIZER:Gregor Skok
RELATED-TO:fmf-AFLABS-URNIK:srecanje:8489
X-WR-TIMEZONE:Europe/Ljubljana
END:VEVENT
BEGIN:VEVENT
SUMMARY:Letalska meteorologija (FS) ()\, Predavanja (P)
DTSTART;TZID=Europe/Ljubljana:20230511T110000
DTEND;TZID=Europe/Ljubljana:20230511T150000
DTSTAMP:20260423T083138Z
UID:fmf-AFLABS-URNIK:premaknjeno-srecanje:56414
CATEGORIES:Entry,Standard
COLOR:darkgreen
DESCRIPTION:Predmet: Letalska meteorologija (FS) ()\, Predavanja (P)\nLetn
 iki: \nIzvajalci: Gregor Skok\nProstor: FS
LOCATION:FS
ORGANIZER:Gregor Skok
RELATED-TO:fmf-AFLABS-URNIK:srecanje:8489
X-WR-TIMEZONE:Europe/Ljubljana
END:VEVENT
BEGIN:VEVENT
SUMMARY:Letalska meteorologija (FS) ()\, Predavanja (P)
DTSTART;TZID=Europe/Ljubljana:20230518T110000
DTEND;TZID=Europe/Ljubljana:20230518T150000
DTSTAMP:20260423T083138Z
UID:fmf-AFLABS-URNIK:premaknjeno-srecanje:56415
CATEGORIES:Entry,Standard
COLOR:darkgreen
DESCRIPTION:Predmet: Letalska meteorologija (FS) ()\, Predavanja (P)\nLetn
 iki: \nIzvajalci: Gregor Skok\nProstor: FS
LOCATION:FS
ORGANIZER:Gregor Skok
RELATED-TO:fmf-AFLABS-URNIK:srecanje:8489
X-WR-TIMEZONE:Europe/Ljubljana
END:VEVENT
BEGIN:VEVENT
SUMMARY:Letalska meteorologija (FS) ()\, Predavanja (P)
DTSTART;TZID=Europe/Ljubljana:20230525T110000
DTEND;TZID=Europe/Ljubljana:20230525T150000
DTSTAMP:20260423T083138Z
UID:fmf-AFLABS-URNIK:premaknjeno-srecanje:56416
CATEGORIES:Entry,Standard
COLOR:darkgreen
DESCRIPTION:Predmet: Letalska meteorologija (FS) ()\, Predavanja (P)\nLetn
 iki: \nIzvajalci: Gregor Skok\nProstor: FS
LOCATION:FS
ORGANIZER:Gregor Skok
RELATED-TO:fmf-AFLABS-URNIK:srecanje:8489
X-WR-TIMEZONE:Europe/Ljubljana
END:VEVENT
BEGIN:VEVENT
SUMMARY:Letalska meteorologija (FS) ()\, Predavanja (P)
DTSTART;TZID=Europe/Ljubljana:20230601T110000
DTEND;TZID=Europe/Ljubljana:20230601T150000
DTSTAMP:20260423T083138Z
UID:fmf-AFLABS-URNIK:premaknjeno-srecanje:56417
CATEGORIES:Entry,Standard
COLOR:darkgreen
DESCRIPTION:Predmet: Letalska meteorologija (FS) ()\, Predavanja (P)\nLetn
 iki: \nIzvajalci: Gregor Skok\nProstor: FS
LOCATION:FS
ORGANIZER:Gregor Skok
RELATED-TO:fmf-AFLABS-URNIK:srecanje:8489
X-WR-TIMEZONE:Europe/Ljubljana
END:VEVENT
BEGIN:VEVENT
SUMMARY:Meteorološka opazovanja in inštrumenti (FIZ-2)\, Predavanja (P)
DTSTART;TZID=Europe/Ljubljana:20230217T110000
DTEND;TZID=Europe/Ljubljana:20230217T120000
DTSTAMP:20260423T083138Z
UID:fmf-AFLABS-URNIK:premaknjeno-srecanje:72029
ATTENDEE:2. letnik (Fizika, 1. stopnja)
CATEGORIES:Entry,Standard
COLOR:darkgreen
DESCRIPTION:Predmet: Meteorološka opazovanja in inštrumenti (FIZ-2)\, Pr
 edavanja (P)\nLetniki: 2. letnik (Fizika\, 1. stopnja)\nIzvajalci: Gregor 
 Skok\nProstor: F5
LOCATION:F5
ORGANIZER:Gregor Skok
RELATED-TO:fmf-AFLABS-URNIK:srecanje:8260
X-WR-TIMEZONE:Europe/Ljubljana
END:VEVENT
BEGIN:VEVENT
SUMMARY:Meteorološka opazovanja in inštrumenti (FIZ-2)\, Predavanja (P)
DTSTART;TZID=Europe/Ljubljana:20230224T110000
DTEND;TZID=Europe/Ljubljana:20230224T120000
DTSTAMP:20260423T083138Z
UID:fmf-AFLABS-URNIK:premaknjeno-srecanje:72030
ATTENDEE:2. letnik (Fizika, 1. stopnja)
CATEGORIES:Entry,Standard
COLOR:darkgreen
DESCRIPTION:Predmet: Meteorološka opazovanja in inštrumenti (FIZ-2)\, Pr
 edavanja (P)\nLetniki: 2. letnik (Fizika\, 1. stopnja)\nIzvajalci: Gregor 
 Skok\nProstor: F5
LOCATION:F5
ORGANIZER:Gregor Skok
RELATED-TO:fmf-AFLABS-URNIK:srecanje:8260
X-WR-TIMEZONE:Europe/Ljubljana
END:VEVENT
BEGIN:VEVENT
SUMMARY:Meteorološka opazovanja in inštrumenti (FIZ-2)\, Predavanja (P)
DTSTART;TZID=Europe/Ljubljana:20230303T110000
DTEND;TZID=Europe/Ljubljana:20230303T120000
DTSTAMP:20260423T083138Z
UID:fmf-AFLABS-URNIK:premaknjeno-srecanje:72031
ATTENDEE:2. letnik (Fizika, 1. stopnja)
CATEGORIES:Entry,Standard
COLOR:darkgreen
DESCRIPTION:Predmet: Meteorološka opazovanja in inštrumenti (FIZ-2)\, Pr
 edavanja (P)\nLetniki: 2. letnik (Fizika\, 1. stopnja)\nIzvajalci: Gregor 
 Skok\nProstor: F5
LOCATION:F5
ORGANIZER:Gregor Skok
RELATED-TO:fmf-AFLABS-URNIK:srecanje:8260
X-WR-TIMEZONE:Europe/Ljubljana
END:VEVENT
BEGIN:VEVENT
SUMMARY:Meteorološka opazovanja in inštrumenti (FIZ-2)\, Predavanja (P)
DTSTART;TZID=Europe/Ljubljana:20230310T110000
DTEND;TZID=Europe/Ljubljana:20230310T120000
DTSTAMP:20260423T083138Z
UID:fmf-AFLABS-URNIK:premaknjeno-srecanje:72032
ATTENDEE:2. letnik (Fizika, 1. stopnja)
CATEGORIES:Entry,Standard
COLOR:darkgreen
DESCRIPTION:Predmet: Meteorološka opazovanja in inštrumenti (FIZ-2)\, Pr
 edavanja (P)\nLetniki: 2. letnik (Fizika\, 1. stopnja)\nIzvajalci: Gregor 
 Skok\nProstor: F5
LOCATION:F5
ORGANIZER:Gregor Skok
RELATED-TO:fmf-AFLABS-URNIK:srecanje:8260
X-WR-TIMEZONE:Europe/Ljubljana
END:VEVENT
BEGIN:VEVENT
SUMMARY:Meteorološka opazovanja in inštrumenti (FIZ-2)\, Predavanja (P)
DTSTART;TZID=Europe/Ljubljana:20230317T110000
DTEND;TZID=Europe/Ljubljana:20230317T120000
DTSTAMP:20260423T083138Z
UID:fmf-AFLABS-URNIK:premaknjeno-srecanje:72033
ATTENDEE:2. letnik (Fizika, 1. stopnja)
CATEGORIES:Entry,Standard
COLOR:darkgreen
DESCRIPTION:Predmet: Meteorološka opazovanja in inštrumenti (FIZ-2)\, Pr
 edavanja (P)\nLetniki: 2. letnik (Fizika\, 1. stopnja)\nIzvajalci: Gregor 
 Skok\nProstor: F5
LOCATION:F5
ORGANIZER:Gregor Skok
RELATED-TO:fmf-AFLABS-URNIK:srecanje:8260
X-WR-TIMEZONE:Europe/Ljubljana
END:VEVENT
BEGIN:VEVENT
SUMMARY:Meteorološka opazovanja in inštrumenti (FIZ-2)\, Predavanja (P)
DTSTART;TZID=Europe/Ljubljana:20230324T110000
DTEND;TZID=Europe/Ljubljana:20230324T120000
DTSTAMP:20260423T083138Z
UID:fmf-AFLABS-URNIK:premaknjeno-srecanje:72034
ATTENDEE:2. letnik (Fizika, 1. stopnja)
CATEGORIES:Entry,Standard
COLOR:darkgreen
DESCRIPTION:Predmet: Meteorološka opazovanja in inštrumenti (FIZ-2)\, Pr
 edavanja (P)\nLetniki: 2. letnik (Fizika\, 1. stopnja)\nIzvajalci: Gregor 
 Skok\nProstor: F5
LOCATION:F5
ORGANIZER:Gregor Skok
RELATED-TO:fmf-AFLABS-URNIK:srecanje:8260
X-WR-TIMEZONE:Europe/Ljubljana
END:VEVENT
BEGIN:VEVENT
SUMMARY:Meteorološka opazovanja in inštrumenti (FIZ-2)\, Predavanja (P)
DTSTART;TZID=Europe/Ljubljana:20230331T110000
DTEND;TZID=Europe/Ljubljana:20230331T120000
DTSTAMP:20260423T083138Z
UID:fmf-AFLABS-URNIK:premaknjeno-srecanje:72035
ATTENDEE:2. letnik (Fizika, 1. stopnja)
CATEGORIES:Entry,Standard
COLOR:darkgreen
DESCRIPTION:Predmet: Meteorološka opazovanja in inštrumenti (FIZ-2)\, Pr
 edavanja (P)\nLetniki: 2. letnik (Fizika\, 1. stopnja)\nIzvajalci: Gregor 
 Skok\nProstor: F5
LOCATION:F5
ORGANIZER:Gregor Skok
RELATED-TO:fmf-AFLABS-URNIK:srecanje:8260
X-WR-TIMEZONE:Europe/Ljubljana
END:VEVENT
BEGIN:VEVENT
SUMMARY:Meteorološka opazovanja in inštrumenti (FIZ-2)\, Predavanja (P)
DTSTART;TZID=Europe/Ljubljana:20230407T110000
DTEND;TZID=Europe/Ljubljana:20230407T120000
DTSTAMP:20260423T083138Z
UID:fmf-AFLABS-URNIK:premaknjeno-srecanje:72036
ATTENDEE:2. letnik (Fizika, 1. stopnja)
CATEGORIES:Entry,Standard
COLOR:darkgreen
DESCRIPTION:Predmet: Meteorološka opazovanja in inštrumenti (FIZ-2)\, Pr
 edavanja (P)\nLetniki: 2. letnik (Fizika\, 1. stopnja)\nIzvajalci: Gregor 
 Skok\nProstor: F5
LOCATION:F5
ORGANIZER:Gregor Skok
RELATED-TO:fmf-AFLABS-URNIK:srecanje:8260
X-WR-TIMEZONE:Europe/Ljubljana
END:VEVENT
BEGIN:VEVENT
SUMMARY:Meteorološka opazovanja in inštrumenti (FIZ-2)\, Predavanja (P)
DTSTART;TZID=Europe/Ljubljana:20230414T110000
DTEND;TZID=Europe/Ljubljana:20230414T120000
DTSTAMP:20260423T083138Z
UID:fmf-AFLABS-URNIK:premaknjeno-srecanje:72037
ATTENDEE:2. letnik (Fizika, 1. stopnja)
CATEGORIES:Entry,Standard
COLOR:darkgreen
DESCRIPTION:Predmet: Meteorološka opazovanja in inštrumenti (FIZ-2)\, Pr
 edavanja (P)\nLetniki: 2. letnik (Fizika\, 1. stopnja)\nIzvajalci: Gregor 
 Skok\nProstor: F5
LOCATION:F5
ORGANIZER:Gregor Skok
RELATED-TO:fmf-AFLABS-URNIK:srecanje:8260
X-WR-TIMEZONE:Europe/Ljubljana
END:VEVENT
BEGIN:VEVENT
SUMMARY:Meteorološka opazovanja in inštrumenti (FIZ-2)\, Predavanja (P)
DTSTART;TZID=Europe/Ljubljana:20230421T110000
DTEND;TZID=Europe/Ljubljana:20230421T120000
DTSTAMP:20260423T083138Z
UID:fmf-AFLABS-URNIK:premaknjeno-srecanje:72038
ATTENDEE:2. letnik (Fizika, 1. stopnja)
CATEGORIES:Entry,Standard
COLOR:darkgreen
DESCRIPTION:Predmet: Meteorološka opazovanja in inštrumenti (FIZ-2)\, Pr
 edavanja (P)\nLetniki: 2. letnik (Fizika\, 1. stopnja)\nIzvajalci: Gregor 
 Skok\nProstor: F5
LOCATION:F5
ORGANIZER:Gregor Skok
RELATED-TO:fmf-AFLABS-URNIK:srecanje:8260
X-WR-TIMEZONE:Europe/Ljubljana
END:VEVENT
BEGIN:VEVENT
SUMMARY:Meteorološka opazovanja in inštrumenti (FIZ-2)\, Predavanja (P)
DTSTART;TZID=Europe/Ljubljana:20230428T110000
DTEND;TZID=Europe/Ljubljana:20230428T120000
DTSTAMP:20260423T083138Z
UID:fmf-AFLABS-URNIK:premaknjeno-srecanje:72039
ATTENDEE:2. letnik (Fizika, 1. stopnja)
CATEGORIES:Entry,Standard
COLOR:darkgreen
DESCRIPTION:Predmet: Meteorološka opazovanja in inštrumenti (FIZ-2)\, Pr
 edavanja (P)\nLetniki: 2. letnik (Fizika\, 1. stopnja)\nIzvajalci: Gregor 
 Skok\nProstor: F5
LOCATION:F5
ORGANIZER:Gregor Skok
RELATED-TO:fmf-AFLABS-URNIK:srecanje:8260
X-WR-TIMEZONE:Europe/Ljubljana
END:VEVENT
BEGIN:VEVENT
SUMMARY:Meteorološka opazovanja in inštrumenti (FIZ-2)\, Predavanja (P)
DTSTART;TZID=Europe/Ljubljana:20230505T110000
DTEND;TZID=Europe/Ljubljana:20230505T120000
DTSTAMP:20260423T083138Z
UID:fmf-AFLABS-URNIK:premaknjeno-srecanje:72040
ATTENDEE:2. letnik (Fizika, 1. stopnja)
CATEGORIES:Entry,Standard
COLOR:darkgreen
DESCRIPTION:Predmet: Meteorološka opazovanja in inštrumenti (FIZ-2)\, Pr
 edavanja (P)\nLetniki: 2. letnik (Fizika\, 1. stopnja)\nIzvajalci: Gregor 
 Skok\nProstor: F5
LOCATION:F5
ORGANIZER:Gregor Skok
RELATED-TO:fmf-AFLABS-URNIK:srecanje:8260
X-WR-TIMEZONE:Europe/Ljubljana
END:VEVENT
BEGIN:VEVENT
SUMMARY:Meteorološka opazovanja in inštrumenti (FIZ-2)\, Predavanja (P)
DTSTART;TZID=Europe/Ljubljana:20230512T110000
DTEND;TZID=Europe/Ljubljana:20230512T120000
DTSTAMP:20260423T083138Z
UID:fmf-AFLABS-URNIK:premaknjeno-srecanje:72041
ATTENDEE:2. letnik (Fizika, 1. stopnja)
CATEGORIES:Entry,Standard
COLOR:darkgreen
DESCRIPTION:Predmet: Meteorološka opazovanja in inštrumenti (FIZ-2)\, Pr
 edavanja (P)\nLetniki: 2. letnik (Fizika\, 1. stopnja)\nIzvajalci: Gregor 
 Skok\nProstor: F5
LOCATION:F5
ORGANIZER:Gregor Skok
RELATED-TO:fmf-AFLABS-URNIK:srecanje:8260
X-WR-TIMEZONE:Europe/Ljubljana
END:VEVENT
BEGIN:VEVENT
SUMMARY:Meteorološka opazovanja in inštrumenti (FIZ-2)\, Predavanja (P)
DTSTART;TZID=Europe/Ljubljana:20230519T110000
DTEND;TZID=Europe/Ljubljana:20230519T120000
DTSTAMP:20260423T083138Z
UID:fmf-AFLABS-URNIK:premaknjeno-srecanje:72042
ATTENDEE:2. letnik (Fizika, 1. stopnja)
CATEGORIES:Entry,Standard
COLOR:darkgreen
DESCRIPTION:Predmet: Meteorološka opazovanja in inštrumenti (FIZ-2)\, Pr
 edavanja (P)\nLetniki: 2. letnik (Fizika\, 1. stopnja)\nIzvajalci: Gregor 
 Skok\nProstor: F5
LOCATION:F5
ORGANIZER:Gregor Skok
RELATED-TO:fmf-AFLABS-URNIK:srecanje:8260
X-WR-TIMEZONE:Europe/Ljubljana
END:VEVENT
BEGIN:VEVENT
SUMMARY:Meteorološka opazovanja in inštrumenti (FIZ-2)\, Predavanja (P)
DTSTART;TZID=Europe/Ljubljana:20230526T110000
DTEND;TZID=Europe/Ljubljana:20230526T120000
DTSTAMP:20260423T083138Z
UID:fmf-AFLABS-URNIK:premaknjeno-srecanje:72043
ATTENDEE:2. letnik (Fizika, 1. stopnja)
CATEGORIES:Entry,Standard
COLOR:darkgreen
DESCRIPTION:Predmet: Meteorološka opazovanja in inštrumenti (FIZ-2)\, Pr
 edavanja (P)\nLetniki: 2. letnik (Fizika\, 1. stopnja)\nIzvajalci: Gregor 
 Skok\nProstor: F5
LOCATION:F5
ORGANIZER:Gregor Skok
RELATED-TO:fmf-AFLABS-URNIK:srecanje:8260
X-WR-TIMEZONE:Europe/Ljubljana
END:VEVENT
BEGIN:VEVENT
SUMMARY:Meteorološka opazovanja in inštrumenti (FIZ-2)\, Predavanja (P)
DTSTART;TZID=Europe/Ljubljana:20230602T110000
DTEND;TZID=Europe/Ljubljana:20230602T120000
DTSTAMP:20260423T083138Z
UID:fmf-AFLABS-URNIK:premaknjeno-srecanje:72044
ATTENDEE:2. letnik (Fizika, 1. stopnja)
CATEGORIES:Entry,Standard
COLOR:darkgreen
DESCRIPTION:Predmet: Meteorološka opazovanja in inštrumenti (FIZ-2)\, Pr
 edavanja (P)\nLetniki: 2. letnik (Fizika\, 1. stopnja)\nIzvajalci: Gregor 
 Skok\nProstor: F5
LOCATION:F5
ORGANIZER:Gregor Skok
RELATED-TO:fmf-AFLABS-URNIK:srecanje:8260
X-WR-TIMEZONE:Europe/Ljubljana
END:VEVENT
BEGIN:VEVENT
SUMMARY:Rezervacija
DTSTART;TZID=Europe/Ljubljana:20230216T090000
DTEND;TZID=Europe/Ljubljana:20230216T120000
DTSTAMP:20260423T083138Z
UID:fmf-AFLABS-URNIK:rezervacija:11269
CATEGORIES:Reservation
COLOR:royalblue
DESCRIPTION:Predmeti: \nLetniki: \nIzvajalci: Gregor Skok\nProstori: Kuš
 čerjev seminar
LOCATION:Kuščerjev seminar
ORGANIZER:Gregor Skok
X-WR-TIMEZONE:Europe/Ljubljana
END:VEVENT
BEGIN:VEVENT
SUMMARY:Rezervacija
DTSTART;TZID=Europe/Ljubljana:20230523T120000
DTEND;TZID=Europe/Ljubljana:20230523T150000
DTSTAMP:20260423T083138Z
UID:fmf-AFLABS-URNIK:rezervacija:11902
CATEGORIES:Reservation
COLOR:royalblue
DESCRIPTION:Predmeti: \nLetniki: \nIzvajalci: Gregor Skok\nProstori: F7
LOCATION:F7
ORGANIZER:Gregor Skok
X-WR-TIMEZONE:Europe/Ljubljana
END:VEVENT
END:VCALENDAR
