BEGIN:VCALENDAR
VERSION:2.0
PRODID:-//AFLabs urnik izvoz - fmf//aflabs.si//SI
DTSTAMP:20260422T000416Z
NAME:UL FMF urnik
REFRESH-INTERVAL:PT1H
SOURCE:https://urnik.fmf.uni-lj.si/teacher/105?day=2024-04-08&export=1
URL:https://urnik.fmf.uni-lj.si/teacher/105?day=2024-04-08&export=1
X-PUBLISHED-TTL:PT1H
X-WR-CALNAME:UL FMF urnik
X-WR-TIMEZONE:Europe/Ljubljana
BEGIN:VTIMEZONE
TZID:Europe/Ljubljana
BEGIN:DAYLIGHT
DTSTART:20260329T020000
RDATE:20260329T020000
RDATE:20270328T020000
TZNAME:CEST
TZOFFSETFROM:+0100
TZOFFSETTO:+0200
END:DAYLIGHT
BEGIN:STANDARD
DTSTART:20261025T030000
RDATE:20261025T030000
RDATE:20271031T030000
TZNAME:CET
TZOFFSETFROM:+0200
TZOFFSETTO:+0100
END:STANDARD
END:VTIMEZONE
BEGIN:VEVENT
SUMMARY:Fizikalna merjenja I (FIZ-3)\, Vaje (V)\, [1]
DTSTART;TZID=Europe/Ljubljana:20240220T130000
DTEND;TZID=Europe/Ljubljana:20240220T150000
DTSTAMP:20260422T000416Z
UID:fmf-AFLABS-URNIK:premaknjeno-srecanje:124679
ATTENDEE:3. letnik (Fizika, 1. stopnja)
CATEGORIES:Entry,Standard
COLOR:darkgreen
DESCRIPTION:Predmet: Fizikalna merjenja I (FIZ-3)\, Vaje (V)\, [1]\nLetnik
 i: 3. letnik (Fizika\, 1. stopnja)\nIzvajalci: Gregor Kladnik\nProstor: F4
LOCATION:F4
ORGANIZER:Gregor Kladnik
RELATED-TO:fmf-AFLABS-URNIK:srecanje:10507
X-WR-TIMEZONE:Europe/Ljubljana
END:VEVENT
BEGIN:VEVENT
SUMMARY:Fizikalna merjenja I (FIZ-3)\, Vaje (V)\, [1]
DTSTART;TZID=Europe/Ljubljana:20240227T130000
DTEND;TZID=Europe/Ljubljana:20240227T150000
DTSTAMP:20260422T000416Z
UID:fmf-AFLABS-URNIK:premaknjeno-srecanje:124680
ATTENDEE:3. letnik (Fizika, 1. stopnja)
CATEGORIES:Entry,Standard
COLOR:darkgreen
DESCRIPTION:Predmet: Fizikalna merjenja I (FIZ-3)\, Vaje (V)\, [1]\nLetnik
 i: 3. letnik (Fizika\, 1. stopnja)\nIzvajalci: Gregor Kladnik\nProstor: F4
LOCATION:F4
ORGANIZER:Gregor Kladnik
RELATED-TO:fmf-AFLABS-URNIK:srecanje:10507
X-WR-TIMEZONE:Europe/Ljubljana
END:VEVENT
BEGIN:VEVENT
SUMMARY:Fizikalna merjenja I (FIZ-3)\, Vaje (V)\, [1]
DTSTART;TZID=Europe/Ljubljana:20240305T130000
DTEND;TZID=Europe/Ljubljana:20240305T150000
DTSTAMP:20260422T000416Z
UID:fmf-AFLABS-URNIK:premaknjeno-srecanje:124681
ATTENDEE:3. letnik (Fizika, 1. stopnja)
CATEGORIES:Entry,Standard
COLOR:darkgreen
DESCRIPTION:Predmet: Fizikalna merjenja I (FIZ-3)\, Vaje (V)\, [1]\nLetnik
 i: 3. letnik (Fizika\, 1. stopnja)\nIzvajalci: Gregor Kladnik\nProstor: F4
LOCATION:F4
ORGANIZER:Gregor Kladnik
RELATED-TO:fmf-AFLABS-URNIK:srecanje:10507
X-WR-TIMEZONE:Europe/Ljubljana
END:VEVENT
BEGIN:VEVENT
SUMMARY:Fizikalna merjenja I (FIZ-3)\, Vaje (V)\, [1]
DTSTART;TZID=Europe/Ljubljana:20240312T130000
DTEND;TZID=Europe/Ljubljana:20240312T150000
DTSTAMP:20260422T000416Z
UID:fmf-AFLABS-URNIK:premaknjeno-srecanje:124682
ATTENDEE:3. letnik (Fizika, 1. stopnja)
CATEGORIES:Entry,Standard
COLOR:darkgreen
DESCRIPTION:Predmet: Fizikalna merjenja I (FIZ-3)\, Vaje (V)\, [1]\nLetnik
 i: 3. letnik (Fizika\, 1. stopnja)\nIzvajalci: Gregor Kladnik\nProstor: F4
LOCATION:F4
ORGANIZER:Gregor Kladnik
RELATED-TO:fmf-AFLABS-URNIK:srecanje:10507
X-WR-TIMEZONE:Europe/Ljubljana
END:VEVENT
BEGIN:VEVENT
SUMMARY:Fizikalna merjenja I (FIZ-3)\, Vaje (V)\, [1]
DTSTART;TZID=Europe/Ljubljana:20240319T130000
DTEND;TZID=Europe/Ljubljana:20240319T150000
DTSTAMP:20260422T000416Z
UID:fmf-AFLABS-URNIK:premaknjeno-srecanje:124683
ATTENDEE:3. letnik (Fizika, 1. stopnja)
CATEGORIES:Entry,Standard
COLOR:darkgreen
DESCRIPTION:Predmet: Fizikalna merjenja I (FIZ-3)\, Vaje (V)\, [1]\nLetnik
 i: 3. letnik (Fizika\, 1. stopnja)\nIzvajalci: Gregor Kladnik\nProstor: F4
LOCATION:F4
ORGANIZER:Gregor Kladnik
RELATED-TO:fmf-AFLABS-URNIK:srecanje:10507
X-WR-TIMEZONE:Europe/Ljubljana
END:VEVENT
BEGIN:VEVENT
SUMMARY:Fizikalna merjenja I (FIZ-3)\, Vaje (V)\, [1]
DTSTART;TZID=Europe/Ljubljana:20240326T130000
DTEND;TZID=Europe/Ljubljana:20240326T150000
DTSTAMP:20260422T000416Z
UID:fmf-AFLABS-URNIK:premaknjeno-srecanje:124684
ATTENDEE:3. letnik (Fizika, 1. stopnja)
CATEGORIES:Entry,Standard
COLOR:darkgreen
DESCRIPTION:Predmet: Fizikalna merjenja I (FIZ-3)\, Vaje (V)\, [1]\nLetnik
 i: 3. letnik (Fizika\, 1. stopnja)\nIzvajalci: Gregor Kladnik\nProstor: F4
LOCATION:F4
ORGANIZER:Gregor Kladnik
RELATED-TO:fmf-AFLABS-URNIK:srecanje:10507
X-WR-TIMEZONE:Europe/Ljubljana
END:VEVENT
BEGIN:VEVENT
SUMMARY:Fizikalna merjenja I (FIZ-3)\, Vaje (V)\, [1]
DTSTART;TZID=Europe/Ljubljana:20240402T130000
DTEND;TZID=Europe/Ljubljana:20240402T150000
DTSTAMP:20260422T000416Z
UID:fmf-AFLABS-URNIK:premaknjeno-srecanje:124685
ATTENDEE:3. letnik (Fizika, 1. stopnja)
CATEGORIES:Entry,Standard
COLOR:darkgreen
DESCRIPTION:Predmet: Fizikalna merjenja I (FIZ-3)\, Vaje (V)\, [1]\nLetnik
 i: 3. letnik (Fizika\, 1. stopnja)\nIzvajalci: Gregor Kladnik\nProstor: F4
LOCATION:F4
ORGANIZER:Gregor Kladnik
RELATED-TO:fmf-AFLABS-URNIK:srecanje:10507
X-WR-TIMEZONE:Europe/Ljubljana
END:VEVENT
BEGIN:VEVENT
SUMMARY:Fizikalna merjenja I (FIZ-3)\, Vaje (V)\, [1]
DTSTART;TZID=Europe/Ljubljana:20240409T130000
DTEND;TZID=Europe/Ljubljana:20240409T150000
DTSTAMP:20260422T000416Z
UID:fmf-AFLABS-URNIK:premaknjeno-srecanje:124686
ATTENDEE:3. letnik (Fizika, 1. stopnja)
CATEGORIES:Entry,Standard
COLOR:darkgreen
DESCRIPTION:Predmet: Fizikalna merjenja I (FIZ-3)\, Vaje (V)\, [1]\nLetnik
 i: 3. letnik (Fizika\, 1. stopnja)\nIzvajalci: Gregor Kladnik\nProstor: F4
LOCATION:F4
ORGANIZER:Gregor Kladnik
RELATED-TO:fmf-AFLABS-URNIK:srecanje:10507
X-WR-TIMEZONE:Europe/Ljubljana
END:VEVENT
BEGIN:VEVENT
SUMMARY:Fizikalna merjenja I (FIZ-3)\, Vaje (V)\, [1]
DTSTART;TZID=Europe/Ljubljana:20240416T130000
DTEND;TZID=Europe/Ljubljana:20240416T150000
DTSTAMP:20260422T000416Z
UID:fmf-AFLABS-URNIK:premaknjeno-srecanje:124687
ATTENDEE:3. letnik (Fizika, 1. stopnja)
CATEGORIES:Entry,Standard
COLOR:darkgreen
DESCRIPTION:Predmet: Fizikalna merjenja I (FIZ-3)\, Vaje (V)\, [1]\nLetnik
 i: 3. letnik (Fizika\, 1. stopnja)\nIzvajalci: Gregor Kladnik\nProstor: F4
LOCATION:F4
ORGANIZER:Gregor Kladnik
RELATED-TO:fmf-AFLABS-URNIK:srecanje:10507
X-WR-TIMEZONE:Europe/Ljubljana
END:VEVENT
BEGIN:VEVENT
SUMMARY:Fizikalna merjenja I (FIZ-3)\, Vaje (V)\, [1]
DTSTART;TZID=Europe/Ljubljana:20240423T130000
DTEND;TZID=Europe/Ljubljana:20240423T150000
DTSTAMP:20260422T000416Z
UID:fmf-AFLABS-URNIK:premaknjeno-srecanje:124688
ATTENDEE:3. letnik (Fizika, 1. stopnja)
CATEGORIES:Entry,Standard
COLOR:darkgreen
DESCRIPTION:Predmet: Fizikalna merjenja I (FIZ-3)\, Vaje (V)\, [1]\nLetnik
 i: 3. letnik (Fizika\, 1. stopnja)\nIzvajalci: Gregor Kladnik\nProstor: F4
LOCATION:F4
ORGANIZER:Gregor Kladnik
RELATED-TO:fmf-AFLABS-URNIK:srecanje:10507
X-WR-TIMEZONE:Europe/Ljubljana
END:VEVENT
BEGIN:VEVENT
SUMMARY:Fizikalna merjenja I (FIZ-3)\, Vaje (V)\, [1]
DTSTART;TZID=Europe/Ljubljana:20240430T130000
DTEND;TZID=Europe/Ljubljana:20240430T150000
DTSTAMP:20260422T000416Z
UID:fmf-AFLABS-URNIK:premaknjeno-srecanje:124689
ATTENDEE:3. letnik (Fizika, 1. stopnja)
CATEGORIES:Entry,Standard
COLOR:darkgreen
DESCRIPTION:Predmet: Fizikalna merjenja I (FIZ-3)\, Vaje (V)\, [1]\nLetnik
 i: 3. letnik (Fizika\, 1. stopnja)\nIzvajalci: Gregor Kladnik\nProstor: F4
LOCATION:F4
ORGANIZER:Gregor Kladnik
RELATED-TO:fmf-AFLABS-URNIK:srecanje:10507
X-WR-TIMEZONE:Europe/Ljubljana
END:VEVENT
BEGIN:VEVENT
SUMMARY:Fizikalna merjenja I (FIZ-3)\, Vaje (V)\, [1]
DTSTART;TZID=Europe/Ljubljana:20240507T130000
DTEND;TZID=Europe/Ljubljana:20240507T150000
DTSTAMP:20260422T000416Z
UID:fmf-AFLABS-URNIK:premaknjeno-srecanje:124690
ATTENDEE:3. letnik (Fizika, 1. stopnja)
CATEGORIES:Entry,Standard
COLOR:darkgreen
DESCRIPTION:Predmet: Fizikalna merjenja I (FIZ-3)\, Vaje (V)\, [1]\nLetnik
 i: 3. letnik (Fizika\, 1. stopnja)\nIzvajalci: Gregor Kladnik\nProstor: F4
LOCATION:F4
ORGANIZER:Gregor Kladnik
RELATED-TO:fmf-AFLABS-URNIK:srecanje:10507
X-WR-TIMEZONE:Europe/Ljubljana
END:VEVENT
BEGIN:VEVENT
SUMMARY:Fizikalna merjenja I (FIZ-3)\, Vaje (V)\, [1]
DTSTART;TZID=Europe/Ljubljana:20240514T130000
DTEND;TZID=Europe/Ljubljana:20240514T150000
DTSTAMP:20260422T000416Z
UID:fmf-AFLABS-URNIK:premaknjeno-srecanje:124691
ATTENDEE:3. letnik (Fizika, 1. stopnja)
CATEGORIES:Entry,Standard
COLOR:darkgreen
DESCRIPTION:Predmet: Fizikalna merjenja I (FIZ-3)\, Vaje (V)\, [1]\nLetnik
 i: 3. letnik (Fizika\, 1. stopnja)\nIzvajalci: Gregor Kladnik\nProstor: F4
LOCATION:F4
ORGANIZER:Gregor Kladnik
RELATED-TO:fmf-AFLABS-URNIK:srecanje:10507
X-WR-TIMEZONE:Europe/Ljubljana
END:VEVENT
BEGIN:VEVENT
SUMMARY:Fizikalna merjenja I (FIZ-3)\, Vaje (V)\, [1]
DTSTART;TZID=Europe/Ljubljana:20240521T130000
DTEND;TZID=Europe/Ljubljana:20240521T150000
DTSTAMP:20260422T000416Z
UID:fmf-AFLABS-URNIK:premaknjeno-srecanje:124692
ATTENDEE:3. letnik (Fizika, 1. stopnja)
CATEGORIES:Entry,Standard
COLOR:darkgreen
DESCRIPTION:Predmet: Fizikalna merjenja I (FIZ-3)\, Vaje (V)\, [1]\nLetnik
 i: 3. letnik (Fizika\, 1. stopnja)\nIzvajalci: Gregor Kladnik\nProstor: F4
LOCATION:F4
ORGANIZER:Gregor Kladnik
RELATED-TO:fmf-AFLABS-URNIK:srecanje:10507
X-WR-TIMEZONE:Europe/Ljubljana
END:VEVENT
BEGIN:VEVENT
SUMMARY:Fizikalna merjenja I (FIZ-3)\, Vaje (V)\, [1]
DTSTART;TZID=Europe/Ljubljana:20240528T130000
DTEND;TZID=Europe/Ljubljana:20240528T150000
DTSTAMP:20260422T000416Z
UID:fmf-AFLABS-URNIK:premaknjeno-srecanje:124693
ATTENDEE:3. letnik (Fizika, 1. stopnja)
CATEGORIES:Entry,Standard
COLOR:darkgreen
DESCRIPTION:Predmet: Fizikalna merjenja I (FIZ-3)\, Vaje (V)\, [1]\nLetnik
 i: 3. letnik (Fizika\, 1. stopnja)\nIzvajalci: Gregor Kladnik\nProstor: F4
LOCATION:F4
ORGANIZER:Gregor Kladnik
RELATED-TO:fmf-AFLABS-URNIK:srecanje:10507
X-WR-TIMEZONE:Europe/Ljubljana
END:VEVENT
BEGIN:VEVENT
SUMMARY:Praktikum aplikativne fizike IV (APF-2)\, Laboratorijske vaje (L)\
 , [1]
DTSTART;TZID=Europe/Ljubljana:20240220T090000
DTEND;TZID=Europe/Ljubljana:20240220T120000
DTSTAMP:20260422T000416Z
UID:fmf-AFLABS-URNIK:premaknjeno-srecanje:134742
ATTENDEE:2. letnik (Aplikativna fizika)
CATEGORIES:Entry,Standard
COLOR:darkgreen
DESCRIPTION:Predmet: Praktikum aplikativne fizike IV (APF-2)\, Laboratorij
 ske vaje (L)\, [1]\nLetniki: 2. letnik (Aplikativna fizika)\nIzvajalci: Gr
 egor Kladnik\nProstor: Praktikum 2
LOCATION:Praktikum 2
ORGANIZER:Gregor Kladnik
RELATED-TO:fmf-AFLABS-URNIK:srecanje:10137
X-WR-TIMEZONE:Europe/Ljubljana
END:VEVENT
BEGIN:VEVENT
SUMMARY:Praktikum aplikativne fizike IV (APF-2)\, Laboratorijske vaje (L)\
 , [1]
DTSTART;TZID=Europe/Ljubljana:20240227T090000
DTEND;TZID=Europe/Ljubljana:20240227T120000
DTSTAMP:20260422T000416Z
UID:fmf-AFLABS-URNIK:premaknjeno-srecanje:134743
ATTENDEE:2. letnik (Aplikativna fizika)
CATEGORIES:Entry,Standard
COLOR:darkgreen
DESCRIPTION:Predmet: Praktikum aplikativne fizike IV (APF-2)\, Laboratorij
 ske vaje (L)\, [1]\nLetniki: 2. letnik (Aplikativna fizika)\nIzvajalci: Gr
 egor Kladnik\nProstor: Praktikum 2
LOCATION:Praktikum 2
ORGANIZER:Gregor Kladnik
RELATED-TO:fmf-AFLABS-URNIK:srecanje:10137
X-WR-TIMEZONE:Europe/Ljubljana
END:VEVENT
BEGIN:VEVENT
SUMMARY:Praktikum aplikativne fizike IV (APF-2)\, Laboratorijske vaje (L)\
 , [1]
DTSTART;TZID=Europe/Ljubljana:20240305T090000
DTEND;TZID=Europe/Ljubljana:20240305T120000
DTSTAMP:20260422T000416Z
UID:fmf-AFLABS-URNIK:premaknjeno-srecanje:134744
ATTENDEE:2. letnik (Aplikativna fizika)
CATEGORIES:Entry,Standard
COLOR:darkgreen
DESCRIPTION:Predmet: Praktikum aplikativne fizike IV (APF-2)\, Laboratorij
 ske vaje (L)\, [1]\nLetniki: 2. letnik (Aplikativna fizika)\nIzvajalci: Gr
 egor Kladnik\nProstor: Praktikum 2
LOCATION:Praktikum 2
ORGANIZER:Gregor Kladnik
RELATED-TO:fmf-AFLABS-URNIK:srecanje:10137
X-WR-TIMEZONE:Europe/Ljubljana
END:VEVENT
BEGIN:VEVENT
SUMMARY:Praktikum aplikativne fizike IV (APF-2)\, Laboratorijske vaje (L)\
 , [1]
DTSTART;TZID=Europe/Ljubljana:20240312T090000
DTEND;TZID=Europe/Ljubljana:20240312T120000
DTSTAMP:20260422T000416Z
UID:fmf-AFLABS-URNIK:premaknjeno-srecanje:134745
ATTENDEE:2. letnik (Aplikativna fizika)
CATEGORIES:Entry,Standard
COLOR:darkgreen
DESCRIPTION:Predmet: Praktikum aplikativne fizike IV (APF-2)\, Laboratorij
 ske vaje (L)\, [1]\nLetniki: 2. letnik (Aplikativna fizika)\nIzvajalci: Gr
 egor Kladnik\nProstor: Praktikum 2
LOCATION:Praktikum 2
ORGANIZER:Gregor Kladnik
RELATED-TO:fmf-AFLABS-URNIK:srecanje:10137
X-WR-TIMEZONE:Europe/Ljubljana
END:VEVENT
BEGIN:VEVENT
SUMMARY:Praktikum aplikativne fizike IV (APF-2)\, Laboratorijske vaje (L)\
 , [1]
DTSTART;TZID=Europe/Ljubljana:20240319T090000
DTEND;TZID=Europe/Ljubljana:20240319T120000
DTSTAMP:20260422T000416Z
UID:fmf-AFLABS-URNIK:premaknjeno-srecanje:134746
ATTENDEE:2. letnik (Aplikativna fizika)
CATEGORIES:Entry,Standard
COLOR:darkgreen
DESCRIPTION:Predmet: Praktikum aplikativne fizike IV (APF-2)\, Laboratorij
 ske vaje (L)\, [1]\nLetniki: 2. letnik (Aplikativna fizika)\nIzvajalci: Gr
 egor Kladnik\nProstor: Praktikum 2
LOCATION:Praktikum 2
ORGANIZER:Gregor Kladnik
RELATED-TO:fmf-AFLABS-URNIK:srecanje:10137
X-WR-TIMEZONE:Europe/Ljubljana
END:VEVENT
BEGIN:VEVENT
SUMMARY:Praktikum aplikativne fizike IV (APF-2)\, Laboratorijske vaje (L)\
 , [1]
DTSTART;TZID=Europe/Ljubljana:20240326T090000
DTEND;TZID=Europe/Ljubljana:20240326T120000
DTSTAMP:20260422T000416Z
UID:fmf-AFLABS-URNIK:premaknjeno-srecanje:134747
ATTENDEE:2. letnik (Aplikativna fizika)
CATEGORIES:Entry,Standard
COLOR:darkgreen
DESCRIPTION:Predmet: Praktikum aplikativne fizike IV (APF-2)\, Laboratorij
 ske vaje (L)\, [1]\nLetniki: 2. letnik (Aplikativna fizika)\nIzvajalci: Gr
 egor Kladnik\nProstor: Praktikum 2
LOCATION:Praktikum 2
ORGANIZER:Gregor Kladnik
RELATED-TO:fmf-AFLABS-URNIK:srecanje:10137
X-WR-TIMEZONE:Europe/Ljubljana
END:VEVENT
BEGIN:VEVENT
SUMMARY:Praktikum aplikativne fizike IV (APF-2)\, Laboratorijske vaje (L)\
 , [1]
DTSTART;TZID=Europe/Ljubljana:20240402T090000
DTEND;TZID=Europe/Ljubljana:20240402T120000
DTSTAMP:20260422T000416Z
UID:fmf-AFLABS-URNIK:premaknjeno-srecanje:134748
ATTENDEE:2. letnik (Aplikativna fizika)
CATEGORIES:Entry,Standard
COLOR:darkgreen
DESCRIPTION:Predmet: Praktikum aplikativne fizike IV (APF-2)\, Laboratorij
 ske vaje (L)\, [1]\nLetniki: 2. letnik (Aplikativna fizika)\nIzvajalci: Gr
 egor Kladnik\nProstor: Praktikum 2
LOCATION:Praktikum 2
ORGANIZER:Gregor Kladnik
RELATED-TO:fmf-AFLABS-URNIK:srecanje:10137
X-WR-TIMEZONE:Europe/Ljubljana
END:VEVENT
BEGIN:VEVENT
SUMMARY:Praktikum aplikativne fizike IV (APF-2)\, Laboratorijske vaje (L)\
 , [1]
DTSTART;TZID=Europe/Ljubljana:20240409T090000
DTEND;TZID=Europe/Ljubljana:20240409T120000
DTSTAMP:20260422T000416Z
UID:fmf-AFLABS-URNIK:premaknjeno-srecanje:134749
ATTENDEE:2. letnik (Aplikativna fizika)
CATEGORIES:Entry,Standard
COLOR:darkgreen
DESCRIPTION:Predmet: Praktikum aplikativne fizike IV (APF-2)\, Laboratorij
 ske vaje (L)\, [1]\nLetniki: 2. letnik (Aplikativna fizika)\nIzvajalci: Gr
 egor Kladnik\nProstor: Praktikum 2
LOCATION:Praktikum 2
ORGANIZER:Gregor Kladnik
RELATED-TO:fmf-AFLABS-URNIK:srecanje:10137
X-WR-TIMEZONE:Europe/Ljubljana
END:VEVENT
BEGIN:VEVENT
SUMMARY:Praktikum aplikativne fizike IV (APF-2)\, Laboratorijske vaje (L)\
 , [1]
DTSTART;TZID=Europe/Ljubljana:20240416T090000
DTEND;TZID=Europe/Ljubljana:20240416T120000
DTSTAMP:20260422T000416Z
UID:fmf-AFLABS-URNIK:premaknjeno-srecanje:134750
ATTENDEE:2. letnik (Aplikativna fizika)
CATEGORIES:Entry,Standard
COLOR:darkgreen
DESCRIPTION:Predmet: Praktikum aplikativne fizike IV (APF-2)\, Laboratorij
 ske vaje (L)\, [1]\nLetniki: 2. letnik (Aplikativna fizika)\nIzvajalci: Gr
 egor Kladnik\nProstor: Praktikum 2
LOCATION:Praktikum 2
ORGANIZER:Gregor Kladnik
RELATED-TO:fmf-AFLABS-URNIK:srecanje:10137
X-WR-TIMEZONE:Europe/Ljubljana
END:VEVENT
BEGIN:VEVENT
SUMMARY:Praktikum aplikativne fizike IV (APF-2)\, Laboratorijske vaje (L)\
 , [1]
DTSTART;TZID=Europe/Ljubljana:20240423T090000
DTEND;TZID=Europe/Ljubljana:20240423T120000
DTSTAMP:20260422T000416Z
UID:fmf-AFLABS-URNIK:premaknjeno-srecanje:134751
ATTENDEE:2. letnik (Aplikativna fizika)
CATEGORIES:Entry,Standard
COLOR:darkgreen
DESCRIPTION:Predmet: Praktikum aplikativne fizike IV (APF-2)\, Laboratorij
 ske vaje (L)\, [1]\nLetniki: 2. letnik (Aplikativna fizika)\nIzvajalci: Gr
 egor Kladnik\nProstor: Praktikum 2
LOCATION:Praktikum 2
ORGANIZER:Gregor Kladnik
RELATED-TO:fmf-AFLABS-URNIK:srecanje:10137
X-WR-TIMEZONE:Europe/Ljubljana
END:VEVENT
BEGIN:VEVENT
SUMMARY:Praktikum aplikativne fizike IV (APF-2)\, Laboratorijske vaje (L)\
 , [1]
DTSTART;TZID=Europe/Ljubljana:20240430T090000
DTEND;TZID=Europe/Ljubljana:20240430T120000
DTSTAMP:20260422T000416Z
UID:fmf-AFLABS-URNIK:premaknjeno-srecanje:134752
ATTENDEE:2. letnik (Aplikativna fizika)
CATEGORIES:Entry,Standard
COLOR:darkgreen
DESCRIPTION:Predmet: Praktikum aplikativne fizike IV (APF-2)\, Laboratorij
 ske vaje (L)\, [1]\nLetniki: 2. letnik (Aplikativna fizika)\nIzvajalci: Gr
 egor Kladnik\nProstor: Praktikum 2
LOCATION:Praktikum 2
ORGANIZER:Gregor Kladnik
RELATED-TO:fmf-AFLABS-URNIK:srecanje:10137
X-WR-TIMEZONE:Europe/Ljubljana
END:VEVENT
BEGIN:VEVENT
SUMMARY:Praktikum aplikativne fizike IV (APF-2)\, Laboratorijske vaje (L)\
 , [1]
DTSTART;TZID=Europe/Ljubljana:20240507T090000
DTEND;TZID=Europe/Ljubljana:20240507T120000
DTSTAMP:20260422T000416Z
UID:fmf-AFLABS-URNIK:premaknjeno-srecanje:134753
ATTENDEE:2. letnik (Aplikativna fizika)
CATEGORIES:Entry,Standard
COLOR:darkgreen
DESCRIPTION:Predmet: Praktikum aplikativne fizike IV (APF-2)\, Laboratorij
 ske vaje (L)\, [1]\nLetniki: 2. letnik (Aplikativna fizika)\nIzvajalci: Gr
 egor Kladnik\nProstor: Praktikum 2
LOCATION:Praktikum 2
ORGANIZER:Gregor Kladnik
RELATED-TO:fmf-AFLABS-URNIK:srecanje:10137
X-WR-TIMEZONE:Europe/Ljubljana
END:VEVENT
BEGIN:VEVENT
SUMMARY:Praktikum aplikativne fizike IV (APF-2)\, Laboratorijske vaje (L)\
 , [1]
DTSTART;TZID=Europe/Ljubljana:20240514T090000
DTEND;TZID=Europe/Ljubljana:20240514T120000
DTSTAMP:20260422T000416Z
UID:fmf-AFLABS-URNIK:premaknjeno-srecanje:134754
ATTENDEE:2. letnik (Aplikativna fizika)
CATEGORIES:Entry,Standard
COLOR:darkgreen
DESCRIPTION:Predmet: Praktikum aplikativne fizike IV (APF-2)\, Laboratorij
 ske vaje (L)\, [1]\nLetniki: 2. letnik (Aplikativna fizika)\nIzvajalci: Gr
 egor Kladnik\nProstor: Praktikum 2
LOCATION:Praktikum 2
ORGANIZER:Gregor Kladnik
RELATED-TO:fmf-AFLABS-URNIK:srecanje:10137
X-WR-TIMEZONE:Europe/Ljubljana
END:VEVENT
BEGIN:VEVENT
SUMMARY:Praktikum aplikativne fizike IV (APF-2)\, Laboratorijske vaje (L)\
 , [1]
DTSTART;TZID=Europe/Ljubljana:20240521T090000
DTEND;TZID=Europe/Ljubljana:20240521T120000
DTSTAMP:20260422T000416Z
UID:fmf-AFLABS-URNIK:premaknjeno-srecanje:134755
ATTENDEE:2. letnik (Aplikativna fizika)
CATEGORIES:Entry,Standard
COLOR:darkgreen
DESCRIPTION:Predmet: Praktikum aplikativne fizike IV (APF-2)\, Laboratorij
 ske vaje (L)\, [1]\nLetniki: 2. letnik (Aplikativna fizika)\nIzvajalci: Gr
 egor Kladnik\nProstor: Praktikum 2
LOCATION:Praktikum 2
ORGANIZER:Gregor Kladnik
RELATED-TO:fmf-AFLABS-URNIK:srecanje:10137
X-WR-TIMEZONE:Europe/Ljubljana
END:VEVENT
BEGIN:VEVENT
SUMMARY:Praktikum aplikativne fizike IV (APF-2)\, Laboratorijske vaje (L)\
 , [1]
DTSTART;TZID=Europe/Ljubljana:20240528T090000
DTEND;TZID=Europe/Ljubljana:20240528T120000
DTSTAMP:20260422T000416Z
UID:fmf-AFLABS-URNIK:premaknjeno-srecanje:134756
ATTENDEE:2. letnik (Aplikativna fizika)
CATEGORIES:Entry,Standard
COLOR:darkgreen
DESCRIPTION:Predmet: Praktikum aplikativne fizike IV (APF-2)\, Laboratorij
 ske vaje (L)\, [1]\nLetniki: 2. letnik (Aplikativna fizika)\nIzvajalci: Gr
 egor Kladnik\nProstor: Praktikum 2
LOCATION:Praktikum 2
ORGANIZER:Gregor Kladnik
RELATED-TO:fmf-AFLABS-URNIK:srecanje:10137
X-WR-TIMEZONE:Europe/Ljubljana
END:VEVENT
BEGIN:VEVENT
SUMMARY:Fizikalna merjenja I (FIZ-3)\, Vaje (V)\, [2]
DTSTART;TZID=Europe/Ljubljana:20240221T140000
DTEND;TZID=Europe/Ljubljana:20240221T160000
DTSTAMP:20260422T000416Z
UID:fmf-AFLABS-URNIK:premaknjeno-srecanje:124694
ATTENDEE:3. letnik (Fizika, 1. stopnja)
CATEGORIES:Entry,Standard
COLOR:darkgreen
DESCRIPTION:Predmet: Fizikalna merjenja I (FIZ-3)\, Vaje (V)\, [2]\nLetnik
 i: 3. letnik (Fizika\, 1. stopnja)\nIzvajalci: Gregor Kladnik\nProstor: F2
LOCATION:F2
ORGANIZER:Gregor Kladnik
RELATED-TO:fmf-AFLABS-URNIK:srecanje:10685
X-WR-TIMEZONE:Europe/Ljubljana
END:VEVENT
BEGIN:VEVENT
SUMMARY:Fizikalna merjenja I (FIZ-3)\, Vaje (V)\, [2]
DTSTART;TZID=Europe/Ljubljana:20240228T140000
DTEND;TZID=Europe/Ljubljana:20240228T160000
DTSTAMP:20260422T000416Z
UID:fmf-AFLABS-URNIK:premaknjeno-srecanje:124695
ATTENDEE:3. letnik (Fizika, 1. stopnja)
CATEGORIES:Entry,Standard
COLOR:darkgreen
DESCRIPTION:Predmet: Fizikalna merjenja I (FIZ-3)\, Vaje (V)\, [2]\nLetnik
 i: 3. letnik (Fizika\, 1. stopnja)\nIzvajalci: Gregor Kladnik\nProstor: F2
LOCATION:F2
ORGANIZER:Gregor Kladnik
RELATED-TO:fmf-AFLABS-URNIK:srecanje:10685
X-WR-TIMEZONE:Europe/Ljubljana
END:VEVENT
BEGIN:VEVENT
SUMMARY:Fizikalna merjenja I (FIZ-3)\, Vaje (V)\, [2]
DTSTART;TZID=Europe/Ljubljana:20240306T140000
DTEND;TZID=Europe/Ljubljana:20240306T160000
DTSTAMP:20260422T000416Z
UID:fmf-AFLABS-URNIK:premaknjeno-srecanje:124696
ATTENDEE:3. letnik (Fizika, 1. stopnja)
CATEGORIES:Entry,Standard
COLOR:darkgreen
DESCRIPTION:Predmet: Fizikalna merjenja I (FIZ-3)\, Vaje (V)\, [2]\nLetnik
 i: 3. letnik (Fizika\, 1. stopnja)\nIzvajalci: Gregor Kladnik\nProstor: F2
LOCATION:F2
ORGANIZER:Gregor Kladnik
RELATED-TO:fmf-AFLABS-URNIK:srecanje:10685
X-WR-TIMEZONE:Europe/Ljubljana
END:VEVENT
BEGIN:VEVENT
SUMMARY:Fizikalna merjenja I (FIZ-3)\, Vaje (V)\, [2]
DTSTART;TZID=Europe/Ljubljana:20240313T140000
DTEND;TZID=Europe/Ljubljana:20240313T160000
DTSTAMP:20260422T000416Z
UID:fmf-AFLABS-URNIK:premaknjeno-srecanje:124697
ATTENDEE:3. letnik (Fizika, 1. stopnja)
CATEGORIES:Entry,Standard
COLOR:darkgreen
DESCRIPTION:Predmet: Fizikalna merjenja I (FIZ-3)\, Vaje (V)\, [2]\nLetnik
 i: 3. letnik (Fizika\, 1. stopnja)\nIzvajalci: Gregor Kladnik\nProstor: F2
LOCATION:F2
ORGANIZER:Gregor Kladnik
RELATED-TO:fmf-AFLABS-URNIK:srecanje:10685
X-WR-TIMEZONE:Europe/Ljubljana
END:VEVENT
BEGIN:VEVENT
SUMMARY:Fizikalna merjenja I (FIZ-3)\, Vaje (V)\, [2]
DTSTART;TZID=Europe/Ljubljana:20240320T140000
DTEND;TZID=Europe/Ljubljana:20240320T160000
DTSTAMP:20260422T000416Z
UID:fmf-AFLABS-URNIK:premaknjeno-srecanje:124698
ATTENDEE:3. letnik (Fizika, 1. stopnja)
CATEGORIES:Entry,Standard
COLOR:darkgreen
DESCRIPTION:Predmet: Fizikalna merjenja I (FIZ-3)\, Vaje (V)\, [2]\nLetnik
 i: 3. letnik (Fizika\, 1. stopnja)\nIzvajalci: Gregor Kladnik\nProstor: F2
LOCATION:F2
ORGANIZER:Gregor Kladnik
RELATED-TO:fmf-AFLABS-URNIK:srecanje:10685
X-WR-TIMEZONE:Europe/Ljubljana
END:VEVENT
BEGIN:VEVENT
SUMMARY:Fizikalna merjenja I (FIZ-3)\, Vaje (V)\, [2]
DTSTART;TZID=Europe/Ljubljana:20240327T140000
DTEND;TZID=Europe/Ljubljana:20240327T160000
DTSTAMP:20260422T000416Z
UID:fmf-AFLABS-URNIK:premaknjeno-srecanje:124699
ATTENDEE:3. letnik (Fizika, 1. stopnja)
CATEGORIES:Entry,Standard
COLOR:darkgreen
DESCRIPTION:Predmet: Fizikalna merjenja I (FIZ-3)\, Vaje (V)\, [2]\nLetnik
 i: 3. letnik (Fizika\, 1. stopnja)\nIzvajalci: Gregor Kladnik\nProstor: F2
LOCATION:F2
ORGANIZER:Gregor Kladnik
RELATED-TO:fmf-AFLABS-URNIK:srecanje:10685
X-WR-TIMEZONE:Europe/Ljubljana
END:VEVENT
BEGIN:VEVENT
SUMMARY:Fizikalna merjenja I (FIZ-3)\, Vaje (V)\, [2]
DTSTART;TZID=Europe/Ljubljana:20240403T140000
DTEND;TZID=Europe/Ljubljana:20240403T160000
DTSTAMP:20260422T000416Z
UID:fmf-AFLABS-URNIK:premaknjeno-srecanje:124700
ATTENDEE:3. letnik (Fizika, 1. stopnja)
CATEGORIES:Entry,Standard
COLOR:darkgreen
DESCRIPTION:Predmet: Fizikalna merjenja I (FIZ-3)\, Vaje (V)\, [2]\nLetnik
 i: 3. letnik (Fizika\, 1. stopnja)\nIzvajalci: Gregor Kladnik\nProstor: F2
LOCATION:F2
ORGANIZER:Gregor Kladnik
RELATED-TO:fmf-AFLABS-URNIK:srecanje:10685
X-WR-TIMEZONE:Europe/Ljubljana
END:VEVENT
BEGIN:VEVENT
SUMMARY:Fizikalna merjenja I (FIZ-3)\, Vaje (V)\, [2]
DTSTART;TZID=Europe/Ljubljana:20240410T140000
DTEND;TZID=Europe/Ljubljana:20240410T160000
DTSTAMP:20260422T000416Z
UID:fmf-AFLABS-URNIK:premaknjeno-srecanje:124701
ATTENDEE:3. letnik (Fizika, 1. stopnja)
CATEGORIES:Entry,Standard
COLOR:darkgreen
DESCRIPTION:Predmet: Fizikalna merjenja I (FIZ-3)\, Vaje (V)\, [2]\nLetnik
 i: 3. letnik (Fizika\, 1. stopnja)\nIzvajalci: Gregor Kladnik\nProstor: F2
LOCATION:F2
ORGANIZER:Gregor Kladnik
RELATED-TO:fmf-AFLABS-URNIK:srecanje:10685
X-WR-TIMEZONE:Europe/Ljubljana
END:VEVENT
BEGIN:VEVENT
SUMMARY:Fizikalna merjenja I (FIZ-3)\, Vaje (V)\, [2]
DTSTART;TZID=Europe/Ljubljana:20240417T140000
DTEND;TZID=Europe/Ljubljana:20240417T160000
DTSTAMP:20260422T000416Z
UID:fmf-AFLABS-URNIK:premaknjeno-srecanje:124702
ATTENDEE:3. letnik (Fizika, 1. stopnja)
CATEGORIES:Entry,Standard
COLOR:darkgreen
DESCRIPTION:Predmet: Fizikalna merjenja I (FIZ-3)\, Vaje (V)\, [2]\nLetnik
 i: 3. letnik (Fizika\, 1. stopnja)\nIzvajalci: Gregor Kladnik\nProstor: F2
LOCATION:F2
ORGANIZER:Gregor Kladnik
RELATED-TO:fmf-AFLABS-URNIK:srecanje:10685
X-WR-TIMEZONE:Europe/Ljubljana
END:VEVENT
BEGIN:VEVENT
SUMMARY:Fizikalna merjenja I (FIZ-3)\, Vaje (V)\, [2]
DTSTART;TZID=Europe/Ljubljana:20240424T140000
DTEND;TZID=Europe/Ljubljana:20240424T160000
DTSTAMP:20260422T000416Z
UID:fmf-AFLABS-URNIK:premaknjeno-srecanje:124703
ATTENDEE:3. letnik (Fizika, 1. stopnja)
CATEGORIES:Entry,Standard
COLOR:darkgreen
DESCRIPTION:Predmet: Fizikalna merjenja I (FIZ-3)\, Vaje (V)\, [2]\nLetnik
 i: 3. letnik (Fizika\, 1. stopnja)\nIzvajalci: Gregor Kladnik\nProstor: F2
LOCATION:F2
ORGANIZER:Gregor Kladnik
RELATED-TO:fmf-AFLABS-URNIK:srecanje:10685
X-WR-TIMEZONE:Europe/Ljubljana
END:VEVENT
BEGIN:VEVENT
SUMMARY:Fizikalna merjenja I (FIZ-3)\, Vaje (V)\, [2]
DTSTART;TZID=Europe/Ljubljana:20240501T140000
DTEND;TZID=Europe/Ljubljana:20240501T160000
DTSTAMP:20260422T000416Z
UID:fmf-AFLABS-URNIK:premaknjeno-srecanje:124704
ATTENDEE:3. letnik (Fizika, 1. stopnja)
CATEGORIES:Entry,Standard
COLOR:darkgreen
DESCRIPTION:Predmet: Fizikalna merjenja I (FIZ-3)\, Vaje (V)\, [2]\nLetnik
 i: 3. letnik (Fizika\, 1. stopnja)\nIzvajalci: Gregor Kladnik\nProstor: F2
LOCATION:F2
ORGANIZER:Gregor Kladnik
RELATED-TO:fmf-AFLABS-URNIK:srecanje:10685
X-WR-TIMEZONE:Europe/Ljubljana
END:VEVENT
BEGIN:VEVENT
SUMMARY:Fizikalna merjenja I (FIZ-3)\, Vaje (V)\, [2]
DTSTART;TZID=Europe/Ljubljana:20240508T140000
DTEND;TZID=Europe/Ljubljana:20240508T160000
DTSTAMP:20260422T000416Z
UID:fmf-AFLABS-URNIK:premaknjeno-srecanje:124705
ATTENDEE:3. letnik (Fizika, 1. stopnja)
CATEGORIES:Entry,Standard
COLOR:darkgreen
DESCRIPTION:Predmet: Fizikalna merjenja I (FIZ-3)\, Vaje (V)\, [2]\nLetnik
 i: 3. letnik (Fizika\, 1. stopnja)\nIzvajalci: Gregor Kladnik\nProstor: F2
LOCATION:F2
ORGANIZER:Gregor Kladnik
RELATED-TO:fmf-AFLABS-URNIK:srecanje:10685
X-WR-TIMEZONE:Europe/Ljubljana
END:VEVENT
BEGIN:VEVENT
SUMMARY:Fizikalna merjenja I (FIZ-3)\, Vaje (V)\, [2]
DTSTART;TZID=Europe/Ljubljana:20240515T140000
DTEND;TZID=Europe/Ljubljana:20240515T160000
DTSTAMP:20260422T000416Z
UID:fmf-AFLABS-URNIK:premaknjeno-srecanje:124706
ATTENDEE:3. letnik (Fizika, 1. stopnja)
CATEGORIES:Entry,Standard
COLOR:darkgreen
DESCRIPTION:Predmet: Fizikalna merjenja I (FIZ-3)\, Vaje (V)\, [2]\nLetnik
 i: 3. letnik (Fizika\, 1. stopnja)\nIzvajalci: Gregor Kladnik\nProstor: F2
LOCATION:F2
ORGANIZER:Gregor Kladnik
RELATED-TO:fmf-AFLABS-URNIK:srecanje:10685
X-WR-TIMEZONE:Europe/Ljubljana
END:VEVENT
BEGIN:VEVENT
SUMMARY:Fizikalna merjenja I (FIZ-3)\, Vaje (V)\, [2]
DTSTART;TZID=Europe/Ljubljana:20240522T140000
DTEND;TZID=Europe/Ljubljana:20240522T160000
DTSTAMP:20260422T000416Z
UID:fmf-AFLABS-URNIK:premaknjeno-srecanje:124707
ATTENDEE:3. letnik (Fizika, 1. stopnja)
CATEGORIES:Entry,Standard
COLOR:darkgreen
DESCRIPTION:Predmet: Fizikalna merjenja I (FIZ-3)\, Vaje (V)\, [2]\nLetnik
 i: 3. letnik (Fizika\, 1. stopnja)\nIzvajalci: Gregor Kladnik\nProstor: F2
LOCATION:F2
ORGANIZER:Gregor Kladnik
RELATED-TO:fmf-AFLABS-URNIK:srecanje:10685
X-WR-TIMEZONE:Europe/Ljubljana
END:VEVENT
BEGIN:VEVENT
SUMMARY:Fizikalna merjenja I (FIZ-3)\, Vaje (V)\, [2]
DTSTART;TZID=Europe/Ljubljana:20240529T140000
DTEND;TZID=Europe/Ljubljana:20240529T160000
DTSTAMP:20260422T000416Z
UID:fmf-AFLABS-URNIK:premaknjeno-srecanje:124708
ATTENDEE:3. letnik (Fizika, 1. stopnja)
CATEGORIES:Entry,Standard
COLOR:darkgreen
DESCRIPTION:Predmet: Fizikalna merjenja I (FIZ-3)\, Vaje (V)\, [2]\nLetnik
 i: 3. letnik (Fizika\, 1. stopnja)\nIzvajalci: Gregor Kladnik\nProstor: F2
LOCATION:F2
ORGANIZER:Gregor Kladnik
RELATED-TO:fmf-AFLABS-URNIK:srecanje:10685
X-WR-TIMEZONE:Europe/Ljubljana
END:VEVENT
BEGIN:VEVENT
SUMMARY:Nadomeščanje odpadlih vaj iz Fizikalnih merjenj I
DTSTART;TZID=Europe/Ljubljana:20240308T110000
DTEND;TZID=Europe/Ljubljana:20240308T130000
DTSTAMP:20260422T000416Z
UID:fmf-AFLABS-URNIK:rezervacija:15374
ATTENDEE:3. letnik (Fizika, 1. stopnja)
CATEGORIES:Reservation
COLOR:royalblue
DESCRIPTION:Predmeti: Fizikalna merjenja I (FIZ-3)\nLetniki: 3. letnik (Fi
 zika\, 1. stopnja)\nIzvajalci: Gregor Kladnik\nProstori: F1
LOCATION:F1
ORGANIZER:Gregor Kladnik
X-WR-TIMEZONE:Europe/Ljubljana
END:VEVENT
END:VCALENDAR
