BEGIN:VCALENDAR
VERSION:2.0
PRODID:-//AFLabs urnik izvoz - fmf//aflabs.si//SI
DTSTAMP:20260419T215649Z
NAME:UL FMF urnik
REFRESH-INTERVAL:PT1H
SOURCE:https://urnik.fmf.uni-lj.si/teacher/105?day=2024-12-02&export=1
URL:https://urnik.fmf.uni-lj.si/teacher/105?day=2024-12-02&export=1
X-PUBLISHED-TTL:PT1H
X-WR-CALNAME:UL FMF urnik
X-WR-TIMEZONE:Europe/Ljubljana
BEGIN:VTIMEZONE
TZID:Europe/Ljubljana
BEGIN:DAYLIGHT
DTSTART:20260329T020000
RDATE:20260329T020000
RDATE:20270328T020000
TZNAME:CEST
TZOFFSETFROM:+0100
TZOFFSETTO:+0200
END:DAYLIGHT
BEGIN:STANDARD
DTSTART:20261025T030000
RDATE:20261025T030000
RDATE:20271031T030000
TZNAME:CET
TZOFFSETFROM:+0200
TZOFFSETTO:+0100
END:STANDARD
END:VTIMEZONE
BEGIN:VEVENT
SUMMARY:Praktikum aplikativne fizike III (APF-2)\, Laboratorijske vaje (L)
DTSTART;TZID=Europe/Ljubljana:20241003T080000
DTEND;TZID=Europe/Ljubljana:20241003T110000
DTSTAMP:20260419T215649Z
UID:fmf-AFLABS-URNIK:premaknjeno-srecanje:183637
ATTENDEE:2. letnik (Aplikativna fizika)
CATEGORIES:Entry,Standard
COLOR:darkgreen
DESCRIPTION:Predmet: Praktikum aplikativne fizike III (APF-2)\, Laboratori
 jske vaje (L)\nLetniki: 2. letnik (Aplikativna fizika)\nIzvajalci: Gregor 
 Kladnik\nProstor: Praktikum 2
LOCATION:Praktikum 2
ORGANIZER:Gregor Kladnik
RELATED-TO:fmf-AFLABS-URNIK:srecanje:13962
X-WR-TIMEZONE:Europe/Ljubljana
END:VEVENT
BEGIN:VEVENT
SUMMARY:Praktikum aplikativne fizike III (APF-2)\, Laboratorijske vaje (L)
DTSTART;TZID=Europe/Ljubljana:20241010T080000
DTEND;TZID=Europe/Ljubljana:20241010T110000
DTSTAMP:20260419T215649Z
UID:fmf-AFLABS-URNIK:premaknjeno-srecanje:183638
ATTENDEE:2. letnik (Aplikativna fizika)
CATEGORIES:Entry,Standard
COLOR:darkgreen
DESCRIPTION:Predmet: Praktikum aplikativne fizike III (APF-2)\, Laboratori
 jske vaje (L)\nLetniki: 2. letnik (Aplikativna fizika)\nIzvajalci: Gregor 
 Kladnik\nProstor: Praktikum 2
LOCATION:Praktikum 2
ORGANIZER:Gregor Kladnik
RELATED-TO:fmf-AFLABS-URNIK:srecanje:13962
X-WR-TIMEZONE:Europe/Ljubljana
END:VEVENT
BEGIN:VEVENT
SUMMARY:Praktikum aplikativne fizike III (APF-2)\, Laboratorijske vaje (L)
DTSTART;TZID=Europe/Ljubljana:20241017T080000
DTEND;TZID=Europe/Ljubljana:20241017T110000
DTSTAMP:20260419T215649Z
UID:fmf-AFLABS-URNIK:premaknjeno-srecanje:183639
ATTENDEE:2. letnik (Aplikativna fizika)
CATEGORIES:Entry,Standard
COLOR:darkgreen
DESCRIPTION:Predmet: Praktikum aplikativne fizike III (APF-2)\, Laboratori
 jske vaje (L)\nLetniki: 2. letnik (Aplikativna fizika)\nIzvajalci: Gregor 
 Kladnik\nProstor: Praktikum 2
LOCATION:Praktikum 2
ORGANIZER:Gregor Kladnik
RELATED-TO:fmf-AFLABS-URNIK:srecanje:13962
X-WR-TIMEZONE:Europe/Ljubljana
END:VEVENT
BEGIN:VEVENT
SUMMARY:Praktikum aplikativne fizike III (APF-2)\, Laboratorijske vaje (L)
DTSTART;TZID=Europe/Ljubljana:20241024T080000
DTEND;TZID=Europe/Ljubljana:20241024T110000
DTSTAMP:20260419T215649Z
UID:fmf-AFLABS-URNIK:premaknjeno-srecanje:183640
ATTENDEE:2. letnik (Aplikativna fizika)
CATEGORIES:Entry,Standard
COLOR:darkgreen
DESCRIPTION:Predmet: Praktikum aplikativne fizike III (APF-2)\, Laboratori
 jske vaje (L)\nLetniki: 2. letnik (Aplikativna fizika)\nIzvajalci: Gregor 
 Kladnik\nProstor: Praktikum 2
LOCATION:Praktikum 2
ORGANIZER:Gregor Kladnik
RELATED-TO:fmf-AFLABS-URNIK:srecanje:13962
X-WR-TIMEZONE:Europe/Ljubljana
END:VEVENT
BEGIN:VEVENT
SUMMARY:Praktikum aplikativne fizike III (APF-2)\, Laboratorijske vaje (L)
DTSTART;TZID=Europe/Ljubljana:20241031T080000
DTEND;TZID=Europe/Ljubljana:20241031T110000
DTSTAMP:20260419T215649Z
UID:fmf-AFLABS-URNIK:premaknjeno-srecanje:183641
ATTENDEE:2. letnik (Aplikativna fizika)
CATEGORIES:Entry,Standard
COLOR:darkgreen
DESCRIPTION:Predmet: Praktikum aplikativne fizike III (APF-2)\, Laboratori
 jske vaje (L)\nLetniki: 2. letnik (Aplikativna fizika)\nIzvajalci: Gregor 
 Kladnik\nProstor: Praktikum 2
LOCATION:Praktikum 2
ORGANIZER:Gregor Kladnik
RELATED-TO:fmf-AFLABS-URNIK:srecanje:13962
X-WR-TIMEZONE:Europe/Ljubljana
END:VEVENT
BEGIN:VEVENT
SUMMARY:Praktikum aplikativne fizike III (APF-2)\, Laboratorijske vaje (L)
DTSTART;TZID=Europe/Ljubljana:20241107T080000
DTEND;TZID=Europe/Ljubljana:20241107T110000
DTSTAMP:20260419T215649Z
UID:fmf-AFLABS-URNIK:premaknjeno-srecanje:183642
ATTENDEE:2. letnik (Aplikativna fizika)
CATEGORIES:Entry,Standard
COLOR:darkgreen
DESCRIPTION:Predmet: Praktikum aplikativne fizike III (APF-2)\, Laboratori
 jske vaje (L)\nLetniki: 2. letnik (Aplikativna fizika)\nIzvajalci: Gregor 
 Kladnik\nProstor: Praktikum 2
LOCATION:Praktikum 2
ORGANIZER:Gregor Kladnik
RELATED-TO:fmf-AFLABS-URNIK:srecanje:13962
X-WR-TIMEZONE:Europe/Ljubljana
END:VEVENT
BEGIN:VEVENT
SUMMARY:Praktikum aplikativne fizike III (APF-2)\, Laboratorijske vaje (L)
DTSTART;TZID=Europe/Ljubljana:20241114T080000
DTEND;TZID=Europe/Ljubljana:20241114T110000
DTSTAMP:20260419T215649Z
UID:fmf-AFLABS-URNIK:premaknjeno-srecanje:183643
ATTENDEE:2. letnik (Aplikativna fizika)
CATEGORIES:Entry,Standard
COLOR:darkgreen
DESCRIPTION:Predmet: Praktikum aplikativne fizike III (APF-2)\, Laboratori
 jske vaje (L)\nLetniki: 2. letnik (Aplikativna fizika)\nIzvajalci: Gregor 
 Kladnik\nProstor: Praktikum 2
LOCATION:Praktikum 2
ORGANIZER:Gregor Kladnik
RELATED-TO:fmf-AFLABS-URNIK:srecanje:13962
X-WR-TIMEZONE:Europe/Ljubljana
END:VEVENT
BEGIN:VEVENT
SUMMARY:Praktikum aplikativne fizike III (APF-2)\, Laboratorijske vaje (L)
DTSTART;TZID=Europe/Ljubljana:20241121T080000
DTEND;TZID=Europe/Ljubljana:20241121T110000
DTSTAMP:20260419T215649Z
UID:fmf-AFLABS-URNIK:premaknjeno-srecanje:183644
ATTENDEE:2. letnik (Aplikativna fizika)
CATEGORIES:Entry,Standard
COLOR:darkgreen
DESCRIPTION:Predmet: Praktikum aplikativne fizike III (APF-2)\, Laboratori
 jske vaje (L)\nLetniki: 2. letnik (Aplikativna fizika)\nIzvajalci: Gregor 
 Kladnik\nProstor: Praktikum 2
LOCATION:Praktikum 2
ORGANIZER:Gregor Kladnik
RELATED-TO:fmf-AFLABS-URNIK:srecanje:13962
X-WR-TIMEZONE:Europe/Ljubljana
END:VEVENT
BEGIN:VEVENT
SUMMARY:Praktikum aplikativne fizike III (APF-2)\, Laboratorijske vaje (L)
DTSTART;TZID=Europe/Ljubljana:20241128T080000
DTEND;TZID=Europe/Ljubljana:20241128T110000
DTSTAMP:20260419T215649Z
UID:fmf-AFLABS-URNIK:premaknjeno-srecanje:183645
ATTENDEE:2. letnik (Aplikativna fizika)
CATEGORIES:Entry,Standard
COLOR:darkgreen
DESCRIPTION:Predmet: Praktikum aplikativne fizike III (APF-2)\, Laboratori
 jske vaje (L)\nLetniki: 2. letnik (Aplikativna fizika)\nIzvajalci: Gregor 
 Kladnik\nProstor: Praktikum 2
LOCATION:Praktikum 2
ORGANIZER:Gregor Kladnik
RELATED-TO:fmf-AFLABS-URNIK:srecanje:13962
X-WR-TIMEZONE:Europe/Ljubljana
END:VEVENT
BEGIN:VEVENT
SUMMARY:Praktikum aplikativne fizike III (APF-2)\, Laboratorijske vaje (L)
DTSTART;TZID=Europe/Ljubljana:20241205T080000
DTEND;TZID=Europe/Ljubljana:20241205T110000
DTSTAMP:20260419T215649Z
UID:fmf-AFLABS-URNIK:premaknjeno-srecanje:183646
ATTENDEE:2. letnik (Aplikativna fizika)
CATEGORIES:Entry,Standard
COLOR:darkgreen
DESCRIPTION:Predmet: Praktikum aplikativne fizike III (APF-2)\, Laboratori
 jske vaje (L)\nLetniki: 2. letnik (Aplikativna fizika)\nIzvajalci: Gregor 
 Kladnik\nProstor: Praktikum 2
LOCATION:Praktikum 2
ORGANIZER:Gregor Kladnik
RELATED-TO:fmf-AFLABS-URNIK:srecanje:13962
X-WR-TIMEZONE:Europe/Ljubljana
END:VEVENT
BEGIN:VEVENT
SUMMARY:Praktikum aplikativne fizike III (APF-2)\, Laboratorijske vaje (L)
DTSTART;TZID=Europe/Ljubljana:20241212T080000
DTEND;TZID=Europe/Ljubljana:20241212T110000
DTSTAMP:20260419T215649Z
UID:fmf-AFLABS-URNIK:premaknjeno-srecanje:183647
ATTENDEE:2. letnik (Aplikativna fizika)
CATEGORIES:Entry,Standard
COLOR:darkgreen
DESCRIPTION:Predmet: Praktikum aplikativne fizike III (APF-2)\, Laboratori
 jske vaje (L)\nLetniki: 2. letnik (Aplikativna fizika)\nIzvajalci: Gregor 
 Kladnik\nProstor: Praktikum 2
LOCATION:Praktikum 2
ORGANIZER:Gregor Kladnik
RELATED-TO:fmf-AFLABS-URNIK:srecanje:13962
X-WR-TIMEZONE:Europe/Ljubljana
END:VEVENT
BEGIN:VEVENT
SUMMARY:Praktikum aplikativne fizike III (APF-2)\, Laboratorijske vaje (L)
DTSTART;TZID=Europe/Ljubljana:20241219T080000
DTEND;TZID=Europe/Ljubljana:20241219T110000
DTSTAMP:20260419T215649Z
UID:fmf-AFLABS-URNIK:premaknjeno-srecanje:183648
ATTENDEE:2. letnik (Aplikativna fizika)
CATEGORIES:Entry,Standard
COLOR:darkgreen
DESCRIPTION:Predmet: Praktikum aplikativne fizike III (APF-2)\, Laboratori
 jske vaje (L)\nLetniki: 2. letnik (Aplikativna fizika)\nIzvajalci: Gregor 
 Kladnik\nProstor: Praktikum 2
LOCATION:Praktikum 2
ORGANIZER:Gregor Kladnik
RELATED-TO:fmf-AFLABS-URNIK:srecanje:13962
X-WR-TIMEZONE:Europe/Ljubljana
END:VEVENT
BEGIN:VEVENT
SUMMARY:Praktikum aplikativne fizike III (APF-2)\, Laboratorijske vaje (L)
DTSTART;TZID=Europe/Ljubljana:20241226T080000
DTEND;TZID=Europe/Ljubljana:20241226T110000
DTSTAMP:20260419T215649Z
UID:fmf-AFLABS-URNIK:premaknjeno-srecanje:183649
ATTENDEE:2. letnik (Aplikativna fizika)
CATEGORIES:Entry,Standard
COLOR:darkgreen
DESCRIPTION:Predmet: Praktikum aplikativne fizike III (APF-2)\, Laboratori
 jske vaje (L)\nLetniki: 2. letnik (Aplikativna fizika)\nIzvajalci: Gregor 
 Kladnik\nProstor: Praktikum 2
LOCATION:Praktikum 2
ORGANIZER:Gregor Kladnik
RELATED-TO:fmf-AFLABS-URNIK:srecanje:13962
X-WR-TIMEZONE:Europe/Ljubljana
END:VEVENT
BEGIN:VEVENT
SUMMARY:Praktikum aplikativne fizike III (APF-2)\, Laboratorijske vaje (L)
DTSTART;TZID=Europe/Ljubljana:20250102T080000
DTEND;TZID=Europe/Ljubljana:20250102T110000
DTSTAMP:20260419T215649Z
UID:fmf-AFLABS-URNIK:premaknjeno-srecanje:183650
ATTENDEE:2. letnik (Aplikativna fizika)
CATEGORIES:Entry,Standard
COLOR:darkgreen
DESCRIPTION:Predmet: Praktikum aplikativne fizike III (APF-2)\, Laboratori
 jske vaje (L)\nLetniki: 2. letnik (Aplikativna fizika)\nIzvajalci: Gregor 
 Kladnik\nProstor: Praktikum 2
LOCATION:Praktikum 2
ORGANIZER:Gregor Kladnik
RELATED-TO:fmf-AFLABS-URNIK:srecanje:13962
X-WR-TIMEZONE:Europe/Ljubljana
END:VEVENT
BEGIN:VEVENT
SUMMARY:Praktikum aplikativne fizike III (APF-2)\, Laboratorijske vaje (L)
DTSTART;TZID=Europe/Ljubljana:20250109T080000
DTEND;TZID=Europe/Ljubljana:20250109T110000
DTSTAMP:20260419T215649Z
UID:fmf-AFLABS-URNIK:premaknjeno-srecanje:183651
ATTENDEE:2. letnik (Aplikativna fizika)
CATEGORIES:Entry,Standard
COLOR:darkgreen
DESCRIPTION:Predmet: Praktikum aplikativne fizike III (APF-2)\, Laboratori
 jske vaje (L)\nLetniki: 2. letnik (Aplikativna fizika)\nIzvajalci: Gregor 
 Kladnik\nProstor: Praktikum 2
LOCATION:Praktikum 2
ORGANIZER:Gregor Kladnik
RELATED-TO:fmf-AFLABS-URNIK:srecanje:13962
X-WR-TIMEZONE:Europe/Ljubljana
END:VEVENT
BEGIN:VEVENT
SUMMARY:Praktikum aplikativne fizike III (APF-2)\, Laboratorijske vaje (L)
DTSTART;TZID=Europe/Ljubljana:20250116T080000
DTEND;TZID=Europe/Ljubljana:20250116T110000
DTSTAMP:20260419T215649Z
UID:fmf-AFLABS-URNIK:premaknjeno-srecanje:187045
ATTENDEE:2. letnik (Aplikativna fizika)
CATEGORIES:Entry,Standard
COLOR:darkgreen
DESCRIPTION:Predmet: Praktikum aplikativne fizike III (APF-2)\, Laboratori
 jske vaje (L)\nLetniki: 2. letnik (Aplikativna fizika)\nIzvajalci: Gregor 
 Kladnik\nProstor: Praktikum 2
LOCATION:Praktikum 2
ORGANIZER:Gregor Kladnik
RELATED-TO:fmf-AFLABS-URNIK:srecanje:13962
X-WR-TIMEZONE:Europe/Ljubljana
END:VEVENT
BEGIN:VEVENT
SUMMARY:Fizikalna merjenja (APF-3)\, Vaje (V)
DTSTART;TZID=Europe/Ljubljana:20241004T110000
DTEND;TZID=Europe/Ljubljana:20241004T130000
DTSTAMP:20260419T215649Z
UID:fmf-AFLABS-URNIK:premaknjeno-srecanje:179527
ATTENDEE:3. letnik (Aplikativna fizika)
CATEGORIES:Entry,Standard
COLOR:darkgreen
DESCRIPTION:Predmet: Fizikalna merjenja (APF-3)\, Vaje (V)\nLetniki: 3. le
 tnik (Aplikativna fizika)\nIzvajalci: Gregor Kladnik\nProstor: F7
LOCATION:F7
ORGANIZER:Gregor Kladnik
RELATED-TO:fmf-AFLABS-URNIK:srecanje:13688
X-WR-TIMEZONE:Europe/Ljubljana
END:VEVENT
BEGIN:VEVENT
SUMMARY:Fizikalna merjenja (APF-3)\, Vaje (V)
DTSTART;TZID=Europe/Ljubljana:20241011T110000
DTEND;TZID=Europe/Ljubljana:20241011T130000
DTSTAMP:20260419T215649Z
UID:fmf-AFLABS-URNIK:premaknjeno-srecanje:179528
ATTENDEE:3. letnik (Aplikativna fizika)
CATEGORIES:Entry,Standard
COLOR:darkgreen
DESCRIPTION:Predmet: Fizikalna merjenja (APF-3)\, Vaje (V)\nLetniki: 3. le
 tnik (Aplikativna fizika)\nIzvajalci: Gregor Kladnik\nProstor: F7
LOCATION:F7
ORGANIZER:Gregor Kladnik
RELATED-TO:fmf-AFLABS-URNIK:srecanje:13688
X-WR-TIMEZONE:Europe/Ljubljana
END:VEVENT
BEGIN:VEVENT
SUMMARY:Fizikalna merjenja (APF-3)\, Vaje (V)
DTSTART;TZID=Europe/Ljubljana:20241018T110000
DTEND;TZID=Europe/Ljubljana:20241018T130000
DTSTAMP:20260419T215649Z
UID:fmf-AFLABS-URNIK:premaknjeno-srecanje:179529
ATTENDEE:3. letnik (Aplikativna fizika)
CATEGORIES:Entry,Standard
COLOR:darkgreen
DESCRIPTION:Predmet: Fizikalna merjenja (APF-3)\, Vaje (V)\nLetniki: 3. le
 tnik (Aplikativna fizika)\nIzvajalci: Gregor Kladnik\nProstor: F7
LOCATION:F7
ORGANIZER:Gregor Kladnik
RELATED-TO:fmf-AFLABS-URNIK:srecanje:13688
X-WR-TIMEZONE:Europe/Ljubljana
END:VEVENT
BEGIN:VEVENT
SUMMARY:Fizikalna merjenja (APF-3)\, Vaje (V)
DTSTART;TZID=Europe/Ljubljana:20241025T110000
DTEND;TZID=Europe/Ljubljana:20241025T130000
DTSTAMP:20260419T215649Z
UID:fmf-AFLABS-URNIK:premaknjeno-srecanje:179530
ATTENDEE:3. letnik (Aplikativna fizika)
CATEGORIES:Entry,Standard
COLOR:darkgreen
DESCRIPTION:Predmet: Fizikalna merjenja (APF-3)\, Vaje (V)\nLetniki: 3. le
 tnik (Aplikativna fizika)\nIzvajalci: Gregor Kladnik\nProstor: F7
LOCATION:F7
ORGANIZER:Gregor Kladnik
RELATED-TO:fmf-AFLABS-URNIK:srecanje:13688
X-WR-TIMEZONE:Europe/Ljubljana
END:VEVENT
BEGIN:VEVENT
SUMMARY:Fizikalna merjenja (APF-3)\, Vaje (V)
DTSTART;TZID=Europe/Ljubljana:20241101T110000
DTEND;TZID=Europe/Ljubljana:20241101T130000
DTSTAMP:20260419T215649Z
UID:fmf-AFLABS-URNIK:premaknjeno-srecanje:179531
ATTENDEE:3. letnik (Aplikativna fizika)
CATEGORIES:Entry,Standard
COLOR:darkgreen
DESCRIPTION:Predmet: Fizikalna merjenja (APF-3)\, Vaje (V)\nLetniki: 3. le
 tnik (Aplikativna fizika)\nIzvajalci: Gregor Kladnik\nProstor: F7
LOCATION:F7
ORGANIZER:Gregor Kladnik
RELATED-TO:fmf-AFLABS-URNIK:srecanje:13688
X-WR-TIMEZONE:Europe/Ljubljana
END:VEVENT
BEGIN:VEVENT
SUMMARY:Fizikalna merjenja (APF-3)\, Vaje (V)
DTSTART;TZID=Europe/Ljubljana:20241108T110000
DTEND;TZID=Europe/Ljubljana:20241108T130000
DTSTAMP:20260419T215649Z
UID:fmf-AFLABS-URNIK:premaknjeno-srecanje:179532
ATTENDEE:3. letnik (Aplikativna fizika)
CATEGORIES:Entry,Standard
COLOR:darkgreen
DESCRIPTION:Predmet: Fizikalna merjenja (APF-3)\, Vaje (V)\nLetniki: 3. le
 tnik (Aplikativna fizika)\nIzvajalci: Gregor Kladnik\nProstor: F7
LOCATION:F7
ORGANIZER:Gregor Kladnik
RELATED-TO:fmf-AFLABS-URNIK:srecanje:13688
X-WR-TIMEZONE:Europe/Ljubljana
END:VEVENT
BEGIN:VEVENT
SUMMARY:Fizikalna merjenja (APF-3)\, Vaje (V)
DTSTART;TZID=Europe/Ljubljana:20241115T110000
DTEND;TZID=Europe/Ljubljana:20241115T130000
DTSTAMP:20260419T215649Z
UID:fmf-AFLABS-URNIK:premaknjeno-srecanje:179533
ATTENDEE:3. letnik (Aplikativna fizika)
CATEGORIES:Entry,Standard
COLOR:darkgreen
DESCRIPTION:Predmet: Fizikalna merjenja (APF-3)\, Vaje (V)\nLetniki: 3. le
 tnik (Aplikativna fizika)\nIzvajalci: Gregor Kladnik\nProstor: F7
LOCATION:F7
ORGANIZER:Gregor Kladnik
RELATED-TO:fmf-AFLABS-URNIK:srecanje:13688
X-WR-TIMEZONE:Europe/Ljubljana
END:VEVENT
BEGIN:VEVENT
SUMMARY:Fizikalna merjenja (APF-3)\, Vaje (V)
DTSTART;TZID=Europe/Ljubljana:20241122T110000
DTEND;TZID=Europe/Ljubljana:20241122T130000
DTSTAMP:20260419T215649Z
UID:fmf-AFLABS-URNIK:premaknjeno-srecanje:179534
ATTENDEE:3. letnik (Aplikativna fizika)
CATEGORIES:Entry,Standard
COLOR:darkgreen
DESCRIPTION:Predmet: Fizikalna merjenja (APF-3)\, Vaje (V)\nLetniki: 3. le
 tnik (Aplikativna fizika)\nIzvajalci: Gregor Kladnik\nProstor: F7
LOCATION:F7
ORGANIZER:Gregor Kladnik
RELATED-TO:fmf-AFLABS-URNIK:srecanje:13688
X-WR-TIMEZONE:Europe/Ljubljana
END:VEVENT
BEGIN:VEVENT
SUMMARY:Fizikalna merjenja (APF-3)\, Vaje (V)
DTSTART;TZID=Europe/Ljubljana:20241129T110000
DTEND;TZID=Europe/Ljubljana:20241129T130000
DTSTAMP:20260419T215649Z
UID:fmf-AFLABS-URNIK:premaknjeno-srecanje:179535
ATTENDEE:3. letnik (Aplikativna fizika)
CATEGORIES:Entry,Standard
COLOR:darkgreen
DESCRIPTION:Predmet: Fizikalna merjenja (APF-3)\, Vaje (V)\nLetniki: 3. le
 tnik (Aplikativna fizika)\nIzvajalci: Gregor Kladnik\nProstor: F7
LOCATION:F7
ORGANIZER:Gregor Kladnik
RELATED-TO:fmf-AFLABS-URNIK:srecanje:13688
X-WR-TIMEZONE:Europe/Ljubljana
END:VEVENT
BEGIN:VEVENT
SUMMARY:Fizikalna merjenja (APF-3)\, Vaje (V)
DTSTART;TZID=Europe/Ljubljana:20241206T110000
DTEND;TZID=Europe/Ljubljana:20241206T130000
DTSTAMP:20260419T215649Z
UID:fmf-AFLABS-URNIK:premaknjeno-srecanje:179536
ATTENDEE:3. letnik (Aplikativna fizika)
CATEGORIES:Entry,Standard
COLOR:darkgreen
DESCRIPTION:Predmet: Fizikalna merjenja (APF-3)\, Vaje (V)\nLetniki: 3. le
 tnik (Aplikativna fizika)\nIzvajalci: Gregor Kladnik\nProstor: F7
LOCATION:F7
ORGANIZER:Gregor Kladnik
RELATED-TO:fmf-AFLABS-URNIK:srecanje:13688
X-WR-TIMEZONE:Europe/Ljubljana
END:VEVENT
BEGIN:VEVENT
SUMMARY:Fizikalna merjenja (APF-3)\, Vaje (V)
DTSTART;TZID=Europe/Ljubljana:20241213T110000
DTEND;TZID=Europe/Ljubljana:20241213T130000
DTSTAMP:20260419T215649Z
UID:fmf-AFLABS-URNIK:premaknjeno-srecanje:179537
ATTENDEE:3. letnik (Aplikativna fizika)
CATEGORIES:Entry,Standard
COLOR:darkgreen
DESCRIPTION:Predmet: Fizikalna merjenja (APF-3)\, Vaje (V)\nLetniki: 3. le
 tnik (Aplikativna fizika)\nIzvajalci: Gregor Kladnik\nProstor: F7
LOCATION:F7
ORGANIZER:Gregor Kladnik
RELATED-TO:fmf-AFLABS-URNIK:srecanje:13688
X-WR-TIMEZONE:Europe/Ljubljana
END:VEVENT
BEGIN:VEVENT
SUMMARY:Fizikalna merjenja (APF-3)\, Vaje (V)
DTSTART;TZID=Europe/Ljubljana:20241220T110000
DTEND;TZID=Europe/Ljubljana:20241220T130000
DTSTAMP:20260419T215649Z
UID:fmf-AFLABS-URNIK:premaknjeno-srecanje:179538
ATTENDEE:3. letnik (Aplikativna fizika)
CATEGORIES:Entry,Standard
COLOR:darkgreen
DESCRIPTION:Predmet: Fizikalna merjenja (APF-3)\, Vaje (V)\nLetniki: 3. le
 tnik (Aplikativna fizika)\nIzvajalci: Gregor Kladnik\nProstor: F7
LOCATION:F7
ORGANIZER:Gregor Kladnik
RELATED-TO:fmf-AFLABS-URNIK:srecanje:13688
X-WR-TIMEZONE:Europe/Ljubljana
END:VEVENT
BEGIN:VEVENT
SUMMARY:Fizikalna merjenja (APF-3)\, Vaje (V)
DTSTART;TZID=Europe/Ljubljana:20241227T110000
DTEND;TZID=Europe/Ljubljana:20241227T130000
DTSTAMP:20260419T215649Z
UID:fmf-AFLABS-URNIK:premaknjeno-srecanje:179539
ATTENDEE:3. letnik (Aplikativna fizika)
CATEGORIES:Entry,Standard
COLOR:darkgreen
DESCRIPTION:Predmet: Fizikalna merjenja (APF-3)\, Vaje (V)\nLetniki: 3. le
 tnik (Aplikativna fizika)\nIzvajalci: Gregor Kladnik\nProstor: F7
LOCATION:F7
ORGANIZER:Gregor Kladnik
RELATED-TO:fmf-AFLABS-URNIK:srecanje:13688
X-WR-TIMEZONE:Europe/Ljubljana
END:VEVENT
BEGIN:VEVENT
SUMMARY:Fizikalna merjenja (APF-3)\, Vaje (V)
DTSTART;TZID=Europe/Ljubljana:20250103T110000
DTEND;TZID=Europe/Ljubljana:20250103T130000
DTSTAMP:20260419T215649Z
UID:fmf-AFLABS-URNIK:premaknjeno-srecanje:179540
ATTENDEE:3. letnik (Aplikativna fizika)
CATEGORIES:Entry,Standard
COLOR:darkgreen
DESCRIPTION:Predmet: Fizikalna merjenja (APF-3)\, Vaje (V)\nLetniki: 3. le
 tnik (Aplikativna fizika)\nIzvajalci: Gregor Kladnik\nProstor: F7
LOCATION:F7
ORGANIZER:Gregor Kladnik
RELATED-TO:fmf-AFLABS-URNIK:srecanje:13688
X-WR-TIMEZONE:Europe/Ljubljana
END:VEVENT
BEGIN:VEVENT
SUMMARY:Fizikalna merjenja (APF-3)\, Vaje (V)
DTSTART;TZID=Europe/Ljubljana:20250110T110000
DTEND;TZID=Europe/Ljubljana:20250110T130000
DTSTAMP:20260419T215649Z
UID:fmf-AFLABS-URNIK:premaknjeno-srecanje:179541
ATTENDEE:3. letnik (Aplikativna fizika)
CATEGORIES:Entry,Standard
COLOR:darkgreen
DESCRIPTION:Predmet: Fizikalna merjenja (APF-3)\, Vaje (V)\nLetniki: 3. le
 tnik (Aplikativna fizika)\nIzvajalci: Gregor Kladnik\nProstor: F7
LOCATION:F7
ORGANIZER:Gregor Kladnik
RELATED-TO:fmf-AFLABS-URNIK:srecanje:13688
X-WR-TIMEZONE:Europe/Ljubljana
END:VEVENT
BEGIN:VEVENT
SUMMARY:Fizikalna merjenja (APF-3)\, Vaje (V)
DTSTART;TZID=Europe/Ljubljana:20250117T110000
DTEND;TZID=Europe/Ljubljana:20250117T130000
DTSTAMP:20260419T215649Z
UID:fmf-AFLABS-URNIK:premaknjeno-srecanje:186771
ATTENDEE:3. letnik (Aplikativna fizika)
CATEGORIES:Entry,Standard
COLOR:darkgreen
DESCRIPTION:Predmet: Fizikalna merjenja (APF-3)\, Vaje (V)\nLetniki: 3. le
 tnik (Aplikativna fizika)\nIzvajalci: Gregor Kladnik\nProstor: F7
LOCATION:F7
ORGANIZER:Gregor Kladnik
RELATED-TO:fmf-AFLABS-URNIK:srecanje:13688
X-WR-TIMEZONE:Europe/Ljubljana
END:VEVENT
BEGIN:VEVENT
SUMMARY:1. termin Praktikuma aplikativne fizike III
DTSTART;TZID=Europe/Ljubljana:20241003T080000
DTEND;TZID=Europe/Ljubljana:20241003T110000
DTSTAMP:20260419T215649Z
UID:fmf-AFLABS-URNIK:rezervacija:18385
ATTENDEE:2. letnik (Aplikativna fizika)
CATEGORIES:Reservation
COLOR:royalblue
DESCRIPTION:Predmeti: Praktikum aplikativne fizike III (APF-2)\nLetniki: 2
 . letnik (Aplikativna fizika)\nIzvajalci: Gregor Kladnik\nProstori: F3
LOCATION:F3
ORGANIZER:Gregor Kladnik
X-WR-TIMEZONE:Europe/Ljubljana
END:VEVENT
BEGIN:VEVENT
SUMMARY:1. kolokvij iz Fizikalnih merjenj (APF)
DTSTART;TZID=Europe/Ljubljana:20241203T170000
DTEND;TZID=Europe/Ljubljana:20241203T190000
DTSTAMP:20260419T215649Z
UID:fmf-AFLABS-URNIK:rezervacija:19061
ATTENDEE:3. letnik (Aplikativna fizika)
CATEGORIES:Reservation
COLOR:royalblue
DESCRIPTION:Predmeti: Fizikalna merjenja (APF-3)\nLetniki: 3. letnik (Apli
 kativna fizika)\nIzvajalci: Gregor Kladnik\nProstori: F2
LOCATION:F2
ORGANIZER:Gregor Kladnik
X-WR-TIMEZONE:Europe/Ljubljana
END:VEVENT
BEGIN:VEVENT
SUMMARY:Nadomestni termin Fizikalnih merjenj (APF)
DTSTART;TZID=Europe/Ljubljana:20250107T100000
DTEND;TZID=Europe/Ljubljana:20250107T110000
DTSTAMP:20260419T215649Z
UID:fmf-AFLABS-URNIK:rezervacija:20223
ATTENDEE:3. letnik (Aplikativna fizika)
CATEGORIES:Reservation
COLOR:royalblue
DESCRIPTION:Predmeti: Fizikalna merjenja (APF-3)\nLetniki: 3. letnik (Apli
 kativna fizika)\nIzvajalci: Gregor Kladnik\nProstori: MFP
LOCATION:MFP
ORGANIZER:Gregor Kladnik
X-WR-TIMEZONE:Europe/Ljubljana
END:VEVENT
BEGIN:VEVENT
SUMMARY:Nadomestni termin Fizikalnih merjenj (APF)
DTSTART;TZID=Europe/Ljubljana:20250107T110000
DTEND;TZID=Europe/Ljubljana:20250107T120000
DTSTAMP:20260419T215649Z
UID:fmf-AFLABS-URNIK:rezervacija:20224
ATTENDEE:3. letnik (Aplikativna fizika)
CATEGORIES:Reservation
COLOR:royalblue
DESCRIPTION:Predmeti: Fizikalna merjenja (APF-3)\nLetniki: 3. letnik (Apli
 kativna fizika)\nIzvajalci: Gregor Kladnik\nProstori: F6
LOCATION:F6
ORGANIZER:Gregor Kladnik
X-WR-TIMEZONE:Europe/Ljubljana
END:VEVENT
BEGIN:VEVENT
SUMMARY:Nadomestni termin vaj FiMer APF
DTSTART;TZID=Europe/Ljubljana:20250114T110000
DTEND;TZID=Europe/Ljubljana:20250114T120000
DTSTAMP:20260419T215649Z
UID:fmf-AFLABS-URNIK:rezervacija:20419
ATTENDEE:3. letnik (Aplikativna fizika)
CATEGORIES:Reservation
COLOR:royalblue
DESCRIPTION:Predmeti: Fizikalna merjenja (APF-3)\nLetniki: 3. letnik (Apli
 kativna fizika)\nIzvajalci: Gregor Kladnik\nProstori: F6
LOCATION:F6
ORGANIZER:Gregor Kladnik
X-WR-TIMEZONE:Europe/Ljubljana
END:VEVENT
BEGIN:VEVENT
SUMMARY:Nadomestni termin FiMer APF
DTSTART;TZID=Europe/Ljubljana:20250114T120000
DTEND;TZID=Europe/Ljubljana:20250114T130000
DTSTAMP:20260419T215649Z
UID:fmf-AFLABS-URNIK:rezervacija:20420
ATTENDEE:3. letnik (Aplikativna fizika)
CATEGORIES:Reservation
COLOR:royalblue
DESCRIPTION:Predmeti: Fizikalna merjenja (APF-3)\nLetniki: 3. letnik (Apli
 kativna fizika)\nIzvajalci: Gregor Kladnik\nProstori: F8
LOCATION:F8
ORGANIZER:Gregor Kladnik
X-WR-TIMEZONE:Europe/Ljubljana
END:VEVENT
END:VCALENDAR
