BEGIN:VCALENDAR
VERSION:2.0
PRODID:-//AFLabs urnik izvoz - fmf//aflabs.si//SI
DTSTAMP:20260425T144523Z
NAME:UL FMF urnik
REFRESH-INTERVAL:PT1H
SOURCE:https://urnik.fmf.uni-lj.si/teacher/1067?day=2021-12-27&export=1
URL:https://urnik.fmf.uni-lj.si/teacher/1067?day=2021-12-27&export=1
X-PUBLISHED-TTL:PT1H
X-WR-CALNAME:UL FMF urnik
X-WR-TIMEZONE:Europe/Ljubljana
BEGIN:VTIMEZONE
TZID:Europe/Ljubljana
BEGIN:DAYLIGHT
DTSTART:20260329T020000
RDATE:20260329T020000
RDATE:20270328T020000
TZNAME:CEST
TZOFFSETFROM:+0100
TZOFFSETTO:+0200
END:DAYLIGHT
BEGIN:STANDARD
DTSTART:20261025T030000
RDATE:20261025T030000
RDATE:20271031T030000
TZNAME:CET
TZOFFSETFROM:+0200
TZOFFSETTO:+0100
END:STANDARD
END:VTIMEZONE
BEGIN:VEVENT
SUMMARY:Tutorstvo (klasična fizika) (FIZ-1)\, Vaje (V)\, [4]
DTSTART;TZID=Europe/Ljubljana:20211001T120000
DTEND;TZID=Europe/Ljubljana:20211001T140000
DTSTAMP:20260425T144523Z
UID:fmf-AFLABS-URNIK:premaknjeno-srecanje:111651
ATTENDEE:1. letnik (Fizika, 1. stopnja)
CATEGORIES:Entry,Standard
COLOR:darkgreen
DESCRIPTION:Predmet: Tutorstvo (klasična fizika) (FIZ-1)\, Vaje (V)\, [4]
 \nLetniki: 1. letnik (Fizika\, 1. stopnja)\nIzvajalci: Simon Godec\nProsto
 r: F3
LOCATION:F3
ORGANIZER:Simon Godec
RELATED-TO:fmf-AFLABS-URNIK:srecanje:6639
X-WR-TIMEZONE:Europe/Ljubljana
END:VEVENT
BEGIN:VEVENT
SUMMARY:Tutorstvo (klasična fizika) (FIZ-1)\, Vaje (V)\, [4]
DTSTART;TZID=Europe/Ljubljana:20211008T120000
DTEND;TZID=Europe/Ljubljana:20211008T140000
DTSTAMP:20260425T144523Z
UID:fmf-AFLABS-URNIK:premaknjeno-srecanje:111652
ATTENDEE:1. letnik (Fizika, 1. stopnja)
CATEGORIES:Entry,Standard
COLOR:darkgreen
DESCRIPTION:Predmet: Tutorstvo (klasična fizika) (FIZ-1)\, Vaje (V)\, [4]
 \nLetniki: 1. letnik (Fizika\, 1. stopnja)\nIzvajalci: Simon Godec\nProsto
 r: F3
LOCATION:F3
ORGANIZER:Simon Godec
RELATED-TO:fmf-AFLABS-URNIK:srecanje:6639
X-WR-TIMEZONE:Europe/Ljubljana
END:VEVENT
BEGIN:VEVENT
SUMMARY:Tutorstvo (klasična fizika) (FIZ-1)\, Vaje (V)\, [4]
DTSTART;TZID=Europe/Ljubljana:20211015T120000
DTEND;TZID=Europe/Ljubljana:20211015T140000
DTSTAMP:20260425T144523Z
UID:fmf-AFLABS-URNIK:premaknjeno-srecanje:111653
ATTENDEE:1. letnik (Fizika, 1. stopnja)
CATEGORIES:Entry,Standard
COLOR:darkgreen
DESCRIPTION:Predmet: Tutorstvo (klasična fizika) (FIZ-1)\, Vaje (V)\, [4]
 \nLetniki: 1. letnik (Fizika\, 1. stopnja)\nIzvajalci: Simon Godec\nProsto
 r: F3
LOCATION:F3
ORGANIZER:Simon Godec
RELATED-TO:fmf-AFLABS-URNIK:srecanje:6639
X-WR-TIMEZONE:Europe/Ljubljana
END:VEVENT
BEGIN:VEVENT
SUMMARY:Tutorstvo (klasična fizika) (FIZ-1)\, Vaje (V)\, [4]
DTSTART;TZID=Europe/Ljubljana:20211022T120000
DTEND;TZID=Europe/Ljubljana:20211022T140000
DTSTAMP:20260425T144523Z
UID:fmf-AFLABS-URNIK:premaknjeno-srecanje:111654
ATTENDEE:1. letnik (Fizika, 1. stopnja)
CATEGORIES:Entry,Standard
COLOR:darkgreen
DESCRIPTION:Predmet: Tutorstvo (klasična fizika) (FIZ-1)\, Vaje (V)\, [4]
 \nLetniki: 1. letnik (Fizika\, 1. stopnja)\nIzvajalci: Simon Godec\nProsto
 r: F3
LOCATION:F3
ORGANIZER:Simon Godec
RELATED-TO:fmf-AFLABS-URNIK:srecanje:6639
X-WR-TIMEZONE:Europe/Ljubljana
END:VEVENT
BEGIN:VEVENT
SUMMARY:Tutorstvo (klasična fizika) (FIZ-1)\, Vaje (V)\, [4]
DTSTART;TZID=Europe/Ljubljana:20211029T120000
DTEND;TZID=Europe/Ljubljana:20211029T140000
DTSTAMP:20260425T144523Z
UID:fmf-AFLABS-URNIK:premaknjeno-srecanje:111655
ATTENDEE:1. letnik (Fizika, 1. stopnja)
CATEGORIES:Entry,Standard
COLOR:darkgreen
DESCRIPTION:Predmet: Tutorstvo (klasična fizika) (FIZ-1)\, Vaje (V)\, [4]
 \nLetniki: 1. letnik (Fizika\, 1. stopnja)\nIzvajalci: Simon Godec\nProsto
 r: F3
LOCATION:F3
ORGANIZER:Simon Godec
RELATED-TO:fmf-AFLABS-URNIK:srecanje:6639
X-WR-TIMEZONE:Europe/Ljubljana
END:VEVENT
BEGIN:VEVENT
SUMMARY:Tutorstvo (klasična fizika) (FIZ-1)\, Vaje (V)\, [4]
DTSTART;TZID=Europe/Ljubljana:20211105T120000
DTEND;TZID=Europe/Ljubljana:20211105T140000
DTSTAMP:20260425T144523Z
UID:fmf-AFLABS-URNIK:premaknjeno-srecanje:111656
ATTENDEE:1. letnik (Fizika, 1. stopnja)
CATEGORIES:Entry,Standard
COLOR:darkgreen
DESCRIPTION:Predmet: Tutorstvo (klasična fizika) (FIZ-1)\, Vaje (V)\, [4]
 \nLetniki: 1. letnik (Fizika\, 1. stopnja)\nIzvajalci: Simon Godec\nProsto
 r: F3
LOCATION:F3
ORGANIZER:Simon Godec
RELATED-TO:fmf-AFLABS-URNIK:srecanje:6639
X-WR-TIMEZONE:Europe/Ljubljana
END:VEVENT
BEGIN:VEVENT
SUMMARY:Tutorstvo (klasična fizika) (FIZ-1)\, Vaje (V)\, [4]
DTSTART;TZID=Europe/Ljubljana:20211112T120000
DTEND;TZID=Europe/Ljubljana:20211112T140000
DTSTAMP:20260425T144523Z
UID:fmf-AFLABS-URNIK:premaknjeno-srecanje:111657
ATTENDEE:1. letnik (Fizika, 1. stopnja)
CATEGORIES:Entry,Standard
COLOR:darkgreen
DESCRIPTION:Predmet: Tutorstvo (klasična fizika) (FIZ-1)\, Vaje (V)\, [4]
 \nLetniki: 1. letnik (Fizika\, 1. stopnja)\nIzvajalci: Simon Godec\nProsto
 r: F3
LOCATION:F3
ORGANIZER:Simon Godec
RELATED-TO:fmf-AFLABS-URNIK:srecanje:6639
X-WR-TIMEZONE:Europe/Ljubljana
END:VEVENT
BEGIN:VEVENT
SUMMARY:Tutorstvo (klasična fizika) (FIZ-1)\, Vaje (V)\, [4]
DTSTART;TZID=Europe/Ljubljana:20211119T120000
DTEND;TZID=Europe/Ljubljana:20211119T140000
DTSTAMP:20260425T144523Z
UID:fmf-AFLABS-URNIK:premaknjeno-srecanje:111658
ATTENDEE:1. letnik (Fizika, 1. stopnja)
CATEGORIES:Entry,Standard
COLOR:darkgreen
DESCRIPTION:Predmet: Tutorstvo (klasična fizika) (FIZ-1)\, Vaje (V)\, [4]
 \nLetniki: 1. letnik (Fizika\, 1. stopnja)\nIzvajalci: Simon Godec\nProsto
 r: F3
LOCATION:F3
ORGANIZER:Simon Godec
RELATED-TO:fmf-AFLABS-URNIK:srecanje:6639
X-WR-TIMEZONE:Europe/Ljubljana
END:VEVENT
BEGIN:VEVENT
SUMMARY:Tutorstvo (klasična fizika) (FIZ-1)\, Vaje (V)\, [4]
DTSTART;TZID=Europe/Ljubljana:20211126T120000
DTEND;TZID=Europe/Ljubljana:20211126T140000
DTSTAMP:20260425T144523Z
UID:fmf-AFLABS-URNIK:premaknjeno-srecanje:111659
ATTENDEE:1. letnik (Fizika, 1. stopnja)
CATEGORIES:Entry,Standard
COLOR:darkgreen
DESCRIPTION:Predmet: Tutorstvo (klasična fizika) (FIZ-1)\, Vaje (V)\, [4]
 \nLetniki: 1. letnik (Fizika\, 1. stopnja)\nIzvajalci: Simon Godec\nProsto
 r: F3
LOCATION:F3
ORGANIZER:Simon Godec
RELATED-TO:fmf-AFLABS-URNIK:srecanje:6639
X-WR-TIMEZONE:Europe/Ljubljana
END:VEVENT
BEGIN:VEVENT
SUMMARY:Tutorstvo (klasična fizika) (FIZ-1)\, Vaje (V)\, [4]
DTSTART;TZID=Europe/Ljubljana:20211203T120000
DTEND;TZID=Europe/Ljubljana:20211203T140000
DTSTAMP:20260425T144523Z
UID:fmf-AFLABS-URNIK:premaknjeno-srecanje:111660
ATTENDEE:1. letnik (Fizika, 1. stopnja)
CATEGORIES:Entry,Standard
COLOR:darkgreen
DESCRIPTION:Predmet: Tutorstvo (klasična fizika) (FIZ-1)\, Vaje (V)\, [4]
 \nLetniki: 1. letnik (Fizika\, 1. stopnja)\nIzvajalci: Simon Godec\nProsto
 r: F3
LOCATION:F3
ORGANIZER:Simon Godec
RELATED-TO:fmf-AFLABS-URNIK:srecanje:6639
X-WR-TIMEZONE:Europe/Ljubljana
END:VEVENT
BEGIN:VEVENT
SUMMARY:Tutorstvo (klasična fizika) (FIZ-1)\, Vaje (V)\, [4]
DTSTART;TZID=Europe/Ljubljana:20211210T120000
DTEND;TZID=Europe/Ljubljana:20211210T140000
DTSTAMP:20260425T144523Z
UID:fmf-AFLABS-URNIK:premaknjeno-srecanje:111661
ATTENDEE:1. letnik (Fizika, 1. stopnja)
CATEGORIES:Entry,Standard
COLOR:darkgreen
DESCRIPTION:Predmet: Tutorstvo (klasična fizika) (FIZ-1)\, Vaje (V)\, [4]
 \nLetniki: 1. letnik (Fizika\, 1. stopnja)\nIzvajalci: Simon Godec\nProsto
 r: F3
LOCATION:F3
ORGANIZER:Simon Godec
RELATED-TO:fmf-AFLABS-URNIK:srecanje:6639
X-WR-TIMEZONE:Europe/Ljubljana
END:VEVENT
BEGIN:VEVENT
SUMMARY:Tutorstvo (klasična fizika) (FIZ-1)\, Vaje (V)\, [4]
DTSTART;TZID=Europe/Ljubljana:20211217T120000
DTEND;TZID=Europe/Ljubljana:20211217T140000
DTSTAMP:20260425T144523Z
UID:fmf-AFLABS-URNIK:premaknjeno-srecanje:111662
ATTENDEE:1. letnik (Fizika, 1. stopnja)
CATEGORIES:Entry,Standard
COLOR:darkgreen
DESCRIPTION:Predmet: Tutorstvo (klasična fizika) (FIZ-1)\, Vaje (V)\, [4]
 \nLetniki: 1. letnik (Fizika\, 1. stopnja)\nIzvajalci: Simon Godec\nProsto
 r: F3
LOCATION:F3
ORGANIZER:Simon Godec
RELATED-TO:fmf-AFLABS-URNIK:srecanje:6639
X-WR-TIMEZONE:Europe/Ljubljana
END:VEVENT
BEGIN:VEVENT
SUMMARY:Tutorstvo (klasična fizika) (FIZ-1)\, Vaje (V)\, [4]
DTSTART;TZID=Europe/Ljubljana:20211224T120000
DTEND;TZID=Europe/Ljubljana:20211224T140000
DTSTAMP:20260425T144523Z
UID:fmf-AFLABS-URNIK:premaknjeno-srecanje:111663
ATTENDEE:1. letnik (Fizika, 1. stopnja)
CATEGORIES:Entry,Standard
COLOR:darkgreen
DESCRIPTION:Predmet: Tutorstvo (klasična fizika) (FIZ-1)\, Vaje (V)\, [4]
 \nLetniki: 1. letnik (Fizika\, 1. stopnja)\nIzvajalci: Simon Godec\nProsto
 r: F3
LOCATION:F3
ORGANIZER:Simon Godec
RELATED-TO:fmf-AFLABS-URNIK:srecanje:6639
X-WR-TIMEZONE:Europe/Ljubljana
END:VEVENT
BEGIN:VEVENT
SUMMARY:Tutorstvo (klasična fizika) (FIZ-1)\, Vaje (V)\, [4]
DTSTART;TZID=Europe/Ljubljana:20211231T120000
DTEND;TZID=Europe/Ljubljana:20211231T140000
DTSTAMP:20260425T144523Z
UID:fmf-AFLABS-URNIK:premaknjeno-srecanje:111664
ATTENDEE:1. letnik (Fizika, 1. stopnja)
CATEGORIES:Entry,Standard
COLOR:darkgreen
DESCRIPTION:Predmet: Tutorstvo (klasična fizika) (FIZ-1)\, Vaje (V)\, [4]
 \nLetniki: 1. letnik (Fizika\, 1. stopnja)\nIzvajalci: Simon Godec\nProsto
 r: F3
LOCATION:F3
ORGANIZER:Simon Godec
RELATED-TO:fmf-AFLABS-URNIK:srecanje:6639
X-WR-TIMEZONE:Europe/Ljubljana
END:VEVENT
BEGIN:VEVENT
SUMMARY:Tutorstvo (klasična fizika) (FIZ-1)\, Vaje (V)\, [4]
DTSTART;TZID=Europe/Ljubljana:20220107T120000
DTEND;TZID=Europe/Ljubljana:20220107T140000
DTSTAMP:20260425T144523Z
UID:fmf-AFLABS-URNIK:premaknjeno-srecanje:111665
ATTENDEE:1. letnik (Fizika, 1. stopnja)
CATEGORIES:Entry,Standard
COLOR:darkgreen
DESCRIPTION:Predmet: Tutorstvo (klasična fizika) (FIZ-1)\, Vaje (V)\, [4]
 \nLetniki: 1. letnik (Fizika\, 1. stopnja)\nIzvajalci: Simon Godec\nProsto
 r: F3
LOCATION:F3
ORGANIZER:Simon Godec
RELATED-TO:fmf-AFLABS-URNIK:srecanje:6639
X-WR-TIMEZONE:Europe/Ljubljana
END:VEVENT
BEGIN:VEVENT
SUMMARY:Tutorstvo (klasična fizika) (FIZ-1)\, Vaje (V)\, [4]
DTSTART;TZID=Europe/Ljubljana:20220114T120000
DTEND;TZID=Europe/Ljubljana:20220114T140000
DTSTAMP:20260425T144523Z
UID:fmf-AFLABS-URNIK:premaknjeno-srecanje:111666
ATTENDEE:1. letnik (Fizika, 1. stopnja)
CATEGORIES:Entry,Standard
COLOR:darkgreen
DESCRIPTION:Predmet: Tutorstvo (klasična fizika) (FIZ-1)\, Vaje (V)\, [4]
 \nLetniki: 1. letnik (Fizika\, 1. stopnja)\nIzvajalci: Simon Godec\nProsto
 r: F3
LOCATION:F3
ORGANIZER:Simon Godec
RELATED-TO:fmf-AFLABS-URNIK:srecanje:6639
X-WR-TIMEZONE:Europe/Ljubljana
END:VEVENT
END:VCALENDAR
