BEGIN:VCALENDAR
VERSION:2.0
PRODID:-//AFLabs urnik izvoz - fmf//aflabs.si//SI
DTSTAMP:20260422T134813Z
NAME:UL FMF urnik
REFRESH-INTERVAL:PT1H
SOURCE:https://urnik.fmf.uni-lj.si/teacher/1067?day=2023-01-02&export=1
URL:https://urnik.fmf.uni-lj.si/teacher/1067?day=2023-01-02&export=1
X-PUBLISHED-TTL:PT1H
X-WR-CALNAME:UL FMF urnik
X-WR-TIMEZONE:Europe/Ljubljana
BEGIN:VTIMEZONE
TZID:Europe/Ljubljana
BEGIN:DAYLIGHT
DTSTART:20260329T020000
RDATE:20260329T020000
RDATE:20270328T020000
TZNAME:CEST
TZOFFSETFROM:+0100
TZOFFSETTO:+0200
END:DAYLIGHT
BEGIN:STANDARD
DTSTART:20261025T030000
RDATE:20261025T030000
RDATE:20271031T030000
TZNAME:CET
TZOFFSETFROM:+0200
TZOFFSETTO:+0100
END:STANDARD
END:VTIMEZONE
BEGIN:VEVENT
SUMMARY:Tutorstvo (matematika I) (FIZ-1)\, Ostalo (O)\, [T4]
DTSTART;TZID=Europe/Ljubljana:20221004T140000
DTEND;TZID=Europe/Ljubljana:20221004T160000
DTSTAMP:20260422T134813Z
UID:fmf-AFLABS-URNIK:premaknjeno-srecanje:112288
ATTENDEE:1. letnik (Fizika, 1. stopnja)
CATEGORIES:Entry,Standard
COLOR:darkgreen
DESCRIPTION:Predmet: Tutorstvo (matematika I) (FIZ-1)\, Ostalo (O)\, [T4]\
 nLetniki: 1. letnik (Fizika\, 1. stopnja)\nIzvajalci: Simon Godec\nProstor
 : F6
LOCATION:F6
ORGANIZER:Simon Godec
RELATED-TO:fmf-AFLABS-URNIK:srecanje:8170
X-WR-TIMEZONE:Europe/Ljubljana
END:VEVENT
BEGIN:VEVENT
SUMMARY:Tutorstvo (matematika I) (FIZ-1)\, Ostalo (O)\, [T4]
DTSTART;TZID=Europe/Ljubljana:20221011T140000
DTEND;TZID=Europe/Ljubljana:20221011T160000
DTSTAMP:20260422T134813Z
UID:fmf-AFLABS-URNIK:premaknjeno-srecanje:112289
ATTENDEE:1. letnik (Fizika, 1. stopnja)
CATEGORIES:Entry,Standard
COLOR:darkgreen
DESCRIPTION:Predmet: Tutorstvo (matematika I) (FIZ-1)\, Ostalo (O)\, [T4]\
 nLetniki: 1. letnik (Fizika\, 1. stopnja)\nIzvajalci: Simon Godec\nProstor
 : F6
LOCATION:F6
ORGANIZER:Simon Godec
RELATED-TO:fmf-AFLABS-URNIK:srecanje:8170
X-WR-TIMEZONE:Europe/Ljubljana
END:VEVENT
BEGIN:VEVENT
SUMMARY:Tutorstvo (matematika I) (FIZ-1)\, Ostalo (O)\, [T4]
DTSTART;TZID=Europe/Ljubljana:20221018T140000
DTEND;TZID=Europe/Ljubljana:20221018T160000
DTSTAMP:20260422T134813Z
UID:fmf-AFLABS-URNIK:premaknjeno-srecanje:112290
ATTENDEE:1. letnik (Fizika, 1. stopnja)
CATEGORIES:Entry,Standard
COLOR:darkgreen
DESCRIPTION:Predmet: Tutorstvo (matematika I) (FIZ-1)\, Ostalo (O)\, [T4]\
 nLetniki: 1. letnik (Fizika\, 1. stopnja)\nIzvajalci: Simon Godec\nProstor
 : F6
LOCATION:F6
ORGANIZER:Simon Godec
RELATED-TO:fmf-AFLABS-URNIK:srecanje:8170
X-WR-TIMEZONE:Europe/Ljubljana
END:VEVENT
BEGIN:VEVENT
SUMMARY:Tutorstvo (matematika I) (FIZ-1)\, Ostalo (O)\, [T4]
DTSTART;TZID=Europe/Ljubljana:20221025T140000
DTEND;TZID=Europe/Ljubljana:20221025T160000
DTSTAMP:20260422T134813Z
UID:fmf-AFLABS-URNIK:premaknjeno-srecanje:112291
ATTENDEE:1. letnik (Fizika, 1. stopnja)
CATEGORIES:Entry,Standard
COLOR:darkgreen
DESCRIPTION:Predmet: Tutorstvo (matematika I) (FIZ-1)\, Ostalo (O)\, [T4]\
 nLetniki: 1. letnik (Fizika\, 1. stopnja)\nIzvajalci: Simon Godec\nProstor
 : F6
LOCATION:F6
ORGANIZER:Simon Godec
RELATED-TO:fmf-AFLABS-URNIK:srecanje:8170
X-WR-TIMEZONE:Europe/Ljubljana
END:VEVENT
BEGIN:VEVENT
SUMMARY:Tutorstvo (matematika I) (FIZ-1)\, Ostalo (O)\, [T4]
DTSTART;TZID=Europe/Ljubljana:20221101T140000
DTEND;TZID=Europe/Ljubljana:20221101T160000
DTSTAMP:20260422T134813Z
UID:fmf-AFLABS-URNIK:premaknjeno-srecanje:112292
ATTENDEE:1. letnik (Fizika, 1. stopnja)
CATEGORIES:Entry,Standard
COLOR:darkgreen
DESCRIPTION:Predmet: Tutorstvo (matematika I) (FIZ-1)\, Ostalo (O)\, [T4]\
 nLetniki: 1. letnik (Fizika\, 1. stopnja)\nIzvajalci: Simon Godec\nProstor
 : F6
LOCATION:F6
ORGANIZER:Simon Godec
RELATED-TO:fmf-AFLABS-URNIK:srecanje:8170
X-WR-TIMEZONE:Europe/Ljubljana
END:VEVENT
BEGIN:VEVENT
SUMMARY:Tutorstvo (matematika I) (FIZ-1)\, Ostalo (O)\, [T4]
DTSTART;TZID=Europe/Ljubljana:20221108T140000
DTEND;TZID=Europe/Ljubljana:20221108T160000
DTSTAMP:20260422T134813Z
UID:fmf-AFLABS-URNIK:premaknjeno-srecanje:112293
ATTENDEE:1. letnik (Fizika, 1. stopnja)
CATEGORIES:Entry,Standard
COLOR:darkgreen
DESCRIPTION:Predmet: Tutorstvo (matematika I) (FIZ-1)\, Ostalo (O)\, [T4]\
 nLetniki: 1. letnik (Fizika\, 1. stopnja)\nIzvajalci: Simon Godec\nProstor
 : F6
LOCATION:F6
ORGANIZER:Simon Godec
RELATED-TO:fmf-AFLABS-URNIK:srecanje:8170
X-WR-TIMEZONE:Europe/Ljubljana
END:VEVENT
BEGIN:VEVENT
SUMMARY:Tutorstvo (matematika I) (FIZ-1)\, Ostalo (O)\, [T4]
DTSTART;TZID=Europe/Ljubljana:20221115T140000
DTEND;TZID=Europe/Ljubljana:20221115T160000
DTSTAMP:20260422T134813Z
UID:fmf-AFLABS-URNIK:premaknjeno-srecanje:112294
ATTENDEE:1. letnik (Fizika, 1. stopnja)
CATEGORIES:Entry,Standard
COLOR:darkgreen
DESCRIPTION:Predmet: Tutorstvo (matematika I) (FIZ-1)\, Ostalo (O)\, [T4]\
 nLetniki: 1. letnik (Fizika\, 1. stopnja)\nIzvajalci: Simon Godec\nProstor
 : F6
LOCATION:F6
ORGANIZER:Simon Godec
RELATED-TO:fmf-AFLABS-URNIK:srecanje:8170
X-WR-TIMEZONE:Europe/Ljubljana
END:VEVENT
BEGIN:VEVENT
SUMMARY:Tutorstvo (matematika I) (FIZ-1)\, Ostalo (O)\, [T4]
DTSTART;TZID=Europe/Ljubljana:20221122T140000
DTEND;TZID=Europe/Ljubljana:20221122T160000
DTSTAMP:20260422T134813Z
UID:fmf-AFLABS-URNIK:premaknjeno-srecanje:112295
ATTENDEE:1. letnik (Fizika, 1. stopnja)
CATEGORIES:Entry,Standard
COLOR:darkgreen
DESCRIPTION:Predmet: Tutorstvo (matematika I) (FIZ-1)\, Ostalo (O)\, [T4]\
 nLetniki: 1. letnik (Fizika\, 1. stopnja)\nIzvajalci: Simon Godec\nProstor
 : F6
LOCATION:F6
ORGANIZER:Simon Godec
RELATED-TO:fmf-AFLABS-URNIK:srecanje:8170
X-WR-TIMEZONE:Europe/Ljubljana
END:VEVENT
BEGIN:VEVENT
SUMMARY:Tutorstvo (matematika I) (FIZ-1)\, Ostalo (O)\, [T4]
DTSTART;TZID=Europe/Ljubljana:20221129T140000
DTEND;TZID=Europe/Ljubljana:20221129T160000
DTSTAMP:20260422T134813Z
UID:fmf-AFLABS-URNIK:premaknjeno-srecanje:112296
ATTENDEE:1. letnik (Fizika, 1. stopnja)
CATEGORIES:Entry,Standard
COLOR:darkgreen
DESCRIPTION:Predmet: Tutorstvo (matematika I) (FIZ-1)\, Ostalo (O)\, [T4]\
 nLetniki: 1. letnik (Fizika\, 1. stopnja)\nIzvajalci: Simon Godec\nProstor
 : F6
LOCATION:F6
ORGANIZER:Simon Godec
RELATED-TO:fmf-AFLABS-URNIK:srecanje:8170
X-WR-TIMEZONE:Europe/Ljubljana
END:VEVENT
BEGIN:VEVENT
SUMMARY:Tutorstvo (matematika I) (FIZ-1)\, Ostalo (O)\, [T4]
DTSTART;TZID=Europe/Ljubljana:20221206T140000
DTEND;TZID=Europe/Ljubljana:20221206T160000
DTSTAMP:20260422T134813Z
UID:fmf-AFLABS-URNIK:premaknjeno-srecanje:112297
ATTENDEE:1. letnik (Fizika, 1. stopnja)
CATEGORIES:Entry,Standard
COLOR:darkgreen
DESCRIPTION:Predmet: Tutorstvo (matematika I) (FIZ-1)\, Ostalo (O)\, [T4]\
 nLetniki: 1. letnik (Fizika\, 1. stopnja)\nIzvajalci: Simon Godec\nProstor
 : F6
LOCATION:F6
ORGANIZER:Simon Godec
RELATED-TO:fmf-AFLABS-URNIK:srecanje:8170
X-WR-TIMEZONE:Europe/Ljubljana
END:VEVENT
BEGIN:VEVENT
SUMMARY:Tutorstvo (matematika I) (FIZ-1)\, Ostalo (O)\, [T4]
DTSTART;TZID=Europe/Ljubljana:20221213T140000
DTEND;TZID=Europe/Ljubljana:20221213T160000
DTSTAMP:20260422T134813Z
UID:fmf-AFLABS-URNIK:premaknjeno-srecanje:112298
ATTENDEE:1. letnik (Fizika, 1. stopnja)
CATEGORIES:Entry,Standard
COLOR:darkgreen
DESCRIPTION:Predmet: Tutorstvo (matematika I) (FIZ-1)\, Ostalo (O)\, [T4]\
 nLetniki: 1. letnik (Fizika\, 1. stopnja)\nIzvajalci: Simon Godec\nProstor
 : F6
LOCATION:F6
ORGANIZER:Simon Godec
RELATED-TO:fmf-AFLABS-URNIK:srecanje:8170
X-WR-TIMEZONE:Europe/Ljubljana
END:VEVENT
BEGIN:VEVENT
SUMMARY:Tutorstvo (matematika I) (FIZ-1)\, Ostalo (O)\, [T4]
DTSTART;TZID=Europe/Ljubljana:20221220T140000
DTEND;TZID=Europe/Ljubljana:20221220T160000
DTSTAMP:20260422T134813Z
UID:fmf-AFLABS-URNIK:premaknjeno-srecanje:112299
ATTENDEE:1. letnik (Fizika, 1. stopnja)
CATEGORIES:Entry,Standard
COLOR:darkgreen
DESCRIPTION:Predmet: Tutorstvo (matematika I) (FIZ-1)\, Ostalo (O)\, [T4]\
 nLetniki: 1. letnik (Fizika\, 1. stopnja)\nIzvajalci: Simon Godec\nProstor
 : F6
LOCATION:F6
ORGANIZER:Simon Godec
RELATED-TO:fmf-AFLABS-URNIK:srecanje:8170
X-WR-TIMEZONE:Europe/Ljubljana
END:VEVENT
BEGIN:VEVENT
SUMMARY:Tutorstvo (matematika I) (FIZ-1)\, Ostalo (O)\, [T4]
DTSTART;TZID=Europe/Ljubljana:20221227T140000
DTEND;TZID=Europe/Ljubljana:20221227T160000
DTSTAMP:20260422T134813Z
UID:fmf-AFLABS-URNIK:premaknjeno-srecanje:112300
ATTENDEE:1. letnik (Fizika, 1. stopnja)
CATEGORIES:Entry,Standard
COLOR:darkgreen
DESCRIPTION:Predmet: Tutorstvo (matematika I) (FIZ-1)\, Ostalo (O)\, [T4]\
 nLetniki: 1. letnik (Fizika\, 1. stopnja)\nIzvajalci: Simon Godec\nProstor
 : F6
LOCATION:F6
ORGANIZER:Simon Godec
RELATED-TO:fmf-AFLABS-URNIK:srecanje:8170
X-WR-TIMEZONE:Europe/Ljubljana
END:VEVENT
BEGIN:VEVENT
SUMMARY:Tutorstvo (matematika I) (FIZ-1)\, Ostalo (O)\, [T4]
DTSTART;TZID=Europe/Ljubljana:20230103T140000
DTEND;TZID=Europe/Ljubljana:20230103T160000
DTSTAMP:20260422T134813Z
UID:fmf-AFLABS-URNIK:premaknjeno-srecanje:112301
ATTENDEE:1. letnik (Fizika, 1. stopnja)
CATEGORIES:Entry,Standard
COLOR:darkgreen
DESCRIPTION:Predmet: Tutorstvo (matematika I) (FIZ-1)\, Ostalo (O)\, [T4]\
 nLetniki: 1. letnik (Fizika\, 1. stopnja)\nIzvajalci: Simon Godec\nProstor
 : F6
LOCATION:F6
ORGANIZER:Simon Godec
RELATED-TO:fmf-AFLABS-URNIK:srecanje:8170
X-WR-TIMEZONE:Europe/Ljubljana
END:VEVENT
BEGIN:VEVENT
SUMMARY:Tutorstvo (matematika I) (FIZ-1)\, Ostalo (O)\, [T4]
DTSTART;TZID=Europe/Ljubljana:20230110T140000
DTEND;TZID=Europe/Ljubljana:20230110T160000
DTSTAMP:20260422T134813Z
UID:fmf-AFLABS-URNIK:premaknjeno-srecanje:112302
ATTENDEE:1. letnik (Fizika, 1. stopnja)
CATEGORIES:Entry,Standard
COLOR:darkgreen
DESCRIPTION:Predmet: Tutorstvo (matematika I) (FIZ-1)\, Ostalo (O)\, [T4]\
 nLetniki: 1. letnik (Fizika\, 1. stopnja)\nIzvajalci: Simon Godec\nProstor
 : F6
LOCATION:F6
ORGANIZER:Simon Godec
RELATED-TO:fmf-AFLABS-URNIK:srecanje:8170
X-WR-TIMEZONE:Europe/Ljubljana
END:VEVENT
BEGIN:VEVENT
SUMMARY:Tutorstvo (matematika III) (FIZ-2)\, Ostalo (O)\, [T2]
DTSTART;TZID=Europe/Ljubljana:20221007T110000
DTEND;TZID=Europe/Ljubljana:20221007T120000
DTSTAMP:20260422T134813Z
UID:fmf-AFLABS-URNIK:premaknjeno-srecanje:113339
ATTENDEE:2. letnik (Fizika, 1. stopnja)
CATEGORIES:Entry,Standard
COLOR:darkgreen
DESCRIPTION:Predmet: Tutorstvo (matematika III) (FIZ-2)\, Ostalo (O)\, [T2
 ]\nLetniki: 2. letnik (Fizika\, 1. stopnja)\nIzvajalci: Simon Godec\nProst
 or: F6
LOCATION:F6
ORGANIZER:Simon Godec
RELATED-TO:fmf-AFLABS-URNIK:srecanje:8202
X-WR-TIMEZONE:Europe/Ljubljana
END:VEVENT
BEGIN:VEVENT
SUMMARY:Tutorstvo (matematika III) (FIZ-2)\, Ostalo (O)\, [T2]
DTSTART;TZID=Europe/Ljubljana:20221014T110000
DTEND;TZID=Europe/Ljubljana:20221014T120000
DTSTAMP:20260422T134813Z
UID:fmf-AFLABS-URNIK:premaknjeno-srecanje:113340
ATTENDEE:2. letnik (Fizika, 1. stopnja)
CATEGORIES:Entry,Standard
COLOR:darkgreen
DESCRIPTION:Predmet: Tutorstvo (matematika III) (FIZ-2)\, Ostalo (O)\, [T2
 ]\nLetniki: 2. letnik (Fizika\, 1. stopnja)\nIzvajalci: Simon Godec\nProst
 or: F6
LOCATION:F6
ORGANIZER:Simon Godec
RELATED-TO:fmf-AFLABS-URNIK:srecanje:8202
X-WR-TIMEZONE:Europe/Ljubljana
END:VEVENT
BEGIN:VEVENT
SUMMARY:Tutorstvo (matematika III) (FIZ-2)\, Ostalo (O)\, [T2]
DTSTART;TZID=Europe/Ljubljana:20221021T110000
DTEND;TZID=Europe/Ljubljana:20221021T120000
DTSTAMP:20260422T134813Z
UID:fmf-AFLABS-URNIK:premaknjeno-srecanje:113341
ATTENDEE:2. letnik (Fizika, 1. stopnja)
CATEGORIES:Entry,Standard
COLOR:darkgreen
DESCRIPTION:Predmet: Tutorstvo (matematika III) (FIZ-2)\, Ostalo (O)\, [T2
 ]\nLetniki: 2. letnik (Fizika\, 1. stopnja)\nIzvajalci: Simon Godec\nProst
 or: F6
LOCATION:F6
ORGANIZER:Simon Godec
RELATED-TO:fmf-AFLABS-URNIK:srecanje:8202
X-WR-TIMEZONE:Europe/Ljubljana
END:VEVENT
BEGIN:VEVENT
SUMMARY:Tutorstvo (matematika III) (FIZ-2)\, Ostalo (O)\, [T2]
DTSTART;TZID=Europe/Ljubljana:20221028T110000
DTEND;TZID=Europe/Ljubljana:20221028T120000
DTSTAMP:20260422T134813Z
UID:fmf-AFLABS-URNIK:premaknjeno-srecanje:113342
ATTENDEE:2. letnik (Fizika, 1. stopnja)
CATEGORIES:Entry,Standard
COLOR:darkgreen
DESCRIPTION:Predmet: Tutorstvo (matematika III) (FIZ-2)\, Ostalo (O)\, [T2
 ]\nLetniki: 2. letnik (Fizika\, 1. stopnja)\nIzvajalci: Simon Godec\nProst
 or: F6
LOCATION:F6
ORGANIZER:Simon Godec
RELATED-TO:fmf-AFLABS-URNIK:srecanje:8202
X-WR-TIMEZONE:Europe/Ljubljana
END:VEVENT
BEGIN:VEVENT
SUMMARY:Tutorstvo (matematika III) (FIZ-2)\, Ostalo (O)\, [T2]
DTSTART;TZID=Europe/Ljubljana:20221104T110000
DTEND;TZID=Europe/Ljubljana:20221104T120000
DTSTAMP:20260422T134813Z
UID:fmf-AFLABS-URNIK:premaknjeno-srecanje:113343
ATTENDEE:2. letnik (Fizika, 1. stopnja)
CATEGORIES:Entry,Standard
COLOR:darkgreen
DESCRIPTION:Predmet: Tutorstvo (matematika III) (FIZ-2)\, Ostalo (O)\, [T2
 ]\nLetniki: 2. letnik (Fizika\, 1. stopnja)\nIzvajalci: Simon Godec\nProst
 or: F6
LOCATION:F6
ORGANIZER:Simon Godec
RELATED-TO:fmf-AFLABS-URNIK:srecanje:8202
X-WR-TIMEZONE:Europe/Ljubljana
END:VEVENT
BEGIN:VEVENT
SUMMARY:Tutorstvo (matematika III) (FIZ-2)\, Ostalo (O)\, [T2]
DTSTART;TZID=Europe/Ljubljana:20221111T110000
DTEND;TZID=Europe/Ljubljana:20221111T120000
DTSTAMP:20260422T134813Z
UID:fmf-AFLABS-URNIK:premaknjeno-srecanje:113344
ATTENDEE:2. letnik (Fizika, 1. stopnja)
CATEGORIES:Entry,Standard
COLOR:darkgreen
DESCRIPTION:Predmet: Tutorstvo (matematika III) (FIZ-2)\, Ostalo (O)\, [T2
 ]\nLetniki: 2. letnik (Fizika\, 1. stopnja)\nIzvajalci: Simon Godec\nProst
 or: F6
LOCATION:F6
ORGANIZER:Simon Godec
RELATED-TO:fmf-AFLABS-URNIK:srecanje:8202
X-WR-TIMEZONE:Europe/Ljubljana
END:VEVENT
BEGIN:VEVENT
SUMMARY:Tutorstvo (matematika III) (FIZ-2)\, Ostalo (O)\, [T2]
DTSTART;TZID=Europe/Ljubljana:20221118T110000
DTEND;TZID=Europe/Ljubljana:20221118T120000
DTSTAMP:20260422T134813Z
UID:fmf-AFLABS-URNIK:premaknjeno-srecanje:113345
ATTENDEE:2. letnik (Fizika, 1. stopnja)
CATEGORIES:Entry,Standard
COLOR:darkgreen
DESCRIPTION:Predmet: Tutorstvo (matematika III) (FIZ-2)\, Ostalo (O)\, [T2
 ]\nLetniki: 2. letnik (Fizika\, 1. stopnja)\nIzvajalci: Simon Godec\nProst
 or: F6
LOCATION:F6
ORGANIZER:Simon Godec
RELATED-TO:fmf-AFLABS-URNIK:srecanje:8202
X-WR-TIMEZONE:Europe/Ljubljana
END:VEVENT
BEGIN:VEVENT
SUMMARY:Tutorstvo (matematika III) (FIZ-2)\, Ostalo (O)\, [T2]
DTSTART;TZID=Europe/Ljubljana:20221125T110000
DTEND;TZID=Europe/Ljubljana:20221125T120000
DTSTAMP:20260422T134813Z
UID:fmf-AFLABS-URNIK:premaknjeno-srecanje:113346
ATTENDEE:2. letnik (Fizika, 1. stopnja)
CATEGORIES:Entry,Standard
COLOR:darkgreen
DESCRIPTION:Predmet: Tutorstvo (matematika III) (FIZ-2)\, Ostalo (O)\, [T2
 ]\nLetniki: 2. letnik (Fizika\, 1. stopnja)\nIzvajalci: Simon Godec\nProst
 or: F6
LOCATION:F6
ORGANIZER:Simon Godec
RELATED-TO:fmf-AFLABS-URNIK:srecanje:8202
X-WR-TIMEZONE:Europe/Ljubljana
END:VEVENT
BEGIN:VEVENT
SUMMARY:Tutorstvo (matematika III) (FIZ-2)\, Ostalo (O)\, [T2]
DTSTART;TZID=Europe/Ljubljana:20221202T110000
DTEND;TZID=Europe/Ljubljana:20221202T120000
DTSTAMP:20260422T134813Z
UID:fmf-AFLABS-URNIK:premaknjeno-srecanje:113347
ATTENDEE:2. letnik (Fizika, 1. stopnja)
CATEGORIES:Entry,Standard
COLOR:darkgreen
DESCRIPTION:Predmet: Tutorstvo (matematika III) (FIZ-2)\, Ostalo (O)\, [T2
 ]\nLetniki: 2. letnik (Fizika\, 1. stopnja)\nIzvajalci: Simon Godec\nProst
 or: F6
LOCATION:F6
ORGANIZER:Simon Godec
RELATED-TO:fmf-AFLABS-URNIK:srecanje:8202
X-WR-TIMEZONE:Europe/Ljubljana
END:VEVENT
BEGIN:VEVENT
SUMMARY:Tutorstvo (matematika III) (FIZ-2)\, Ostalo (O)\, [T2]
DTSTART;TZID=Europe/Ljubljana:20221209T110000
DTEND;TZID=Europe/Ljubljana:20221209T120000
DTSTAMP:20260422T134813Z
UID:fmf-AFLABS-URNIK:premaknjeno-srecanje:113348
ATTENDEE:2. letnik (Fizika, 1. stopnja)
CATEGORIES:Entry,Standard
COLOR:darkgreen
DESCRIPTION:Predmet: Tutorstvo (matematika III) (FIZ-2)\, Ostalo (O)\, [T2
 ]\nLetniki: 2. letnik (Fizika\, 1. stopnja)\nIzvajalci: Simon Godec\nProst
 or: F6
LOCATION:F6
ORGANIZER:Simon Godec
RELATED-TO:fmf-AFLABS-URNIK:srecanje:8202
X-WR-TIMEZONE:Europe/Ljubljana
END:VEVENT
BEGIN:VEVENT
SUMMARY:Tutorstvo (matematika III) (FIZ-2)\, Ostalo (O)\, [T2]
DTSTART;TZID=Europe/Ljubljana:20221216T110000
DTEND;TZID=Europe/Ljubljana:20221216T120000
DTSTAMP:20260422T134813Z
UID:fmf-AFLABS-URNIK:premaknjeno-srecanje:113349
ATTENDEE:2. letnik (Fizika, 1. stopnja)
CATEGORIES:Entry,Standard
COLOR:darkgreen
DESCRIPTION:Predmet: Tutorstvo (matematika III) (FIZ-2)\, Ostalo (O)\, [T2
 ]\nLetniki: 2. letnik (Fizika\, 1. stopnja)\nIzvajalci: Simon Godec\nProst
 or: F6
LOCATION:F6
ORGANIZER:Simon Godec
RELATED-TO:fmf-AFLABS-URNIK:srecanje:8202
X-WR-TIMEZONE:Europe/Ljubljana
END:VEVENT
BEGIN:VEVENT
SUMMARY:Tutorstvo (matematika III) (FIZ-2)\, Ostalo (O)\, [T2]
DTSTART;TZID=Europe/Ljubljana:20221223T110000
DTEND;TZID=Europe/Ljubljana:20221223T120000
DTSTAMP:20260422T134813Z
UID:fmf-AFLABS-URNIK:premaknjeno-srecanje:113350
ATTENDEE:2. letnik (Fizika, 1. stopnja)
CATEGORIES:Entry,Standard
COLOR:darkgreen
DESCRIPTION:Predmet: Tutorstvo (matematika III) (FIZ-2)\, Ostalo (O)\, [T2
 ]\nLetniki: 2. letnik (Fizika\, 1. stopnja)\nIzvajalci: Simon Godec\nProst
 or: F6
LOCATION:F6
ORGANIZER:Simon Godec
RELATED-TO:fmf-AFLABS-URNIK:srecanje:8202
X-WR-TIMEZONE:Europe/Ljubljana
END:VEVENT
BEGIN:VEVENT
SUMMARY:Tutorstvo (matematika III) (FIZ-2)\, Ostalo (O)\, [T2]
DTSTART;TZID=Europe/Ljubljana:20221230T110000
DTEND;TZID=Europe/Ljubljana:20221230T120000
DTSTAMP:20260422T134813Z
UID:fmf-AFLABS-URNIK:premaknjeno-srecanje:113351
ATTENDEE:2. letnik (Fizika, 1. stopnja)
CATEGORIES:Entry,Standard
COLOR:darkgreen
DESCRIPTION:Predmet: Tutorstvo (matematika III) (FIZ-2)\, Ostalo (O)\, [T2
 ]\nLetniki: 2. letnik (Fizika\, 1. stopnja)\nIzvajalci: Simon Godec\nProst
 or: F6
LOCATION:F6
ORGANIZER:Simon Godec
RELATED-TO:fmf-AFLABS-URNIK:srecanje:8202
X-WR-TIMEZONE:Europe/Ljubljana
END:VEVENT
BEGIN:VEVENT
SUMMARY:Tutorstvo (matematika III) (FIZ-2)\, Ostalo (O)\, [T2]
DTSTART;TZID=Europe/Ljubljana:20230106T110000
DTEND;TZID=Europe/Ljubljana:20230106T120000
DTSTAMP:20260422T134813Z
UID:fmf-AFLABS-URNIK:premaknjeno-srecanje:113352
ATTENDEE:2. letnik (Fizika, 1. stopnja)
CATEGORIES:Entry,Standard
COLOR:darkgreen
DESCRIPTION:Predmet: Tutorstvo (matematika III) (FIZ-2)\, Ostalo (O)\, [T2
 ]\nLetniki: 2. letnik (Fizika\, 1. stopnja)\nIzvajalci: Simon Godec\nProst
 or: F6
LOCATION:F6
ORGANIZER:Simon Godec
RELATED-TO:fmf-AFLABS-URNIK:srecanje:8202
X-WR-TIMEZONE:Europe/Ljubljana
END:VEVENT
BEGIN:VEVENT
SUMMARY:Tutorstvo (matematika III) (FIZ-2)\, Ostalo (O)\, [T2]
DTSTART;TZID=Europe/Ljubljana:20230113T110000
DTEND;TZID=Europe/Ljubljana:20230113T120000
DTSTAMP:20260422T134813Z
UID:fmf-AFLABS-URNIK:premaknjeno-srecanje:113353
ATTENDEE:2. letnik (Fizika, 1. stopnja)
CATEGORIES:Entry,Standard
COLOR:darkgreen
DESCRIPTION:Predmet: Tutorstvo (matematika III) (FIZ-2)\, Ostalo (O)\, [T2
 ]\nLetniki: 2. letnik (Fizika\, 1. stopnja)\nIzvajalci: Simon Godec\nProst
 or: F6
LOCATION:F6
ORGANIZER:Simon Godec
RELATED-TO:fmf-AFLABS-URNIK:srecanje:8202
X-WR-TIMEZONE:Europe/Ljubljana
END:VEVENT
END:VCALENDAR
