BEGIN:VCALENDAR
VERSION:2.0
PRODID:-//AFLabs urnik izvoz - fmf//aflabs.si//SI
DTSTAMP:20260425T172504Z
NAME:UL FMF urnik
REFRESH-INTERVAL:PT1H
SOURCE:https://urnik.fmf.uni-lj.si/teacher/1070?day=2024-12-02&export=1
URL:https://urnik.fmf.uni-lj.si/teacher/1070?day=2024-12-02&export=1
X-PUBLISHED-TTL:PT1H
X-WR-CALNAME:UL FMF urnik
X-WR-TIMEZONE:Europe/Ljubljana
BEGIN:VTIMEZONE
TZID:Europe/Ljubljana
BEGIN:DAYLIGHT
DTSTART:20260329T020000
RDATE:20260329T020000
RDATE:20270328T020000
TZNAME:CEST
TZOFFSETFROM:+0100
TZOFFSETTO:+0200
END:DAYLIGHT
BEGIN:STANDARD
DTSTART:20261025T030000
RDATE:20261025T030000
RDATE:20271031T030000
TZNAME:CET
TZOFFSETFROM:+0200
TZOFFSETTO:+0100
END:STANDARD
END:VTIMEZONE
BEGIN:VEVENT
SUMMARY:Tutorstvo (matematika I) (FIZ-1)\, Tutorstvo (T)
DTSTART;TZID=Europe/Ljubljana:20241004T140000
DTEND;TZID=Europe/Ljubljana:20241004T160000
DTSTAMP:20260425T172504Z
UID:fmf-AFLABS-URNIK:premaknjeno-srecanje:196673
ATTENDEE:1. letnik (Fizika, 1. stopnja)
CATEGORIES:Entry,Standard
COLOR:darkgreen
DESCRIPTION:Predmet: Tutorstvo (matematika I) (FIZ-1)\, Tutorstvo (T)\nLet
 niki: 1. letnik (Fizika\, 1. stopnja)\nIzvajalci: Marcel Malovrh\nProstor:
  F5
LOCATION:F5
ORGANIZER:Marcel Malovrh
RELATED-TO:fmf-AFLABS-URNIK:srecanje:14562
X-WR-TIMEZONE:Europe/Ljubljana
END:VEVENT
BEGIN:VEVENT
SUMMARY:Tutorstvo (matematika I) (FIZ-1)\, Tutorstvo (T)
DTSTART;TZID=Europe/Ljubljana:20241011T140000
DTEND;TZID=Europe/Ljubljana:20241011T160000
DTSTAMP:20260425T172504Z
UID:fmf-AFLABS-URNIK:premaknjeno-srecanje:196674
ATTENDEE:1. letnik (Fizika, 1. stopnja)
CATEGORIES:Entry,Standard
COLOR:darkgreen
DESCRIPTION:Predmet: Tutorstvo (matematika I) (FIZ-1)\, Tutorstvo (T)\nLet
 niki: 1. letnik (Fizika\, 1. stopnja)\nIzvajalci: Marcel Malovrh\nProstor:
  F5
LOCATION:F5
ORGANIZER:Marcel Malovrh
RELATED-TO:fmf-AFLABS-URNIK:srecanje:14562
X-WR-TIMEZONE:Europe/Ljubljana
END:VEVENT
BEGIN:VEVENT
SUMMARY:Tutorstvo (matematika I) (FIZ-1)\, Tutorstvo (T)
DTSTART;TZID=Europe/Ljubljana:20241018T140000
DTEND;TZID=Europe/Ljubljana:20241018T160000
DTSTAMP:20260425T172504Z
UID:fmf-AFLABS-URNIK:premaknjeno-srecanje:196675
ATTENDEE:1. letnik (Fizika, 1. stopnja)
CATEGORIES:Entry,Standard
COLOR:darkgreen
DESCRIPTION:Predmet: Tutorstvo (matematika I) (FIZ-1)\, Tutorstvo (T)\nLet
 niki: 1. letnik (Fizika\, 1. stopnja)\nIzvajalci: Marcel Malovrh\nProstor:
  F5
LOCATION:F5
ORGANIZER:Marcel Malovrh
RELATED-TO:fmf-AFLABS-URNIK:srecanje:14562
X-WR-TIMEZONE:Europe/Ljubljana
END:VEVENT
BEGIN:VEVENT
SUMMARY:Tutorstvo (matematika I) (FIZ-1)\, Tutorstvo (T)
DTSTART;TZID=Europe/Ljubljana:20241025T140000
DTEND;TZID=Europe/Ljubljana:20241025T160000
DTSTAMP:20260425T172504Z
UID:fmf-AFLABS-URNIK:premaknjeno-srecanje:196676
ATTENDEE:1. letnik (Fizika, 1. stopnja)
CATEGORIES:Entry,Standard
COLOR:darkgreen
DESCRIPTION:Predmet: Tutorstvo (matematika I) (FIZ-1)\, Tutorstvo (T)\nLet
 niki: 1. letnik (Fizika\, 1. stopnja)\nIzvajalci: Marcel Malovrh\nProstor:
  F5
LOCATION:F5
ORGANIZER:Marcel Malovrh
RELATED-TO:fmf-AFLABS-URNIK:srecanje:14562
X-WR-TIMEZONE:Europe/Ljubljana
END:VEVENT
BEGIN:VEVENT
SUMMARY:Tutorstvo (matematika I) (FIZ-1)\, Tutorstvo (T)
DTSTART;TZID=Europe/Ljubljana:20241101T140000
DTEND;TZID=Europe/Ljubljana:20241101T160000
DTSTAMP:20260425T172504Z
UID:fmf-AFLABS-URNIK:premaknjeno-srecanje:196677
ATTENDEE:1. letnik (Fizika, 1. stopnja)
CATEGORIES:Entry,Standard
COLOR:darkgreen
DESCRIPTION:Predmet: Tutorstvo (matematika I) (FIZ-1)\, Tutorstvo (T)\nLet
 niki: 1. letnik (Fizika\, 1. stopnja)\nIzvajalci: Marcel Malovrh\nProstor:
  F5
LOCATION:F5
ORGANIZER:Marcel Malovrh
RELATED-TO:fmf-AFLABS-URNIK:srecanje:14562
X-WR-TIMEZONE:Europe/Ljubljana
END:VEVENT
BEGIN:VEVENT
SUMMARY:Tutorstvo (matematika I) (FIZ-1)\, Tutorstvo (T)
DTSTART;TZID=Europe/Ljubljana:20241108T140000
DTEND;TZID=Europe/Ljubljana:20241108T160000
DTSTAMP:20260425T172504Z
UID:fmf-AFLABS-URNIK:premaknjeno-srecanje:196678
ATTENDEE:1. letnik (Fizika, 1. stopnja)
CATEGORIES:Entry,Standard
COLOR:darkgreen
DESCRIPTION:Predmet: Tutorstvo (matematika I) (FIZ-1)\, Tutorstvo (T)\nLet
 niki: 1. letnik (Fizika\, 1. stopnja)\nIzvajalci: Marcel Malovrh\nProstor:
  F5
LOCATION:F5
ORGANIZER:Marcel Malovrh
RELATED-TO:fmf-AFLABS-URNIK:srecanje:14562
X-WR-TIMEZONE:Europe/Ljubljana
END:VEVENT
BEGIN:VEVENT
SUMMARY:Tutorstvo (matematika I) (FIZ-1)\, Tutorstvo (T)
DTSTART;TZID=Europe/Ljubljana:20241115T140000
DTEND;TZID=Europe/Ljubljana:20241115T160000
DTSTAMP:20260425T172504Z
UID:fmf-AFLABS-URNIK:premaknjeno-srecanje:196679
ATTENDEE:1. letnik (Fizika, 1. stopnja)
CATEGORIES:Entry,Standard
COLOR:darkgreen
DESCRIPTION:Predmet: Tutorstvo (matematika I) (FIZ-1)\, Tutorstvo (T)\nLet
 niki: 1. letnik (Fizika\, 1. stopnja)\nIzvajalci: Marcel Malovrh\nProstor:
  F5
LOCATION:F5
ORGANIZER:Marcel Malovrh
RELATED-TO:fmf-AFLABS-URNIK:srecanje:14562
X-WR-TIMEZONE:Europe/Ljubljana
END:VEVENT
BEGIN:VEVENT
SUMMARY:Tutorstvo (matematika I) (FIZ-1)\, Tutorstvo (T)
DTSTART;TZID=Europe/Ljubljana:20241122T140000
DTEND;TZID=Europe/Ljubljana:20241122T160000
DTSTAMP:20260425T172504Z
UID:fmf-AFLABS-URNIK:premaknjeno-srecanje:196680
ATTENDEE:1. letnik (Fizika, 1. stopnja)
CATEGORIES:Entry,Standard
COLOR:darkgreen
DESCRIPTION:Predmet: Tutorstvo (matematika I) (FIZ-1)\, Tutorstvo (T)\nLet
 niki: 1. letnik (Fizika\, 1. stopnja)\nIzvajalci: Marcel Malovrh\nProstor:
  F5
LOCATION:F5
ORGANIZER:Marcel Malovrh
RELATED-TO:fmf-AFLABS-URNIK:srecanje:14562
X-WR-TIMEZONE:Europe/Ljubljana
END:VEVENT
BEGIN:VEVENT
SUMMARY:Tutorstvo (matematika I) (FIZ-1)\, Tutorstvo (T)
DTSTART;TZID=Europe/Ljubljana:20241129T140000
DTEND;TZID=Europe/Ljubljana:20241129T160000
DTSTAMP:20260425T172504Z
UID:fmf-AFLABS-URNIK:premaknjeno-srecanje:196681
ATTENDEE:1. letnik (Fizika, 1. stopnja)
CATEGORIES:Entry,Standard
COLOR:darkgreen
DESCRIPTION:Predmet: Tutorstvo (matematika I) (FIZ-1)\, Tutorstvo (T)\nLet
 niki: 1. letnik (Fizika\, 1. stopnja)\nIzvajalci: Marcel Malovrh\nProstor:
  F5
LOCATION:F5
ORGANIZER:Marcel Malovrh
RELATED-TO:fmf-AFLABS-URNIK:srecanje:14562
X-WR-TIMEZONE:Europe/Ljubljana
END:VEVENT
BEGIN:VEVENT
SUMMARY:Tutorstvo (matematika I) (FIZ-1)\, Tutorstvo (T)
DTSTART;TZID=Europe/Ljubljana:20241206T140000
DTEND;TZID=Europe/Ljubljana:20241206T160000
DTSTAMP:20260425T172504Z
UID:fmf-AFLABS-URNIK:premaknjeno-srecanje:196682
ATTENDEE:1. letnik (Fizika, 1. stopnja)
CATEGORIES:Entry,Standard
COLOR:darkgreen
DESCRIPTION:Predmet: Tutorstvo (matematika I) (FIZ-1)\, Tutorstvo (T)\nLet
 niki: 1. letnik (Fizika\, 1. stopnja)\nIzvajalci: Marcel Malovrh\nProstor:
  F5
LOCATION:F5
ORGANIZER:Marcel Malovrh
RELATED-TO:fmf-AFLABS-URNIK:srecanje:14562
X-WR-TIMEZONE:Europe/Ljubljana
END:VEVENT
BEGIN:VEVENT
SUMMARY:Tutorstvo (matematika I) (FIZ-1)\, Tutorstvo (T)
DTSTART;TZID=Europe/Ljubljana:20241213T140000
DTEND;TZID=Europe/Ljubljana:20241213T160000
DTSTAMP:20260425T172504Z
UID:fmf-AFLABS-URNIK:premaknjeno-srecanje:196683
ATTENDEE:1. letnik (Fizika, 1. stopnja)
CATEGORIES:Entry,Standard
COLOR:darkgreen
DESCRIPTION:Predmet: Tutorstvo (matematika I) (FIZ-1)\, Tutorstvo (T)\nLet
 niki: 1. letnik (Fizika\, 1. stopnja)\nIzvajalci: Marcel Malovrh\nProstor:
  F5
LOCATION:F5
ORGANIZER:Marcel Malovrh
RELATED-TO:fmf-AFLABS-URNIK:srecanje:14562
X-WR-TIMEZONE:Europe/Ljubljana
END:VEVENT
BEGIN:VEVENT
SUMMARY:Tutorstvo (matematika I) (FIZ-1)\, Tutorstvo (T)
DTSTART;TZID=Europe/Ljubljana:20241220T140000
DTEND;TZID=Europe/Ljubljana:20241220T160000
DTSTAMP:20260425T172504Z
UID:fmf-AFLABS-URNIK:premaknjeno-srecanje:196684
ATTENDEE:1. letnik (Fizika, 1. stopnja)
CATEGORIES:Entry,Standard
COLOR:darkgreen
DESCRIPTION:Predmet: Tutorstvo (matematika I) (FIZ-1)\, Tutorstvo (T)\nLet
 niki: 1. letnik (Fizika\, 1. stopnja)\nIzvajalci: Marcel Malovrh\nProstor:
  F5
LOCATION:F5
ORGANIZER:Marcel Malovrh
RELATED-TO:fmf-AFLABS-URNIK:srecanje:14562
X-WR-TIMEZONE:Europe/Ljubljana
END:VEVENT
BEGIN:VEVENT
SUMMARY:Tutorstvo (matematika I) (FIZ-1)\, Tutorstvo (T)
DTSTART;TZID=Europe/Ljubljana:20241227T140000
DTEND;TZID=Europe/Ljubljana:20241227T160000
DTSTAMP:20260425T172504Z
UID:fmf-AFLABS-URNIK:premaknjeno-srecanje:196685
ATTENDEE:1. letnik (Fizika, 1. stopnja)
CATEGORIES:Entry,Standard
COLOR:darkgreen
DESCRIPTION:Predmet: Tutorstvo (matematika I) (FIZ-1)\, Tutorstvo (T)\nLet
 niki: 1. letnik (Fizika\, 1. stopnja)\nIzvajalci: Marcel Malovrh\nProstor:
  F5
LOCATION:F5
ORGANIZER:Marcel Malovrh
RELATED-TO:fmf-AFLABS-URNIK:srecanje:14562
X-WR-TIMEZONE:Europe/Ljubljana
END:VEVENT
BEGIN:VEVENT
SUMMARY:Tutorstvo (matematika I) (FIZ-1)\, Tutorstvo (T)
DTSTART;TZID=Europe/Ljubljana:20250103T140000
DTEND;TZID=Europe/Ljubljana:20250103T160000
DTSTAMP:20260425T172504Z
UID:fmf-AFLABS-URNIK:premaknjeno-srecanje:196686
ATTENDEE:1. letnik (Fizika, 1. stopnja)
CATEGORIES:Entry,Standard
COLOR:darkgreen
DESCRIPTION:Predmet: Tutorstvo (matematika I) (FIZ-1)\, Tutorstvo (T)\nLet
 niki: 1. letnik (Fizika\, 1. stopnja)\nIzvajalci: Marcel Malovrh\nProstor:
  F5
LOCATION:F5
ORGANIZER:Marcel Malovrh
RELATED-TO:fmf-AFLABS-URNIK:srecanje:14562
X-WR-TIMEZONE:Europe/Ljubljana
END:VEVENT
BEGIN:VEVENT
SUMMARY:Tutorstvo (matematika I) (FIZ-1)\, Tutorstvo (T)
DTSTART;TZID=Europe/Ljubljana:20250110T140000
DTEND;TZID=Europe/Ljubljana:20250110T160000
DTSTAMP:20260425T172504Z
UID:fmf-AFLABS-URNIK:premaknjeno-srecanje:196687
ATTENDEE:1. letnik (Fizika, 1. stopnja)
CATEGORIES:Entry,Standard
COLOR:darkgreen
DESCRIPTION:Predmet: Tutorstvo (matematika I) (FIZ-1)\, Tutorstvo (T)\nLet
 niki: 1. letnik (Fizika\, 1. stopnja)\nIzvajalci: Marcel Malovrh\nProstor:
  F5
LOCATION:F5
ORGANIZER:Marcel Malovrh
RELATED-TO:fmf-AFLABS-URNIK:srecanje:14562
X-WR-TIMEZONE:Europe/Ljubljana
END:VEVENT
BEGIN:VEVENT
SUMMARY:Tutorstvo (matematika I) (FIZ-1)\, Tutorstvo (T)
DTSTART;TZID=Europe/Ljubljana:20250117T140000
DTEND;TZID=Europe/Ljubljana:20250117T160000
DTSTAMP:20260425T172504Z
UID:fmf-AFLABS-URNIK:premaknjeno-srecanje:196688
ATTENDEE:1. letnik (Fizika, 1. stopnja)
CATEGORIES:Entry,Standard
COLOR:darkgreen
DESCRIPTION:Predmet: Tutorstvo (matematika I) (FIZ-1)\, Tutorstvo (T)\nLet
 niki: 1. letnik (Fizika\, 1. stopnja)\nIzvajalci: Marcel Malovrh\nProstor:
  F5
LOCATION:F5
ORGANIZER:Marcel Malovrh
RELATED-TO:fmf-AFLABS-URNIK:srecanje:14562
X-WR-TIMEZONE:Europe/Ljubljana
END:VEVENT
END:VCALENDAR
