BEGIN:VCALENDAR
VERSION:2.0
PRODID:-//AFLabs urnik izvoz - fmf//aflabs.si//SI
DTSTAMP:20260424T071153Z
NAME:UL FMF urnik
REFRESH-INTERVAL:PT1H
SOURCE:https://urnik.fmf.uni-lj.si/teacher/1070?day=2025-04-28&export=1
URL:https://urnik.fmf.uni-lj.si/teacher/1070?day=2025-04-28&export=1
X-PUBLISHED-TTL:PT1H
X-WR-CALNAME:UL FMF urnik
X-WR-TIMEZONE:Europe/Ljubljana
BEGIN:VTIMEZONE
TZID:Europe/Ljubljana
BEGIN:DAYLIGHT
DTSTART:20260329T020000
RDATE:20260329T020000
RDATE:20270328T020000
TZNAME:CEST
TZOFFSETFROM:+0100
TZOFFSETTO:+0200
END:DAYLIGHT
BEGIN:STANDARD
DTSTART:20261025T030000
RDATE:20261025T030000
RDATE:20271031T030000
TZNAME:CET
TZOFFSETFROM:+0200
TZOFFSETTO:+0100
END:STANDARD
END:VTIMEZONE
BEGIN:VEVENT
SUMMARY:Tutorstvo (matematika II) (FIZ-1)\, Tutorstvo (T)
DTSTART;TZID=Europe/Ljubljana:20250220T130000
DTEND;TZID=Europe/Ljubljana:20250220T140000
DTSTAMP:20260424T071153Z
UID:fmf-AFLABS-URNIK:premaknjeno-srecanje:214256
ATTENDEE:1. letnik (Fizika, 1. stopnja)
CATEGORIES:Entry,Standard
COLOR:darkgreen
DESCRIPTION:Predmet: Tutorstvo (matematika II) (FIZ-1)\, Tutorstvo (T)\nLe
 tniki: 1. letnik (Fizika\, 1. stopnja)\nIzvajalci: Marcel Malovrh\nProstor
 : F1
LOCATION:F1
ORGANIZER:Marcel Malovrh
RELATED-TO:fmf-AFLABS-URNIK:srecanje:15651
X-WR-TIMEZONE:Europe/Ljubljana
END:VEVENT
BEGIN:VEVENT
SUMMARY:Tutorstvo (matematika II) (FIZ-1)\, Tutorstvo (T)
DTSTART;TZID=Europe/Ljubljana:20250227T130000
DTEND;TZID=Europe/Ljubljana:20250227T140000
DTSTAMP:20260424T071153Z
UID:fmf-AFLABS-URNIK:premaknjeno-srecanje:214257
ATTENDEE:1. letnik (Fizika, 1. stopnja)
CATEGORIES:Entry,Standard
COLOR:darkgreen
DESCRIPTION:Predmet: Tutorstvo (matematika II) (FIZ-1)\, Tutorstvo (T)\nLe
 tniki: 1. letnik (Fizika\, 1. stopnja)\nIzvajalci: Marcel Malovrh\nProstor
 : F1
LOCATION:F1
ORGANIZER:Marcel Malovrh
RELATED-TO:fmf-AFLABS-URNIK:srecanje:15651
X-WR-TIMEZONE:Europe/Ljubljana
END:VEVENT
BEGIN:VEVENT
SUMMARY:Tutorstvo (matematika II) (FIZ-1)\, Tutorstvo (T)
DTSTART;TZID=Europe/Ljubljana:20250306T130000
DTEND;TZID=Europe/Ljubljana:20250306T150000
DTSTAMP:20260424T071153Z
UID:fmf-AFLABS-URNIK:premaknjeno-srecanje:214258
ATTENDEE:1. letnik (Fizika, 1. stopnja)
CATEGORIES:Entry,Special
COLOR:forestgreen
DESCRIPTION:Predmet: Tutorstvo (matematika II) (FIZ-1)\, Tutorstvo (T)\nLe
 tniki: 1. letnik (Fizika\, 1. stopnja)\nIzvajalci: Marcel Malovrh\nProstor
 : F1
LOCATION:F1
ORGANIZER:Marcel Malovrh
RELATED-TO:fmf-AFLABS-URNIK:srecanje:15651
X-WR-TIMEZONE:Europe/Ljubljana
END:VEVENT
BEGIN:VEVENT
SUMMARY:Tutorstvo (matematika II) (FIZ-1)\, Tutorstvo (T)
DTSTART;TZID=Europe/Ljubljana:20250313T130000
DTEND;TZID=Europe/Ljubljana:20250313T150000
DTSTAMP:20260424T071153Z
UID:fmf-AFLABS-URNIK:premaknjeno-srecanje:214259
ATTENDEE:1. letnik (Fizika, 1. stopnja)
CATEGORIES:Entry,Standard
COLOR:darkgreen
DESCRIPTION:Predmet: Tutorstvo (matematika II) (FIZ-1)\, Tutorstvo (T)\nLe
 tniki: 1. letnik (Fizika\, 1. stopnja)\nIzvajalci: Marcel Malovrh\nProstor
 : F3
LOCATION:F3
ORGANIZER:Marcel Malovrh
RELATED-TO:fmf-AFLABS-URNIK:srecanje:15652
X-WR-TIMEZONE:Europe/Ljubljana
END:VEVENT
BEGIN:VEVENT
SUMMARY:Tutorstvo (matematika II) (FIZ-1)\, Tutorstvo (T)
DTSTART;TZID=Europe/Ljubljana:20250320T130000
DTEND;TZID=Europe/Ljubljana:20250320T150000
DTSTAMP:20260424T071153Z
UID:fmf-AFLABS-URNIK:premaknjeno-srecanje:214260
ATTENDEE:1. letnik (Fizika, 1. stopnja)
CATEGORIES:Entry,Standard
COLOR:darkgreen
DESCRIPTION:Predmet: Tutorstvo (matematika II) (FIZ-1)\, Tutorstvo (T)\nLe
 tniki: 1. letnik (Fizika\, 1. stopnja)\nIzvajalci: Marcel Malovrh\nProstor
 : F1
LOCATION:F1
ORGANIZER:Marcel Malovrh
RELATED-TO:fmf-AFLABS-URNIK:srecanje:15738
X-WR-TIMEZONE:Europe/Ljubljana
END:VEVENT
BEGIN:VEVENT
SUMMARY:Tutorstvo (matematika II) (FIZ-1)\, Tutorstvo (T)
DTSTART;TZID=Europe/Ljubljana:20250327T130000
DTEND;TZID=Europe/Ljubljana:20250327T150000
DTSTAMP:20260424T071153Z
UID:fmf-AFLABS-URNIK:premaknjeno-srecanje:214261
ATTENDEE:1. letnik (Fizika, 1. stopnja)
CATEGORIES:Entry,Standard
COLOR:darkgreen
DESCRIPTION:Predmet: Tutorstvo (matematika II) (FIZ-1)\, Tutorstvo (T)\nLe
 tniki: 1. letnik (Fizika\, 1. stopnja)\nIzvajalci: Marcel Malovrh\nProstor
 : F1
LOCATION:F1
ORGANIZER:Marcel Malovrh
RELATED-TO:fmf-AFLABS-URNIK:srecanje:15738
X-WR-TIMEZONE:Europe/Ljubljana
END:VEVENT
BEGIN:VEVENT
SUMMARY:Tutorstvo (matematika II) (FIZ-1)\, Tutorstvo (T)
DTSTART;TZID=Europe/Ljubljana:20250403T130000
DTEND;TZID=Europe/Ljubljana:20250403T150000
DTSTAMP:20260424T071153Z
UID:fmf-AFLABS-URNIK:premaknjeno-srecanje:214262
ATTENDEE:1. letnik (Fizika, 1. stopnja)
CATEGORIES:Entry,Standard
COLOR:darkgreen
DESCRIPTION:Predmet: Tutorstvo (matematika II) (FIZ-1)\, Tutorstvo (T)\nLe
 tniki: 1. letnik (Fizika\, 1. stopnja)\nIzvajalci: Marcel Malovrh\nProstor
 : F1
LOCATION:F1
ORGANIZER:Marcel Malovrh
RELATED-TO:fmf-AFLABS-URNIK:srecanje:15738
X-WR-TIMEZONE:Europe/Ljubljana
END:VEVENT
BEGIN:VEVENT
SUMMARY:Tutorstvo (matematika II) (FIZ-1)\, Tutorstvo (T)
DTSTART;TZID=Europe/Ljubljana:20250410T130000
DTEND;TZID=Europe/Ljubljana:20250410T150000
DTSTAMP:20260424T071153Z
UID:fmf-AFLABS-URNIK:premaknjeno-srecanje:214263
ATTENDEE:1. letnik (Fizika, 1. stopnja)
CATEGORIES:Entry,Standard
COLOR:darkgreen
DESCRIPTION:Predmet: Tutorstvo (matematika II) (FIZ-1)\, Tutorstvo (T)\nLe
 tniki: 1. letnik (Fizika\, 1. stopnja)\nIzvajalci: Marcel Malovrh\nProstor
 : F1
LOCATION:F1
ORGANIZER:Marcel Malovrh
RELATED-TO:fmf-AFLABS-URNIK:srecanje:15738
X-WR-TIMEZONE:Europe/Ljubljana
END:VEVENT
BEGIN:VEVENT
SUMMARY:Tutorstvo (matematika II) (FIZ-1)\, Tutorstvo (T)
DTSTART;TZID=Europe/Ljubljana:20250417T130000
DTEND;TZID=Europe/Ljubljana:20250417T150000
DTSTAMP:20260424T071153Z
UID:fmf-AFLABS-URNIK:premaknjeno-srecanje:214264
ATTENDEE:1. letnik (Fizika, 1. stopnja)
CATEGORIES:Entry,Standard
COLOR:darkgreen
DESCRIPTION:Predmet: Tutorstvo (matematika II) (FIZ-1)\, Tutorstvo (T)\nLe
 tniki: 1. letnik (Fizika\, 1. stopnja)\nIzvajalci: Marcel Malovrh\nProstor
 : F1
LOCATION:F1
ORGANIZER:Marcel Malovrh
RELATED-TO:fmf-AFLABS-URNIK:srecanje:15738
X-WR-TIMEZONE:Europe/Ljubljana
END:VEVENT
BEGIN:VEVENT
SUMMARY:Tutorstvo (matematika II) (FIZ-1)\, Tutorstvo (T)
DTSTART;TZID=Europe/Ljubljana:20250424T130000
DTEND;TZID=Europe/Ljubljana:20250424T150000
DTSTAMP:20260424T071153Z
UID:fmf-AFLABS-URNIK:premaknjeno-srecanje:214265
ATTENDEE:1. letnik (Fizika, 1. stopnja)
CATEGORIES:Entry,Standard
COLOR:darkgreen
DESCRIPTION:Predmet: Tutorstvo (matematika II) (FIZ-1)\, Tutorstvo (T)\nLe
 tniki: 1. letnik (Fizika\, 1. stopnja)\nIzvajalci: Marcel Malovrh\nProstor
 : F1
LOCATION:F1
ORGANIZER:Marcel Malovrh
RELATED-TO:fmf-AFLABS-URNIK:srecanje:15738
X-WR-TIMEZONE:Europe/Ljubljana
END:VEVENT
BEGIN:VEVENT
SUMMARY:Tutorstvo (matematika II) (FIZ-1)\, Tutorstvo (T)
DTSTART;TZID=Europe/Ljubljana:20250501T130000
DTEND;TZID=Europe/Ljubljana:20250501T150000
DTSTAMP:20260424T071153Z
UID:fmf-AFLABS-URNIK:premaknjeno-srecanje:214266
ATTENDEE:1. letnik (Fizika, 1. stopnja)
CATEGORIES:Entry,Standard
COLOR:darkgreen
DESCRIPTION:Predmet: Tutorstvo (matematika II) (FIZ-1)\, Tutorstvo (T)\nLe
 tniki: 1. letnik (Fizika\, 1. stopnja)\nIzvajalci: Marcel Malovrh\nProstor
 : F1
LOCATION:F1
ORGANIZER:Marcel Malovrh
RELATED-TO:fmf-AFLABS-URNIK:srecanje:15738
X-WR-TIMEZONE:Europe/Ljubljana
END:VEVENT
BEGIN:VEVENT
SUMMARY:Tutorstvo (matematika II) (FIZ-1)\, Tutorstvo (T)
DTSTART;TZID=Europe/Ljubljana:20250508T130000
DTEND;TZID=Europe/Ljubljana:20250508T150000
DTSTAMP:20260424T071153Z
UID:fmf-AFLABS-URNIK:premaknjeno-srecanje:214267
ATTENDEE:1. letnik (Fizika, 1. stopnja)
CATEGORIES:Entry,Standard
COLOR:darkgreen
DESCRIPTION:Predmet: Tutorstvo (matematika II) (FIZ-1)\, Tutorstvo (T)\nLe
 tniki: 1. letnik (Fizika\, 1. stopnja)\nIzvajalci: Marcel Malovrh\nProstor
 : F1
LOCATION:F1
ORGANIZER:Marcel Malovrh
RELATED-TO:fmf-AFLABS-URNIK:srecanje:15738
X-WR-TIMEZONE:Europe/Ljubljana
END:VEVENT
BEGIN:VEVENT
SUMMARY:Tutorstvo (matematika II) (FIZ-1)\, Tutorstvo (T)
DTSTART;TZID=Europe/Ljubljana:20250515T130000
DTEND;TZID=Europe/Ljubljana:20250515T150000
DTSTAMP:20260424T071153Z
UID:fmf-AFLABS-URNIK:premaknjeno-srecanje:214268
ATTENDEE:1. letnik (Fizika, 1. stopnja)
CATEGORIES:Entry,Standard
COLOR:darkgreen
DESCRIPTION:Predmet: Tutorstvo (matematika II) (FIZ-1)\, Tutorstvo (T)\nLe
 tniki: 1. letnik (Fizika\, 1. stopnja)\nIzvajalci: Marcel Malovrh\nProstor
 : F1
LOCATION:F1
ORGANIZER:Marcel Malovrh
RELATED-TO:fmf-AFLABS-URNIK:srecanje:15738
X-WR-TIMEZONE:Europe/Ljubljana
END:VEVENT
BEGIN:VEVENT
SUMMARY:Tutorstvo (matematika II) (FIZ-1)\, Tutorstvo (T)
DTSTART;TZID=Europe/Ljubljana:20250522T130000
DTEND;TZID=Europe/Ljubljana:20250522T150000
DTSTAMP:20260424T071153Z
UID:fmf-AFLABS-URNIK:premaknjeno-srecanje:214269
ATTENDEE:1. letnik (Fizika, 1. stopnja)
CATEGORIES:Entry,Standard
COLOR:darkgreen
DESCRIPTION:Predmet: Tutorstvo (matematika II) (FIZ-1)\, Tutorstvo (T)\nLe
 tniki: 1. letnik (Fizika\, 1. stopnja)\nIzvajalci: Marcel Malovrh\nProstor
 : F1
LOCATION:F1
ORGANIZER:Marcel Malovrh
RELATED-TO:fmf-AFLABS-URNIK:srecanje:15738
X-WR-TIMEZONE:Europe/Ljubljana
END:VEVENT
BEGIN:VEVENT
SUMMARY:Tutorstvo (matematika II) (FIZ-1)\, Tutorstvo (T)
DTSTART;TZID=Europe/Ljubljana:20250529T130000
DTEND;TZID=Europe/Ljubljana:20250529T150000
DTSTAMP:20260424T071153Z
UID:fmf-AFLABS-URNIK:premaknjeno-srecanje:214270
ATTENDEE:1. letnik (Fizika, 1. stopnja)
CATEGORIES:Entry,Standard
COLOR:darkgreen
DESCRIPTION:Predmet: Tutorstvo (matematika II) (FIZ-1)\, Tutorstvo (T)\nLe
 tniki: 1. letnik (Fizika\, 1. stopnja)\nIzvajalci: Marcel Malovrh\nProstor
 : F1
LOCATION:F1
ORGANIZER:Marcel Malovrh
RELATED-TO:fmf-AFLABS-URNIK:srecanje:15738
X-WR-TIMEZONE:Europe/Ljubljana
END:VEVENT
BEGIN:VEVENT
SUMMARY:Tutorstvo (matematika II) (FIZ-1)\, Tutorstvo (T)
DTSTART;TZID=Europe/Ljubljana:20250605T130000
DTEND;TZID=Europe/Ljubljana:20250605T150000
DTSTAMP:20260424T071153Z
UID:fmf-AFLABS-URNIK:premaknjeno-srecanje:214271
ATTENDEE:1. letnik (Fizika, 1. stopnja)
CATEGORIES:Entry,Standard
COLOR:darkgreen
DESCRIPTION:Predmet: Tutorstvo (matematika II) (FIZ-1)\, Tutorstvo (T)\nLe
 tniki: 1. letnik (Fizika\, 1. stopnja)\nIzvajalci: Marcel Malovrh\nProstor
 : F1
LOCATION:F1
ORGANIZER:Marcel Malovrh
RELATED-TO:fmf-AFLABS-URNIK:srecanje:15738
X-WR-TIMEZONE:Europe/Ljubljana
END:VEVENT
END:VCALENDAR
