BEGIN:VCALENDAR
VERSION:2.0
PRODID:-//AFLabs urnik izvoz - fmf//aflabs.si//SI
DTSTAMP:20260419T204146Z
NAME:UL FMF urnik
REFRESH-INTERVAL:PT1H
SOURCE:https://urnik.fmf.uni-lj.si/teacher/107?day=2023-09-25&export=1
URL:https://urnik.fmf.uni-lj.si/teacher/107?day=2023-09-25&export=1
X-PUBLISHED-TTL:PT1H
X-WR-CALNAME:UL FMF urnik
X-WR-TIMEZONE:Europe/Ljubljana
BEGIN:VTIMEZONE
TZID:Europe/Ljubljana
BEGIN:DAYLIGHT
DTSTART:20260329T020000
RDATE:20260329T020000
RDATE:20270328T020000
TZNAME:CEST
TZOFFSETFROM:+0100
TZOFFSETTO:+0200
END:DAYLIGHT
BEGIN:STANDARD
DTSTART:20261025T030000
RDATE:20261025T030000
RDATE:20271031T030000
TZNAME:CET
TZOFFSETFROM:+0200
TZOFFSETTO:+0100
END:STANDARD
END:VTIMEZONE
BEGIN:VEVENT
SUMMARY:Fizika (FKKT Teh. varnost) ()\, Predavanja (P)
DTSTART;TZID=Europe/Ljubljana:20231002T130000
DTEND;TZID=Europe/Ljubljana:20231002T160000
DTSTAMP:20260419T204146Z
UID:fmf-AFLABS-URNIK:premaknjeno-srecanje:25823
CATEGORIES:Entry,Standard
COLOR:darkgreen
DESCRIPTION:Predmet: Fizika (FKKT Teh. varnost) ()\, Predavanja (P)\nLetni
 ki: \nIzvajalci: Miha Ravnik\nProstor: MFP
LOCATION:MFP
ORGANIZER:Miha Ravnik
RELATED-TO:fmf-AFLABS-URNIK:srecanje:9092
X-WR-TIMEZONE:Europe/Ljubljana
END:VEVENT
BEGIN:VEVENT
SUMMARY:Fizika (FKKT Teh. varnost) ()\, Predavanja (P)
DTSTART;TZID=Europe/Ljubljana:20231009T130000
DTEND;TZID=Europe/Ljubljana:20231009T160000
DTSTAMP:20260419T204146Z
UID:fmf-AFLABS-URNIK:premaknjeno-srecanje:25824
CATEGORIES:Entry,Standard
COLOR:darkgreen
DESCRIPTION:Predmet: Fizika (FKKT Teh. varnost) ()\, Predavanja (P)\nLetni
 ki: \nIzvajalci: Miha Ravnik\nProstor: MFP
LOCATION:MFP
ORGANIZER:Miha Ravnik
RELATED-TO:fmf-AFLABS-URNIK:srecanje:9092
X-WR-TIMEZONE:Europe/Ljubljana
END:VEVENT
BEGIN:VEVENT
SUMMARY:Fizika (FKKT Teh. varnost) ()\, Predavanja (P)
DTSTART;TZID=Europe/Ljubljana:20231016T130000
DTEND;TZID=Europe/Ljubljana:20231016T160000
DTSTAMP:20260419T204146Z
UID:fmf-AFLABS-URNIK:premaknjeno-srecanje:25825
CATEGORIES:Entry,Standard
COLOR:darkgreen
DESCRIPTION:Predmet: Fizika (FKKT Teh. varnost) ()\, Predavanja (P)\nLetni
 ki: \nIzvajalci: Miha Ravnik\nProstor: MFP
LOCATION:MFP
ORGANIZER:Miha Ravnik
RELATED-TO:fmf-AFLABS-URNIK:srecanje:9092
X-WR-TIMEZONE:Europe/Ljubljana
END:VEVENT
BEGIN:VEVENT
SUMMARY:Fizika (FKKT Teh. varnost) ()\, Predavanja (P)
DTSTART;TZID=Europe/Ljubljana:20231023T130000
DTEND;TZID=Europe/Ljubljana:20231023T160000
DTSTAMP:20260419T204146Z
UID:fmf-AFLABS-URNIK:premaknjeno-srecanje:25826
CATEGORIES:Entry,Standard
COLOR:darkgreen
DESCRIPTION:Predmet: Fizika (FKKT Teh. varnost) ()\, Predavanja (P)\nLetni
 ki: \nIzvajalci: Miha Ravnik\nProstor: MFP
LOCATION:MFP
ORGANIZER:Miha Ravnik
RELATED-TO:fmf-AFLABS-URNIK:srecanje:9092
X-WR-TIMEZONE:Europe/Ljubljana
END:VEVENT
BEGIN:VEVENT
SUMMARY:Fizika (FKKT Teh. varnost) ()\, Predavanja (P)
DTSTART;TZID=Europe/Ljubljana:20231030T130000
DTEND;TZID=Europe/Ljubljana:20231030T160000
DTSTAMP:20260419T204146Z
UID:fmf-AFLABS-URNIK:premaknjeno-srecanje:25827
CATEGORIES:Entry,Standard
COLOR:darkgreen
DESCRIPTION:Predmet: Fizika (FKKT Teh. varnost) ()\, Predavanja (P)\nLetni
 ki: \nIzvajalci: Miha Ravnik\nProstor: MFP
LOCATION:MFP
ORGANIZER:Miha Ravnik
RELATED-TO:fmf-AFLABS-URNIK:srecanje:9092
X-WR-TIMEZONE:Europe/Ljubljana
END:VEVENT
BEGIN:VEVENT
SUMMARY:Kolegij dekana ()\, Ostalo (O)
DTSTART;TZID=Europe/Ljubljana:20231002T080000
DTEND;TZID=Europe/Ljubljana:20231002T120000
DTSTAMP:20260419T204146Z
UID:fmf-AFLABS-URNIK:premaknjeno-srecanje:52095
CATEGORIES:Entry,Standard
COLOR:darkgreen
DESCRIPTION:Predmet: Kolegij dekana ()\, Ostalo (O)\nLetniki: \nIzvajalci:
  Miran Černe\, Bor Plestenjak\, Miha Ravnik\, Ljupčo Todorovski\nProstor
 : Sejna soba J21
LOCATION:Sejna soba J21
ORGANIZER:Miran Černe, Bor Plestenjak, Miha Ravnik, Ljupčo Todorovski
RELATED-TO:fmf-AFLABS-URNIK:srecanje:9221
X-WR-TIMEZONE:Europe/Ljubljana
END:VEVENT
BEGIN:VEVENT
SUMMARY:Kolegij dekana ()\, Ostalo (O)
DTSTART;TZID=Europe/Ljubljana:20231009T080000
DTEND;TZID=Europe/Ljubljana:20231009T120000
DTSTAMP:20260419T204146Z
UID:fmf-AFLABS-URNIK:premaknjeno-srecanje:52096
CATEGORIES:Entry,Standard
COLOR:darkgreen
DESCRIPTION:Predmet: Kolegij dekana ()\, Ostalo (O)\nLetniki: \nIzvajalci:
  Miran Černe\, Bor Plestenjak\, Miha Ravnik\, Ljupčo Todorovski\nProstor
 : Sejna soba J21
LOCATION:Sejna soba J21
ORGANIZER:Miran Černe, Bor Plestenjak, Miha Ravnik, Ljupčo Todorovski
RELATED-TO:fmf-AFLABS-URNIK:srecanje:9221
X-WR-TIMEZONE:Europe/Ljubljana
END:VEVENT
BEGIN:VEVENT
SUMMARY:Kolegij dekana ()\, Ostalo (O)
DTSTART;TZID=Europe/Ljubljana:20231016T080000
DTEND;TZID=Europe/Ljubljana:20231016T120000
DTSTAMP:20260419T204146Z
UID:fmf-AFLABS-URNIK:premaknjeno-srecanje:52097
CATEGORIES:Entry,Standard
COLOR:darkgreen
DESCRIPTION:Predmet: Kolegij dekana ()\, Ostalo (O)\nLetniki: \nIzvajalci:
  Miran Černe\, Bor Plestenjak\, Miha Ravnik\, Ljupčo Todorovski\nProstor
 : Sejna soba J21
LOCATION:Sejna soba J21
ORGANIZER:Miran Černe, Bor Plestenjak, Miha Ravnik, Ljupčo Todorovski
RELATED-TO:fmf-AFLABS-URNIK:srecanje:9221
X-WR-TIMEZONE:Europe/Ljubljana
END:VEVENT
BEGIN:VEVENT
SUMMARY:Kolegij dekana ()\, Ostalo (O)
DTSTART;TZID=Europe/Ljubljana:20231023T080000
DTEND;TZID=Europe/Ljubljana:20231023T120000
DTSTAMP:20260419T204146Z
UID:fmf-AFLABS-URNIK:premaknjeno-srecanje:52098
CATEGORIES:Entry,Standard
COLOR:darkgreen
DESCRIPTION:Predmet: Kolegij dekana ()\, Ostalo (O)\nLetniki: \nIzvajalci:
  Miran Černe\, Bor Plestenjak\, Miha Ravnik\, Ljupčo Todorovski\nProstor
 : Sejna soba J21
LOCATION:Sejna soba J21
ORGANIZER:Miran Černe, Bor Plestenjak, Miha Ravnik, Ljupčo Todorovski
RELATED-TO:fmf-AFLABS-URNIK:srecanje:9221
X-WR-TIMEZONE:Europe/Ljubljana
END:VEVENT
BEGIN:VEVENT
SUMMARY:Kolegij dekana ()\, Ostalo (O)
DTSTART;TZID=Europe/Ljubljana:20231030T080000
DTEND;TZID=Europe/Ljubljana:20231030T120000
DTSTAMP:20260419T204146Z
UID:fmf-AFLABS-URNIK:premaknjeno-srecanje:52099
CATEGORIES:Entry,Standard
COLOR:darkgreen
DESCRIPTION:Predmet: Kolegij dekana ()\, Ostalo (O)\nLetniki: \nIzvajalci:
  Miran Černe\, Bor Plestenjak\, Miha Ravnik\, Ljupčo Todorovski\nProstor
 : Sejna soba J21
LOCATION:Sejna soba J21
ORGANIZER:Miran Černe, Bor Plestenjak, Miha Ravnik, Ljupčo Todorovski
RELATED-TO:fmf-AFLABS-URNIK:srecanje:9221
X-WR-TIMEZONE:Europe/Ljubljana
END:VEVENT
BEGIN:VEVENT
SUMMARY:Seminar skupine za fiziko mehke in delno urejene snovi ()\, Semina
 r (S)
DTSTART;TZID=Europe/Ljubljana:20231003T100000
DTEND;TZID=Europe/Ljubljana:20231003T120000
DTSTAMP:20260419T204146Z
UID:fmf-AFLABS-URNIK:premaknjeno-srecanje:102060
CATEGORIES:Entry,Standard
COLOR:darkgreen
DESCRIPTION:Predmet: Seminar skupine za fiziko mehke in delno urejene snov
 i ()\, Seminar (S)\nLetniki: \nIzvajalci: Polona Aupič\, Enej Caf\, Simon
  Čopar\, Benjamin Knez\, Žiga Kos\, Nika Kralj\, Matevž Marinčič\, Pe
 ter Marinko\, Urban Mur\, Miha Ravnik\, Peter Ropač\, Andreja Šarlah\, G
 regor Skačej\, Daniel Svenšek\, Jaka Zaplotnik\, Slobodan Žumer\nProsto
 r: F7
LOCATION:F7
ORGANIZER:Polona Aupič, Enej Caf, Simon Čopar, Benjamin Knez, Žiga Kos,
  Nika Kralj, Matevž Marinčič, Peter Marinko, Urban Mur, Miha Ravnik, Pe
 ter Ropač, Andreja Šarlah, Gregor Skačej, Daniel Svenšek, Jaka Zaplotn
 ik, Slobodan Žumer
RELATED-TO:fmf-AFLABS-URNIK:srecanje:9462
X-WR-TIMEZONE:Europe/Ljubljana
END:VEVENT
BEGIN:VEVENT
SUMMARY:Seminar skupine za fiziko mehke in delno urejene snovi ()\, Semina
 r (S)
DTSTART;TZID=Europe/Ljubljana:20231010T100000
DTEND;TZID=Europe/Ljubljana:20231010T120000
DTSTAMP:20260419T204146Z
UID:fmf-AFLABS-URNIK:premaknjeno-srecanje:102061
CATEGORIES:Entry,Standard
COLOR:darkgreen
DESCRIPTION:Predmet: Seminar skupine za fiziko mehke in delno urejene snov
 i ()\, Seminar (S)\nLetniki: \nIzvajalci: Polona Aupič\, Enej Caf\, Simon
  Čopar\, Benjamin Knez\, Žiga Kos\, Nika Kralj\, Matevž Marinčič\, Pe
 ter Marinko\, Urban Mur\, Miha Ravnik\, Peter Ropač\, Andreja Šarlah\, G
 regor Skačej\, Daniel Svenšek\, Jaka Zaplotnik\, Slobodan Žumer\nProsto
 r: F7
LOCATION:F7
ORGANIZER:Polona Aupič, Enej Caf, Simon Čopar, Benjamin Knez, Žiga Kos,
  Nika Kralj, Matevž Marinčič, Peter Marinko, Urban Mur, Miha Ravnik, Pe
 ter Ropač, Andreja Šarlah, Gregor Skačej, Daniel Svenšek, Jaka Zaplotn
 ik, Slobodan Žumer
RELATED-TO:fmf-AFLABS-URNIK:srecanje:9462
X-WR-TIMEZONE:Europe/Ljubljana
END:VEVENT
BEGIN:VEVENT
SUMMARY:Seminar skupine za fiziko mehke in delno urejene snovi ()\, Semina
 r (S)
DTSTART;TZID=Europe/Ljubljana:20231017T100000
DTEND;TZID=Europe/Ljubljana:20231017T120000
DTSTAMP:20260419T204146Z
UID:fmf-AFLABS-URNIK:premaknjeno-srecanje:102062
CATEGORIES:Entry,Standard
COLOR:darkgreen
DESCRIPTION:Predmet: Seminar skupine za fiziko mehke in delno urejene snov
 i ()\, Seminar (S)\nLetniki: \nIzvajalci: Polona Aupič\, Enej Caf\, Simon
  Čopar\, Benjamin Knez\, Žiga Kos\, Nika Kralj\, Matevž Marinčič\, Pe
 ter Marinko\, Urban Mur\, Miha Ravnik\, Peter Ropač\, Andreja Šarlah\, G
 regor Skačej\, Daniel Svenšek\, Jaka Zaplotnik\, Slobodan Žumer\nProsto
 r: F7
LOCATION:F7
ORGANIZER:Polona Aupič, Enej Caf, Simon Čopar, Benjamin Knez, Žiga Kos,
  Nika Kralj, Matevž Marinčič, Peter Marinko, Urban Mur, Miha Ravnik, Pe
 ter Ropač, Andreja Šarlah, Gregor Skačej, Daniel Svenšek, Jaka Zaplotn
 ik, Slobodan Žumer
RELATED-TO:fmf-AFLABS-URNIK:srecanje:9462
X-WR-TIMEZONE:Europe/Ljubljana
END:VEVENT
BEGIN:VEVENT
SUMMARY:Seminar skupine za fiziko mehke in delno urejene snovi ()\, Semina
 r (S)
DTSTART;TZID=Europe/Ljubljana:20231024T100000
DTEND;TZID=Europe/Ljubljana:20231024T120000
DTSTAMP:20260419T204146Z
UID:fmf-AFLABS-URNIK:premaknjeno-srecanje:102063
CATEGORIES:Entry,Standard
COLOR:darkgreen
DESCRIPTION:Predmet: Seminar skupine za fiziko mehke in delno urejene snov
 i ()\, Seminar (S)\nLetniki: \nIzvajalci: Polona Aupič\, Enej Caf\, Simon
  Čopar\, Benjamin Knez\, Žiga Kos\, Nika Kralj\, Matevž Marinčič\, Pe
 ter Marinko\, Urban Mur\, Miha Ravnik\, Peter Ropač\, Andreja Šarlah\, G
 regor Skačej\, Daniel Svenšek\, Jaka Zaplotnik\, Slobodan Žumer\nProsto
 r: F7
LOCATION:F7
ORGANIZER:Polona Aupič, Enej Caf, Simon Čopar, Benjamin Knez, Žiga Kos,
  Nika Kralj, Matevž Marinčič, Peter Marinko, Urban Mur, Miha Ravnik, Pe
 ter Ropač, Andreja Šarlah, Gregor Skačej, Daniel Svenšek, Jaka Zaplotn
 ik, Slobodan Žumer
RELATED-TO:fmf-AFLABS-URNIK:srecanje:9462
X-WR-TIMEZONE:Europe/Ljubljana
END:VEVENT
BEGIN:VEVENT
SUMMARY:Elektromagnetno polje (FIZ-3)\, Predavanja (P)
DTSTART;TZID=Europe/Ljubljana:20231004T110000
DTEND;TZID=Europe/Ljubljana:20231004T140000
DTSTAMP:20260419T204146Z
UID:fmf-AFLABS-URNIK:premaknjeno-srecanje:18283
ATTENDEE:3. letnik (Fizika, 1. stopnja)
CATEGORIES:Entry,Standard
COLOR:darkgreen
DESCRIPTION:Predmet: Elektromagnetno polje (FIZ-3)\, Predavanja (P)\nLetni
 ki: 3. letnik (Fizika\, 1. stopnja)\nIzvajalci: Miha Ravnik\nProstor: F2
LOCATION:F2
ORGANIZER:Miha Ravnik
RELATED-TO:fmf-AFLABS-URNIK:srecanje:9043
X-WR-TIMEZONE:Europe/Ljubljana
END:VEVENT
BEGIN:VEVENT
SUMMARY:Elektromagnetno polje (FIZ-3)\, Predavanja (P)
DTSTART;TZID=Europe/Ljubljana:20231011T110000
DTEND;TZID=Europe/Ljubljana:20231011T140000
DTSTAMP:20260419T204146Z
UID:fmf-AFLABS-URNIK:premaknjeno-srecanje:18284
ATTENDEE:3. letnik (Fizika, 1. stopnja)
CATEGORIES:Entry,Standard
COLOR:darkgreen
DESCRIPTION:Predmet: Elektromagnetno polje (FIZ-3)\, Predavanja (P)\nLetni
 ki: 3. letnik (Fizika\, 1. stopnja)\nIzvajalci: Miha Ravnik\nProstor: F2
LOCATION:F2
ORGANIZER:Miha Ravnik
RELATED-TO:fmf-AFLABS-URNIK:srecanje:9043
X-WR-TIMEZONE:Europe/Ljubljana
END:VEVENT
BEGIN:VEVENT
SUMMARY:Elektromagnetno polje (FIZ-3)\, Predavanja (P)
DTSTART;TZID=Europe/Ljubljana:20231018T110000
DTEND;TZID=Europe/Ljubljana:20231018T140000
DTSTAMP:20260419T204146Z
UID:fmf-AFLABS-URNIK:premaknjeno-srecanje:18285
ATTENDEE:3. letnik (Fizika, 1. stopnja)
CATEGORIES:Entry,Standard
COLOR:darkgreen
DESCRIPTION:Predmet: Elektromagnetno polje (FIZ-3)\, Predavanja (P)\nLetni
 ki: 3. letnik (Fizika\, 1. stopnja)\nIzvajalci: Miha Ravnik\nProstor: F2
LOCATION:F2
ORGANIZER:Miha Ravnik
RELATED-TO:fmf-AFLABS-URNIK:srecanje:9043
X-WR-TIMEZONE:Europe/Ljubljana
END:VEVENT
BEGIN:VEVENT
SUMMARY:Elektromagnetno polje (FIZ-3)\, Predavanja (P)
DTSTART;TZID=Europe/Ljubljana:20231025T110000
DTEND;TZID=Europe/Ljubljana:20231025T140000
DTSTAMP:20260419T204146Z
UID:fmf-AFLABS-URNIK:premaknjeno-srecanje:18286
ATTENDEE:3. letnik (Fizika, 1. stopnja)
CATEGORIES:Entry,Standard
COLOR:darkgreen
DESCRIPTION:Predmet: Elektromagnetno polje (FIZ-3)\, Predavanja (P)\nLetni
 ki: 3. letnik (Fizika\, 1. stopnja)\nIzvajalci: Miha Ravnik\nProstor: F2
LOCATION:F2
ORGANIZER:Miha Ravnik
RELATED-TO:fmf-AFLABS-URNIK:srecanje:9043
X-WR-TIMEZONE:Europe/Ljubljana
END:VEVENT
BEGIN:VEVENT
SUMMARY:Rezervacija
DTSTART;TZID=Europe/Ljubljana:20230905T080000
DTEND;TZID=Europe/Ljubljana:20230905T110000
DTSTAMP:20260419T204146Z
UID:fmf-AFLABS-URNIK:rezervacija:13134
CATEGORIES:Reservation
COLOR:royalblue
DESCRIPTION:Predmeti: \nLetniki: \nIzvajalci: Miha Ravnik\nProstori: F5
LOCATION:F5
ORGANIZER:Miha Ravnik
X-WR-TIMEZONE:Europe/Ljubljana
END:VEVENT
END:VCALENDAR
